BEGIN:VCALENDAR
VERSION:2.0
PRODID:-//Maryville College - ECPv6.15.20//NONSGML v1.0//EN
CALSCALE:GREGORIAN
METHOD:PUBLISH
X-WR-CALNAME:Maryville College
X-ORIGINAL-URL:https://www.maryvillecollege.edu
X-WR-CALDESC:Events for Maryville College
REFRESH-INTERVAL;VALUE=DURATION:PT1H
X-Robots-Tag:noindex
X-PUBLISHED-TTL:PT1H
BEGIN:VTIMEZONE
TZID:America/New_York
BEGIN:DAYLIGHT
TZOFFSETFROM:-0500
TZOFFSETTO:-0400
TZNAME:EDT
DTSTART:20250309T070000
END:DAYLIGHT
BEGIN:STANDARD
TZOFFSETFROM:-0400
TZOFFSETTO:-0500
TZNAME:EST
DTSTART:20251102T060000
END:STANDARD
BEGIN:DAYLIGHT
TZOFFSETFROM:-0500
TZOFFSETTO:-0400
TZNAME:EDT
DTSTART:20260308T070000
END:DAYLIGHT
BEGIN:STANDARD
TZOFFSETFROM:-0400
TZOFFSETTO:-0500
TZNAME:EST
DTSTART:20261101T060000
END:STANDARD
BEGIN:DAYLIGHT
TZOFFSETFROM:-0500
TZOFFSETTO:-0400
TZNAME:EDT
DTSTART:20270314T070000
END:DAYLIGHT
BEGIN:STANDARD
TZOFFSETFROM:-0400
TZOFFSETTO:-0500
TZNAME:EST
DTSTART:20271107T060000
END:STANDARD
END:VTIMEZONE
BEGIN:VEVENT
DTSTART;VALUE=DATE:20260401
DTEND;VALUE=DATE:20260501
DTSTAMP:20260423T021218
CREATED:20260216T150844Z
LAST-MODIFIED:20260318T163902Z
UID:10001802-1775001600-1777593599@www.maryvillecollege.edu
SUMMARY:KT Global
DESCRIPTION:Scholarship. Respect. Integrity. Service. \nThe worldwide MC alumni service event is back for its sixth year this April! \nSince 2021\, more than 7\,000 hours of service have been given to communities around the world through KT Global. This year\, as we celebrate the 150th anniversary of the Maryville College Alumni Association and deep alumni commitment to their alma mater\, we are calling on alumni to spend 150 minutes (or at least 2 hours) in service during April 2026. Help make this the best year yet for KT Global \nStart thinking now about how will you do good on the largest possible scale by serving in your own community. More information will be available soon on becoming a project leader\, joining a project planned in your area\, and/or submitting independent service hours. \nCheck out projects happening around the world and sign up!
URL:https://www.maryvillecollege.edu/event/kt-global/
LOCATION:TN
CATEGORIES:Alumni Office,Community Engagement
ATTACH;FMTTYPE=image/png:https://www.maryvillecollege.edu/wp-content/uploads/Alumni/KTGlobal/2026/KT-Global-2026-Cover.png
ORGANIZER;CN="Maryville College Alumni Association":MAILTO:alumni@maryvillecollege.edu
END:VEVENT
BEGIN:VEVENT
DTSTART;VALUE=DATE:20260416
DTEND;VALUE=DATE:20260501
DTSTAMP:20260423T021218
CREATED:20260416T194230Z
LAST-MODIFIED:20260416T195131Z
UID:10002012-1776297600-1777593599@www.maryvillecollege.edu
SUMMARY:Remote: KT Grocery Store
DESCRIPTION:Project Leader: Anita Baker Lerman ’82 \nMC Alum Anita Baker Lerman ’82\, has been helping to support the work of the Mama Solly Foundation after meeting Solly in Victoria Falls Zimbabwe two years ago. In addition to providing support for young girls to access education\, the Mama Solly Foundation helps local women villagers enhance their economic stability and inspires entrepreneurship. In 2025\, Anita supported Mama Solly as a KT Global project and Mama Solly used the funds to establish the KT Grocery Store in a remote village. Funds were used to buy refrigeration equipment and  stock for the store and to provide spaces for local women to sell their own products. \nThe financial support for the grocery store\, in an area where shops are very limited\, helps provide upkeep\, food and other resources\, for the local workers who in turn make and sell things that generate their own income.  Mama Solly’s approach is very much in keeping with Isaac Anderson’s – she is always working to do good on the largest possible scale. \nSupport the KT Grocery Store virtually by donating $20 or more through Venmo @KTgroceriesZim.  \nPlease send a screenshot to ktglobal@maryvillecollege.edu to confirm your participation. A full report will be shared with donors on funds raised and distributed.
URL:https://www.maryvillecollege.edu/event/remote-kt-grocery-store/
LOCATION:KT Grocery Store\, Victoria Falls\, Zimbabwe
CATEGORIES:KT Global
ATTACH;FMTTYPE=image/jpeg:https://www.maryvillecollege.edu/wp-content/uploads/Alumni/KTGlobal/2026/PHOTO-2026-03-11-15-40-35.jpg
END:VEVENT
BEGIN:VEVENT
DTSTART;TZID=America/New_York:20260423T000000
DTEND;TZID=America/New_York:20260425T235959
DTSTAMP:20260423T021218
CREATED:20250728T164609Z
LAST-MODIFIED:20260422T064520Z
UID:10000540-1776902400-1777161599@www.maryvillecollege.edu
SUMMARY:Women's Tennis - Collegiate Conference of the South
DESCRIPTION:Maryville College Women’s Tennis vs Agnes Scott
URL:https://www.maryvillecollege.edu/event/maryville-college-womens-tennis-vs-collegiate-conference-of-the-south/
LOCATION:TN
CATEGORIES:Athletic Events
END:VEVENT
BEGIN:VEVENT
DTSTART;TZID=America/New_York:20260423T000000
DTEND;TZID=America/New_York:20260425T235959
DTSTAMP:20260423T021218
CREATED:20250728T164625Z
LAST-MODIFIED:20260422T074521Z
UID:10000557-1776902400-1777161599@www.maryvillecollege.edu
SUMMARY:Men's Tennis - Collegiate Conference of the South
DESCRIPTION:Maryville College Men’s Tennis vs Belhaven – Quarterfinal
URL:https://www.maryvillecollege.edu/event/maryville-college-mens-tennis-vs-collegiate-conference-of-the-south/
LOCATION:TN
CATEGORIES:Athletic Events
END:VEVENT
BEGIN:VEVENT
DTSTART;TZID=America/New_York:20260423T133000
DTEND;TZID=America/New_York:20260423T163000
DTSTAMP:20260423T021218
CREATED:20260413T173018Z
LAST-MODIFIED:20260420T173016Z
UID:10002008-1776951000-1776961800@www.maryvillecollege.edu
SUMMARY:Maryville College Stunt vs Misericordia  - First Round
DESCRIPTION:Maryville College Stunt vs Misericordia  – First Round\nStreaming Video: https://www.flocollege.com/signup?redirect=/live/240253&utm_campaign=710189usacheerstuntna&utm_medium=partner&utm_source=multiple&utm_content=signup&contract_id=006px00000d83cyyaz&coverage_id=15306377&sp=\nTickets: https://events.hometownticketing.com/boxoffice/usacheer/L2VtYmVkL2V2ZW50LzQ3
URL:https://www.maryvillecollege.edu/event/maryville-college-stunt-vs-misericordia-first-round/
LOCATION:Nashville\, Tenn. | Lipscomb University
CATEGORIES:Athletic Events
END:VEVENT
BEGIN:VEVENT
DTSTART;TZID=America/New_York:20260423T140000
DTEND;TZID=America/New_York:20260423T143000
DTSTAMP:20260423T021218
CREATED:20260415T214630Z
LAST-MODIFIED:20260422T214521Z
UID:10002010-1776952800-1776954600@www.maryvillecollege.edu
SUMMARY:Staff and Faculty Woods Walk
DESCRIPTION:
URL:https://www.maryvillecollege.edu/event/staff-and-faculty-woods-walk-2/
LOCATION:TN
CATEGORIES:Mtn. Challenge / Fit.Green.Happy.
END:VEVENT
BEGIN:VEVENT
DTSTART;TZID=America/New_York:20260423T160000
DTEND;TZID=America/New_York:20260423T170000
DTSTAMP:20260423T021218
CREATED:20250930T141633Z
LAST-MODIFIED:20260421T171516Z
UID:10001346-1776960000-1776963600@www.maryvillecollege.edu
SUMMARY:Jam Session
DESCRIPTION:
URL:https://www.maryvillecollege.edu/event/jam-session-26/
LOCATION:Center for Campus Ministry (CCM)
END:VEVENT
BEGIN:VEVENT
DTSTART;TZID=America/New_York:20260423T163000
DTEND;TZID=America/New_York:20260423T183000
DTSTAMP:20260423T021218
CREATED:20250721T191217Z
LAST-MODIFIED:20260417T173015Z
UID:10000445-1776961800-1776969000@www.maryvillecollege.edu
SUMMARY:Welcome Table
DESCRIPTION:
URL:https://www.maryvillecollege.edu/event/welcome-table-80/
LOCATION:New Providence Presbyterian Church
CATEGORIES:Community Engagement
END:VEVENT
BEGIN:VEVENT
DTSTART;TZID=America/New_York:20260423T190000
DTEND;TZID=America/New_York:20260423T220000
DTSTAMP:20260423T021218
CREATED:20251215T184540Z
LAST-MODIFIED:20260422T081516Z
UID:10001630-1776970800-1776981600@www.maryvillecollege.edu
SUMMARY:Baseball
DESCRIPTION:Maryville College Baseball at LaGrange
URL:https://www.maryvillecollege.edu/event/maryville-college-baseball-at-lagrange/
LOCATION:LaGrange\, GA
CATEGORIES:Athletic Events
END:VEVENT
BEGIN:VEVENT
DTSTART;VALUE=DATE:20260423
DTEND;VALUE=DATE:20260426
DTSTAMP:20260423T021218
CREATED:20251111T130018Z
LAST-MODIFIED:20260421T150016Z
UID:10001414-1776974400-1777147199@www.maryvillecollege.edu
SUMMARY:Women's Golf SAA Conference Championship
DESCRIPTION:Maryville College Women’s Golf vs SAA Conference Championship – Greystone Golf Course
URL:https://www.maryvillecollege.edu/event/maryville-college-womens-golf-vs-sas-conference-championship-greystone-golf-course/
LOCATION:Dickson\, TN
CATEGORIES:Athletic Events
END:VEVENT
END:VCALENDAR