BEGIN:VCALENDAR
VERSION:2.0
PRODID:-//Maryville College - ECPv6.15.20//NONSGML v1.0//EN
CALSCALE:GREGORIAN
METHOD:PUBLISH
X-WR-CALNAME:Maryville College
X-ORIGINAL-URL:https://www.maryvillecollege.edu
X-WR-CALDESC:Events for Maryville College
REFRESH-INTERVAL;VALUE=DURATION:PT1H
X-Robots-Tag:noindex
X-PUBLISHED-TTL:PT1H
BEGIN:VTIMEZONE
TZID:America/New_York
BEGIN:DAYLIGHT
TZOFFSETFROM:-0500
TZOFFSETTO:-0400
TZNAME:EDT
DTSTART:20250309T070000
END:DAYLIGHT
BEGIN:STANDARD
TZOFFSETFROM:-0400
TZOFFSETTO:-0500
TZNAME:EST
DTSTART:20251102T060000
END:STANDARD
BEGIN:DAYLIGHT
TZOFFSETFROM:-0500
TZOFFSETTO:-0400
TZNAME:EDT
DTSTART:20260308T070000
END:DAYLIGHT
BEGIN:STANDARD
TZOFFSETFROM:-0400
TZOFFSETTO:-0500
TZNAME:EST
DTSTART:20261101T060000
END:STANDARD
BEGIN:DAYLIGHT
TZOFFSETFROM:-0500
TZOFFSETTO:-0400
TZNAME:EDT
DTSTART:20270314T070000
END:DAYLIGHT
BEGIN:STANDARD
TZOFFSETFROM:-0400
TZOFFSETTO:-0500
TZNAME:EST
DTSTART:20271107T060000
END:STANDARD
END:VTIMEZONE
BEGIN:VEVENT
DTSTART;VALUE=DATE:20261005
DTEND;VALUE=DATE:20261017
DTSTAMP:20260424T115612
CREATED:20251205T210049Z
LAST-MODIFIED:20260423T223055Z
UID:10001458-1791158400-1792195199@www.maryvillecollege.edu
SUMMARY:Advising for Spring\, May\, and Summer
DESCRIPTION:
URL:https://www.maryvillecollege.edu/event/advising-for-spring-may-and-summer-2/
CATEGORIES:Academic Events
END:VEVENT
BEGIN:VEVENT
DTSTART;TZID=America/New_York:20261016T163000
DTEND;TZID=America/New_York:20261016T193000
DTSTAMP:20260424T115612
CREATED:20260325T184527Z
LAST-MODIFIED:20260422T190023Z
UID:10001955-1792168200-1792179000@www.maryvillecollege.edu
SUMMARY:Maryville College Women's Cross Country vs Fighting Scots Invitational
DESCRIPTION:Maryville College Women’s Cross Country vs Fighting Scots Invitational
URL:https://www.maryvillecollege.edu/event/maryville-college-womens-cross-country-vs-fighting-scots-invitational/
CATEGORIES:Athletic Events
END:VEVENT
BEGIN:VEVENT
DTSTART;TZID=America/New_York:20261016T173000
DTEND;TZID=America/New_York:20261016T203000
DTSTAMP:20260424T115612
CREATED:20260325T193029Z
LAST-MODIFIED:20260422T200025Z
UID:10001963-1792171800-1792182600@www.maryvillecollege.edu
SUMMARY:Maryville College Men's Cross Country vs Fighting Scots Invitational
DESCRIPTION:Maryville College Men’s Cross Country vs Fighting Scots Invitational
URL:https://www.maryvillecollege.edu/event/maryville-college-mens-cross-country-vs-fighting-scots-invitational/
END:VEVENT
BEGIN:VEVENT
DTSTART;VALUE=DATE:20261016
DTEND;VALUE=DATE:20261018
DTSTAMP:20260424T115612
CREATED:20260203T004526Z
LAST-MODIFIED:20260421T020022Z
UID:10001769-1792180800-1792267199@www.maryvillecollege.edu
SUMMARY:Football
DESCRIPTION:Maryville College Football at Trinity (Texas)
URL:https://www.maryvillecollege.edu/event/maryville-college-football-at-trinity-texas/
LOCATION:San Antonio\, TX
CATEGORIES:Athletic Events
END:VEVENT
END:VCALENDAR