BEGIN:VCALENDAR
VERSION:2.0
PRODID:-//Maryville College - ECPv6.15.20//NONSGML v1.0//EN
CALSCALE:GREGORIAN
METHOD:PUBLISH
X-WR-CALNAME:Maryville College
X-ORIGINAL-URL:https://www.maryvillecollege.edu
X-WR-CALDESC:Events for Maryville College
REFRESH-INTERVAL;VALUE=DURATION:PT1H
X-Robots-Tag:noindex
X-PUBLISHED-TTL:PT1H
BEGIN:VTIMEZONE
TZID:America/New_York
BEGIN:DAYLIGHT
TZOFFSETFROM:-0500
TZOFFSETTO:-0400
TZNAME:EDT
DTSTART:20250309T070000
END:DAYLIGHT
BEGIN:STANDARD
TZOFFSETFROM:-0400
TZOFFSETTO:-0500
TZNAME:EST
DTSTART:20251102T060000
END:STANDARD
BEGIN:DAYLIGHT
TZOFFSETFROM:-0500
TZOFFSETTO:-0400
TZNAME:EDT
DTSTART:20260308T070000
END:DAYLIGHT
BEGIN:STANDARD
TZOFFSETFROM:-0400
TZOFFSETTO:-0500
TZNAME:EST
DTSTART:20261101T060000
END:STANDARD
BEGIN:DAYLIGHT
TZOFFSETFROM:-0500
TZOFFSETTO:-0400
TZNAME:EDT
DTSTART:20270314T070000
END:DAYLIGHT
BEGIN:STANDARD
TZOFFSETFROM:-0400
TZOFFSETTO:-0500
TZNAME:EST
DTSTART:20271107T060000
END:STANDARD
END:VTIMEZONE
BEGIN:VEVENT
DTSTART;VALUE=DATE:20261023
DTEND;VALUE=DATE:20261026
DTSTAMP:20260424T115543
CREATED:20260129T142538Z
LAST-MODIFIED:20260130T145639Z
UID:10001759-1792713600-1792972799@www.maryvillecollege.edu
SUMMARY:Homecoming
DESCRIPTION:Start making your plans for Homecoming on College Hill\, the most special time of year when we come together to celebrate our shared love of Maryville College\, the weekend of October 23-25\, 2026. \nDid you graduate in a year ending in 6 or 1? Happy reunion! Congratulations to all reunion classes and especially to the classes of 1966\, 1976\, and 1986 celebrating Milestone Reunions. We look forward to welcoming all alumni home\, where “orange and garnet float forever.” \nExperience the festivities of Homecoming 2025 all over again in stories\, photos\, and videos on the wrap up here.
URL:https://www.maryvillecollege.edu/event/homecoming-2026/
LOCATION:Maryville College
CATEGORIES:Alumni Office
ATTACH;FMTTYPE=image/jpeg:https://www.maryvillecollege.edu/wp-content/uploads/Alumni/Homecoming/2026/Homecoming-Parade-2025.jpg
END:VEVENT
BEGIN:VEVENT
DTSTART;TZID=America/New_York:20261024T130000
DTEND;TZID=America/New_York:20261024T160000
DTSTAMP:20260424T115543
CREATED:20260203T004526Z
LAST-MODIFIED:20260421T020023Z
UID:10001770-1792846800-1792857600@www.maryvillecollege.edu
SUMMARY:Football
DESCRIPTION:Maryville College Football vs Berry – Homecoming
URL:https://www.maryvillecollege.edu/event/maryville-college-football-vs-berry/
LOCATION:Honaker Field at Lloyd Thornton Stadium
CATEGORIES:Athletic Events
END:VEVENT
END:VCALENDAR