BEGIN:VCALENDAR
VERSION:2.0
PRODID:-//Maryville College - ECPv6.15.20//NONSGML v1.0//EN
CALSCALE:GREGORIAN
METHOD:PUBLISH
X-ORIGINAL-URL:https://www.maryvillecollege.edu
X-WR-CALDESC:Events for Maryville College
REFRESH-INTERVAL;VALUE=DURATION:PT1H
X-Robots-Tag:noindex
X-PUBLISHED-TTL:PT1H
BEGIN:VTIMEZONE
TZID:America/New_York
BEGIN:DAYLIGHT
TZOFFSETFROM:-0500
TZOFFSETTO:-0400
TZNAME:EDT
DTSTART:20250309T070000
END:DAYLIGHT
BEGIN:STANDARD
TZOFFSETFROM:-0400
TZOFFSETTO:-0500
TZNAME:EST
DTSTART:20251102T060000
END:STANDARD
BEGIN:DAYLIGHT
TZOFFSETFROM:-0500
TZOFFSETTO:-0400
TZNAME:EDT
DTSTART:20260308T070000
END:DAYLIGHT
BEGIN:STANDARD
TZOFFSETFROM:-0400
TZOFFSETTO:-0500
TZNAME:EST
DTSTART:20261101T060000
END:STANDARD
BEGIN:DAYLIGHT
TZOFFSETFROM:-0500
TZOFFSETTO:-0400
TZNAME:EDT
DTSTART:20270314T070000
END:DAYLIGHT
BEGIN:STANDARD
TZOFFSETFROM:-0400
TZOFFSETTO:-0500
TZNAME:EST
DTSTART:20271107T060000
END:STANDARD
END:VTIMEZONE
BEGIN:VEVENT
DTSTART;VALUE=DATE:20260429
DTEND;VALUE=DATE:20260430
DTSTAMP:20260421T213040
CREATED:20250526T211541Z
LAST-MODIFIED:20260421T223019Z
UID:10000065-1777420800-1777507199@www.maryvillecollege.edu
SUMMARY:Last Day of Classes
DESCRIPTION:
URL:https://www.maryvillecollege.edu/event/last-day-of-classes-2/
CATEGORIES:Academic Events
END:VEVENT
BEGIN:VEVENT
DTSTART;VALUE=DATE:20260429
DTEND;VALUE=DATE:20260430
DTSTAMP:20260421T213040
CREATED:20250816T113358Z
LAST-MODIFIED:20260421T223020Z
UID:10000762-1777420800-1777507199@www.maryvillecollege.edu
SUMMARY:Last Day for Students with Previous Session Incompletes to Submit Work
DESCRIPTION:
URL:https://www.maryvillecollege.edu/event/last-day-for-students-with-previous-session-incompletes-to-submit-work-2/
CATEGORIES:Academic Events
END:VEVENT
BEGIN:VEVENT
DTSTART;VALUE=DATE:20260430
DTEND;VALUE=DATE:20260501
DTSTAMP:20260421T213040
CREATED:20250526T211542Z
LAST-MODIFIED:20260421T223021Z
UID:10000066-1777507200-1777593599@www.maryvillecollege.edu
SUMMARY:Study Day
DESCRIPTION:
URL:https://www.maryvillecollege.edu/event/study-day-2/
CATEGORIES:Academic Events
END:VEVENT
BEGIN:VEVENT
DTSTART;VALUE=DATE:20260501
DTEND;VALUE=DATE:20260507
DTSTAMP:20260421T213040
CREATED:20250526T211543Z
LAST-MODIFIED:20260421T223021Z
UID:10000067-1777593600-1778111999@www.maryvillecollege.edu
SUMMARY:Final Exam Period
DESCRIPTION:
URL:https://www.maryvillecollege.edu/event/final-exams-begin-2/
CATEGORIES:Academic Events
END:VEVENT
BEGIN:VEVENT
DTSTART;VALUE=DATE:20260507
DTEND;VALUE=DATE:20260508
DTSTAMP:20260421T213040
CREATED:20250430T201006Z
LAST-MODIFIED:20260421T223023Z
UID:10000005-1778112000-1778198399@www.maryvillecollege.edu
SUMMARY:Final Grades Due for Graduating Seniors at 12:00 Noon
DESCRIPTION:
URL:https://www.maryvillecollege.edu/event/final-grades-due-at-noon/
CATEGORIES:Academic Events
END:VEVENT
BEGIN:VEVENT
DTSTART;VALUE=DATE:20260508
DTEND;VALUE=DATE:20260509
DTSTAMP:20260421T213040
CREATED:20250816T113402Z
LAST-MODIFIED:20260421T223022Z
UID:10000763-1778198400-1778284799@www.maryvillecollege.edu
SUMMARY:Grades due for Previous Session Incompletes
DESCRIPTION:
URL:https://www.maryvillecollege.edu/event/grades-due-for-previous-session-incompletes-2/
CATEGORIES:Academic Events
END:VEVENT
BEGIN:VEVENT
DTSTART;TZID=America/New_York:20260508T150000
DTEND;TZID=America/New_York:20260508T160000
DTSTAMP:20260421T213040
CREATED:20250430T201006Z
LAST-MODIFIED:20260421T223023Z
UID:10000006-1778252400-1778256000@www.maryvillecollege.edu
SUMMARY:Baccalaureate
DESCRIPTION:
URL:https://www.maryvillecollege.edu/event/baccalaureate/
LOCATION:CCA – Ronald and Lynda Nutt Theatre\, 502 E Lamar Alexander Pkwy\, Maryville\, TN\, United States
CATEGORIES:Academic Events
GEO:35.754957;-83.965409
X-APPLE-STRUCTURED-LOCATION;VALUE=URI;X-ADDRESS=CCA – Ronald and Lynda Nutt Theatre 502 E Lamar Alexander Pkwy Maryville TN United States;X-APPLE-RADIUS=500;X-TITLE=502 E Lamar Alexander Pkwy:geo:-83.965409,35.754957
END:VEVENT
BEGIN:VEVENT
DTSTART;TZID=America/New_York:20260509T100000
DTEND;TZID=America/New_York:20260509T120000
DTSTAMP:20260421T213040
CREATED:20250430T201006Z
LAST-MODIFIED:20260421T223024Z
UID:10000007-1778320800-1778328000@www.maryvillecollege.edu
SUMMARY:Commencement
DESCRIPTION:
URL:https://www.maryvillecollege.edu/event/commencement/
CATEGORIES:Academic Events
END:VEVENT
BEGIN:VEVENT
DTSTART;VALUE=DATE:20260511
DTEND;VALUE=DATE:20260512
DTSTAMP:20260421T213040
CREATED:20250816T113405Z
LAST-MODIFIED:20260421T223032Z
UID:10000764-1778457600-1778543999@www.maryvillecollege.edu
SUMMARY:May Term Classes Begin
DESCRIPTION:
URL:https://www.maryvillecollege.edu/event/may-term-classes/
CATEGORIES:Academic Events
END:VEVENT
BEGIN:VEVENT
DTSTART;VALUE=DATE:20260511
DTEND;VALUE=DATE:20260512
DTSTAMP:20260421T213040
CREATED:20251024T003038Z
LAST-MODIFIED:20260421T223025Z
UID:10001381-1778457600-1778543999@www.maryvillecollege.edu
SUMMARY:Final Grades Due for Returning Students at 12:00 Noon
DESCRIPTION:
URL:https://www.maryvillecollege.edu/event/final-grades-due-for-returning-students-at-1200-noon/
CATEGORIES:Academic Events
END:VEVENT
BEGIN:VEVENT
DTSTART;VALUE=DATE:20260512
DTEND;VALUE=DATE:20260513
DTSTAMP:20260421T213040
CREATED:20250526T211546Z
LAST-MODIFIED:20260421T223025Z
UID:10000068-1778544000-1778630399@www.maryvillecollege.edu
SUMMARY:Last day of Course Drop/Add Period
DESCRIPTION:
URL:https://www.maryvillecollege.edu/event/last-day-of-course-drop-add-period-2/
CATEGORIES:Academic Events
END:VEVENT
BEGIN:VEVENT
DTSTART;VALUE=DATE:20260521
DTEND;VALUE=DATE:20260522
DTSTAMP:20260421T213040
CREATED:20250526T211547Z
LAST-MODIFIED:20260421T223032Z
UID:10000069-1779321600-1779407999@www.maryvillecollege.edu
SUMMARY:Last Day to Withdraw from a Course with a "W"
DESCRIPTION:
URL:https://www.maryvillecollege.edu/event/last-day-to-withdraw-from-a-course-with-a-w/
CATEGORIES:Academic Events
END:VEVENT
BEGIN:VEVENT
DTSTART;VALUE=DATE:20260525
DTEND;VALUE=DATE:20260526
DTSTAMP:20260421T213040
CREATED:20250526T211547Z
LAST-MODIFIED:20260421T223032Z
UID:10000070-1779667200-1779753599@www.maryvillecollege.edu
SUMMARY:Memorial Day Holiday - College Closed
DESCRIPTION:
URL:https://www.maryvillecollege.edu/event/memorial-day-holiday-college-closed-2/
CATEGORIES:Academic Events
END:VEVENT
BEGIN:VEVENT
DTSTART;VALUE=DATE:20260529
DTEND;VALUE=DATE:20260530
DTSTAMP:20260421T213040
CREATED:20260204T144616Z
LAST-MODIFIED:20260204T144616Z
UID:10001793-1780012800-1780099199@www.maryvillecollege.edu
SUMMARY:May Term Classes End
DESCRIPTION:
URL:https://www.maryvillecollege.edu/event/may-term-classes-end-2/
CATEGORIES:Academic Events
END:VEVENT
BEGIN:VEVENT
DTSTART;VALUE=DATE:20260601
DTEND;VALUE=DATE:20260602
DTSTAMP:20260421T213040
CREATED:20251204T210042Z
LAST-MODIFIED:20260421T223032Z
UID:10001443-1780272000-1780358399@www.maryvillecollege.edu
SUMMARY:Summer Session 3 Starts
DESCRIPTION:
URL:https://www.maryvillecollege.edu/event/summer-session-3-starts/
CATEGORIES:Academic Events
END:VEVENT
BEGIN:VEVENT
DTSTART;VALUE=DATE:20260601
DTEND;VALUE=DATE:20260602
DTSTAMP:20260421T213040
CREATED:20251204T210043Z
LAST-MODIFIED:20260421T223032Z
UID:10001444-1780272000-1780358399@www.maryvillecollege.edu
SUMMARY:Summer Session 1 Starts
DESCRIPTION:
URL:https://www.maryvillecollege.edu/event/summer-session-1-starts/
CATEGORIES:Academic Events
END:VEVENT
BEGIN:VEVENT
DTSTART;VALUE=DATE:20260706
DTEND;VALUE=DATE:20260707
DTSTAMP:20260421T213040
CREATED:20251204T210043Z
LAST-MODIFIED:20260421T223032Z
UID:10001445-1783296000-1783382399@www.maryvillecollege.edu
SUMMARY:Summer Session 1 Ends
DESCRIPTION:
URL:https://www.maryvillecollege.edu/event/summer-session-1-ends/
CATEGORIES:Academic Events
END:VEVENT
BEGIN:VEVENT
DTSTART;VALUE=DATE:20260707
DTEND;VALUE=DATE:20260708
DTSTAMP:20260421T213040
CREATED:20251204T210044Z
LAST-MODIFIED:20260421T223032Z
UID:10001446-1783382400-1783468799@www.maryvillecollege.edu
SUMMARY:Summer Session 2 Begins
DESCRIPTION:
URL:https://www.maryvillecollege.edu/event/summer-session-2-begins/
CATEGORIES:Academic Events
END:VEVENT
BEGIN:VEVENT
DTSTART;VALUE=DATE:20260810
DTEND;VALUE=DATE:20260811
DTSTAMP:20260421T213040
CREATED:20251204T210045Z
LAST-MODIFIED:20260421T223032Z
UID:10001447-1786320000-1786406399@www.maryvillecollege.edu
SUMMARY:Summer Session 2 Ends
DESCRIPTION:
URL:https://www.maryvillecollege.edu/event/summer-session-2-ends/
CATEGORIES:Academic Events
END:VEVENT
BEGIN:VEVENT
DTSTART;VALUE=DATE:20260810
DTEND;VALUE=DATE:20260811
DTSTAMP:20260421T213040
CREATED:20251205T210041Z
LAST-MODIFIED:20260421T223032Z
UID:10001449-1786320000-1786406399@www.maryvillecollege.edu
SUMMARY:New Scots Orientation Begins
DESCRIPTION:
URL:https://www.maryvillecollege.edu/event/new-scots-orientation-begins/
CATEGORIES:Academic Events
END:VEVENT
BEGIN:VEVENT
DTSTART;VALUE=DATE:20260817
DTEND;VALUE=DATE:20260818
DTSTAMP:20260421T213040
CREATED:20251204T210046Z
LAST-MODIFIED:20260421T223045Z
UID:10001448-1786924800-1787011199@www.maryvillecollege.edu
SUMMARY:Summer Session 3 Ends
DESCRIPTION:
URL:https://www.maryvillecollege.edu/event/summer-session-3-ends/
CATEGORIES:Academic Events
END:VEVENT
BEGIN:VEVENT
DTSTART;VALUE=DATE:20260817
DTEND;VALUE=DATE:20260818
DTSTAMP:20260421T213040
CREATED:20251205T210043Z
LAST-MODIFIED:20260421T223045Z
UID:10001450-1786924800-1787011199@www.maryvillecollege.edu
SUMMARY:Enrollment Confirmation
DESCRIPTION:
URL:https://www.maryvillecollege.edu/event/enrollment-confirmation-3/
CATEGORIES:Academic Events
END:VEVENT
BEGIN:VEVENT
DTSTART;VALUE=DATE:20260818
DTEND;VALUE=DATE:20260819
DTSTAMP:20260421T213040
CREATED:20251205T210044Z
LAST-MODIFIED:20260421T223032Z
UID:10001451-1787011200-1787097599@www.maryvillecollege.edu
SUMMARY:Convocation
DESCRIPTION:
URL:https://www.maryvillecollege.edu/event/convocation/
CATEGORIES:Academic Events
END:VEVENT
BEGIN:VEVENT
DTSTART;VALUE=DATE:20260818
DTEND;VALUE=DATE:20260819
DTSTAMP:20260421T213040
CREATED:20251205T210045Z
LAST-MODIFIED:20260421T223045Z
UID:10001452-1787011200-1787097599@www.maryvillecollege.edu
SUMMARY:New Scots Orientation Ends
DESCRIPTION:
URL:https://www.maryvillecollege.edu/event/new-scots-orientation-ends-2/
CATEGORIES:Academic Events
END:VEVENT
BEGIN:VEVENT
DTSTART;VALUE=DATE:20260819
DTEND;VALUE=DATE:20260820
DTSTAMP:20260421T213040
CREATED:20251205T210045Z
LAST-MODIFIED:20260421T223045Z
UID:10001453-1787097600-1787183999@www.maryvillecollege.edu
SUMMARY:Classes Begin
DESCRIPTION:
URL:https://www.maryvillecollege.edu/event/classes-begin/
CATEGORIES:Academic Events
END:VEVENT
BEGIN:VEVENT
DTSTART;VALUE=DATE:20260825
DTEND;VALUE=DATE:20260826
DTSTAMP:20260421T213040
CREATED:20251205T210046Z
LAST-MODIFIED:20260421T223045Z
UID:10001454-1787616000-1787702399@www.maryvillecollege.edu
SUMMARY:Last Day of Add/Drop for Fall Semester
DESCRIPTION:
URL:https://www.maryvillecollege.edu/event/last-day-of-add-drop-for-fall-semester/
CATEGORIES:Academic Events
END:VEVENT
BEGIN:VEVENT
DTSTART;VALUE=DATE:20260825
DTEND;VALUE=DATE:20260826
DTSTAMP:20260421T213040
CREATED:20251205T210047Z
LAST-MODIFIED:20260421T223045Z
UID:10001455-1787616000-1787702399@www.maryvillecollege.edu
SUMMARY:Last Day to Drop a Course without a "W" on Record for Fall
DESCRIPTION:
URL:https://www.maryvillecollege.edu/event/last-day-to-drop-a-course-without-a-w-on-record-for-fall-2/
CATEGORIES:Academic Events
END:VEVENT
BEGIN:VEVENT
DTSTART;VALUE=DATE:20260907
DTEND;VALUE=DATE:20260908
DTSTAMP:20260421T213040
CREATED:20251205T210047Z
LAST-MODIFIED:20260421T223045Z
UID:10001456-1788739200-1788825599@www.maryvillecollege.edu
SUMMARY:Labor Day Holiday - College Closed
DESCRIPTION:
URL:https://www.maryvillecollege.edu/event/labor-day-holiday-college-closed-2/
CATEGORIES:Academic Events
END:VEVENT
BEGIN:VEVENT
DTSTART;VALUE=DATE:20261001
DTEND;VALUE=DATE:20261005
DTSTAMP:20260421T213040
CREATED:20251205T210048Z
LAST-MODIFIED:20260421T223059Z
UID:10001457-1790812800-1791158399@www.maryvillecollege.edu
SUMMARY:Fall Break (no dining service)
DESCRIPTION:
URL:https://www.maryvillecollege.edu/event/fall-break-no-dining-service/
CATEGORIES:Academic Events
END:VEVENT
BEGIN:VEVENT
DTSTART;VALUE=DATE:20261005
DTEND;VALUE=DATE:20261010
DTSTAMP:20260421T213040
CREATED:20251205T210049Z
LAST-MODIFIED:20260421T223059Z
UID:10001459-1791158400-1791590399@www.maryvillecollege.edu
SUMMARY:Advising and Registration for Midterm Classes
DESCRIPTION:
URL:https://www.maryvillecollege.edu/event/advising-and-registration-for-midterm-classes-2/
CATEGORIES:Academic Events
END:VEVENT
END:VCALENDAR