BEGIN:VCALENDAR
VERSION:2.0
PRODID:-//Maryville College - ECPv6.15.20//NONSGML v1.0//EN
CALSCALE:GREGORIAN
METHOD:PUBLISH
X-WR-CALNAME:Maryville College
X-ORIGINAL-URL:https://www.maryvillecollege.edu
X-WR-CALDESC:Events for Maryville College
REFRESH-INTERVAL;VALUE=DURATION:PT1H
X-Robots-Tag:noindex
X-PUBLISHED-TTL:PT1H
BEGIN:VTIMEZONE
TZID:America/New_York
BEGIN:DAYLIGHT
TZOFFSETFROM:-0500
TZOFFSETTO:-0400
TZNAME:EDT
DTSTART:20240310T070000
END:DAYLIGHT
BEGIN:STANDARD
TZOFFSETFROM:-0400
TZOFFSETTO:-0500
TZNAME:EST
DTSTART:20241103T060000
END:STANDARD
BEGIN:DAYLIGHT
TZOFFSETFROM:-0500
TZOFFSETTO:-0400
TZNAME:EDT
DTSTART:20250309T070000
END:DAYLIGHT
BEGIN:STANDARD
TZOFFSETFROM:-0400
TZOFFSETTO:-0500
TZNAME:EST
DTSTART:20251102T060000
END:STANDARD
BEGIN:DAYLIGHT
TZOFFSETFROM:-0500
TZOFFSETTO:-0400
TZNAME:EDT
DTSTART:20260308T070000
END:DAYLIGHT
BEGIN:STANDARD
TZOFFSETFROM:-0400
TZOFFSETTO:-0500
TZNAME:EST
DTSTART:20261101T060000
END:STANDARD
BEGIN:DAYLIGHT
TZOFFSETFROM:-0500
TZOFFSETTO:-0400
TZNAME:EDT
DTSTART:20270314T070000
END:DAYLIGHT
BEGIN:STANDARD
TZOFFSETFROM:-0400
TZOFFSETTO:-0500
TZNAME:EST
DTSTART:20271107T060000
END:STANDARD
END:VTIMEZONE
BEGIN:VEVENT
DTSTART;TZID=America/New_York:20260411T083000
DTEND;TZID=America/New_York:20260411T130000
DTSTAMP:20260421T224111
CREATED:20251028T153218Z
LAST-MODIFIED:20260313T143710Z
UID:10001384-1775896200-1775912400@www.maryvillecollege.edu
SUMMARY:KT Weekend
DESCRIPTION:The annual KT Weekend event brings together students and alumni in service of our campus! Projects could include painting\, light carpentry\, trash pickup & invasive species removal in the College Woods\, and other similar improvements to make a positive environmental impact. \nAfter all the work is done\, the day will end with an afternoon celebration and lunch around 12:00pm. \nSign up!
URL:https://www.maryvillecollege.edu/event/kt-weekend-2026/
LOCATION:McArthur Pavilion\, 502 E. Lamar Alexander Pkwy\, Maryville\, TN\, 37804\, United States
CATEGORIES:Activities, Clubs, and Orgs,Alumni Office,Community Engagement,KT Global
ATTACH;FMTTYPE=image/jpeg:https://www.maryvillecollege.edu/wp-content/uploads/Alumni/Events/2025/KT-Weekend.jpg
END:VEVENT
BEGIN:VEVENT
DTSTART;TZID=America/New_York:20251113T123000
DTEND;TZID=America/New_York:20251113T130000
DTSTAMP:20260421T224111
CREATED:20250828T181520Z
LAST-MODIFIED:20251112T221516Z
UID:10001126-1763037000-1763038800@www.maryvillecollege.edu
SUMMARY:SGA
DESCRIPTION:Open weekly for all students and employees
URL:https://www.maryvillecollege.edu/event/sga-11/
LOCATION:Thaw Hall 216
CATEGORIES:Activities, Clubs, and Orgs
END:VEVENT
BEGIN:VEVENT
DTSTART;TZID=America/New_York:20251106T123000
DTEND;TZID=America/New_York:20251106T130000
DTSTAMP:20260421T224111
CREATED:20250828T181520Z
LAST-MODIFIED:20251105T221518Z
UID:10001125-1762432200-1762434000@www.maryvillecollege.edu
SUMMARY:SGA
DESCRIPTION:Open weekly for all students and employees
URL:https://www.maryvillecollege.edu/event/sga-10/
LOCATION:Thaw Hall 216
CATEGORIES:Activities, Clubs, and Orgs
END:VEVENT
BEGIN:VEVENT
DTSTART;TZID=America/New_York:20251030T123000
DTEND;TZID=America/New_York:20251030T130000
DTSTAMP:20260421T224111
CREATED:20250828T181519Z
LAST-MODIFIED:20251029T213019Z
UID:10001124-1761827400-1761829200@www.maryvillecollege.edu
SUMMARY:SGA
DESCRIPTION:Open weekly for all students and employees
URL:https://www.maryvillecollege.edu/event/sga-9/
LOCATION:Thaw Hall 216
CATEGORIES:Activities, Clubs, and Orgs
END:VEVENT
BEGIN:VEVENT
DTSTART;TZID=America/New_York:20251023T123000
DTEND;TZID=America/New_York:20251023T130000
DTSTAMP:20260421T224111
CREATED:20250828T181519Z
LAST-MODIFIED:20251022T213014Z
UID:10001123-1761222600-1761224400@www.maryvillecollege.edu
SUMMARY:SGA
DESCRIPTION:Open weekly for all students and employees
URL:https://www.maryvillecollege.edu/event/sga-8/
LOCATION:Thaw Hall 216
CATEGORIES:Activities, Clubs, and Orgs
END:VEVENT
BEGIN:VEVENT
DTSTART;TZID=America/New_York:20251016T123000
DTEND;TZID=America/New_York:20251016T130000
DTSTAMP:20260421T224111
CREATED:20250828T181518Z
LAST-MODIFIED:20251015T211514Z
UID:10001122-1760617800-1760619600@www.maryvillecollege.edu
SUMMARY:SGA
DESCRIPTION:Open weekly for all students and employees
URL:https://www.maryvillecollege.edu/event/sga-7/
LOCATION:Thaw Hall 216
CATEGORIES:Activities, Clubs, and Orgs
END:VEVENT
BEGIN:VEVENT
DTSTART;TZID=America/New_York:20251010T100000
DTEND;TZID=America/New_York:20251010T120000
DTSTAMP:20260421T224111
CREATED:20251002T202236Z
LAST-MODIFIED:20251004T104929Z
UID:10001352-1760090400-1760097600@www.maryvillecollege.edu
SUMMARY:Connection Plate Luncheon
DESCRIPTION:Presented by the MC Alumni Association Community and Belonging Taskforce in partnership with the MC Center for Community and Belonging. \nAlumni and students are invited to this new Homecoming tradition celebrating the vibrant community of Maryville College. Expect conversations\, fellowship\, and connections across generations. We are pleased to welcome the 2025 Alumni Citation winner\, Jonika Dhima Hoomes ’02\, as the keynote speaker for this inaugural event. Jonika’s topics will include “Zig Zag is the Path” about finding success in nonlinear career paths and the role of liberal arts in her tech career at Google. \nGlean insights from this notable alumna to apply in your future or current career! \nLunch served at 11:00 am – come late if needed! \nRSVP is preferred but not required. \nThanks to the generosity of Taskforce members for enabling this event to be free for all attendees.
URL:https://www.maryvillecollege.edu/event/connection-plate-luncheon/
LOCATION:MC Downtown Center\, 118 East Church Ave\, Maryville\, TN\, 37804\, United States
CATEGORIES:Activities, Clubs, and Orgs,Alumni Office,Community & Belonging,Homecoming
ATTACH;FMTTYPE=image/png:https://www.maryvillecollege.edu/wp-content/uploads/Alumni/Homecoming/2025/Connection-Plate-lunch.png
END:VEVENT
BEGIN:VEVENT
DTSTART;TZID=America/New_York:20251009T123000
DTEND;TZID=America/New_York:20251009T130000
DTSTAMP:20260421T224111
CREATED:20250828T181517Z
LAST-MODIFIED:20251008T201517Z
UID:10001121-1760013000-1760014800@www.maryvillecollege.edu
SUMMARY:SGA
DESCRIPTION:Open weekly for all students and employees
URL:https://www.maryvillecollege.edu/event/sga-6/
LOCATION:Thaw Hall 216
CATEGORIES:Activities, Clubs, and Orgs
END:VEVENT
BEGIN:VEVENT
DTSTART;TZID=America/New_York:20251002T123000
DTEND;TZID=America/New_York:20251002T130000
DTSTAMP:20260421T224111
CREATED:20250828T181517Z
LAST-MODIFIED:20251001T194513Z
UID:10001120-1759408200-1759410000@www.maryvillecollege.edu
SUMMARY:SGA
DESCRIPTION:Open weekly for all students and employees
URL:https://www.maryvillecollege.edu/event/sga-5/
LOCATION:Thaw Hall 216
CATEGORIES:Activities, Clubs, and Orgs
END:VEVENT
BEGIN:VEVENT
DTSTART;TZID=America/New_York:20250927T200000
DTEND;TZID=America/New_York:20250928T020000
DTSTAMP:20260421T224111
CREATED:20250909T220025Z
LAST-MODIFIED:20251124T202257Z
UID:10001240-1759003200-1759024800@www.maryvillecollege.edu
SUMMARY:Rocky Horror Picture Show Shadowcast
DESCRIPTION:Let’s do the Time Warp again! Join us for our annual kickoff to the spooky season with APO’s “The Rocky Horror Picture Show” shadow cast! Our talented cast of MC actors will recreate the cult classic movie in celebration of its 50th anniversary! Performances will be at 8 p.m. and midnight on Saturday\, Sept. 27\, in Lambert Recital Hall. Doors will open half an hour before the show starts. Performances are general admission with limited seating\, so first come\, first serve! \nThis event is open to all MC students\, faculty\, staff\, and 18+ community members. In the event of reaching seating capacity\, priority will be given to MC students. You may be asked to show an MC ID or state issued ID at the door. Feel free to dress up in your best Transylvanian attire!!!
URL:https://www.maryvillecollege.edu/event/alpha-psi-omega-rocky-horror-picture-show-shadowcast/
LOCATION:CCA – Harold and Jean Lambert Recital Hall\, 502 E Lamar Alexander Pkwy\, Maryville\, TN\, United States
CATEGORIES:Activities, Clubs, and Orgs,Clayton Center for the Arts,Community Event,Maryville College Event
ATTACH;FMTTYPE=image/jpeg:https://www.maryvillecollege.edu/wp-content/uploads/Calendar/RHPS-d5FNzP.jpg
GEO:35.754957;-83.965409
X-APPLE-STRUCTURED-LOCATION;VALUE=URI;X-ADDRESS=CCA – Harold and Jean Lambert Recital Hall 502 E Lamar Alexander Pkwy Maryville TN United States;X-APPLE-RADIUS=500;X-TITLE=502 E Lamar Alexander Pkwy:geo:-83.965409,35.754957
END:VEVENT
BEGIN:VEVENT
DTSTART;TZID=America/New_York:20250925T123000
DTEND;TZID=America/New_York:20250925T130000
DTSTAMP:20260421T224111
CREATED:20250828T181516Z
LAST-MODIFIED:20250924T190013Z
UID:10001119-1758803400-1758805200@www.maryvillecollege.edu
SUMMARY:SGA
DESCRIPTION:Open weekly for all students and employees
URL:https://www.maryvillecollege.edu/event/sga-4/
LOCATION:Thaw Hall 216
CATEGORIES:Activities, Clubs, and Orgs
END:VEVENT
BEGIN:VEVENT
DTSTART;TZID=America/New_York:20250918T123000
DTEND;TZID=America/New_York:20250918T130000
DTSTAMP:20260421T224111
CREATED:20250828T181515Z
LAST-MODIFIED:20250917T190014Z
UID:10001118-1758198600-1758200400@www.maryvillecollege.edu
SUMMARY:SGA
DESCRIPTION:Open weekly for all students and employees
URL:https://www.maryvillecollege.edu/event/sga-3/
LOCATION:Thaw Hall 216
CATEGORIES:Activities, Clubs, and Orgs
END:VEVENT
BEGIN:VEVENT
DTSTART;TZID=America/New_York:20250911T123000
DTEND;TZID=America/New_York:20250911T130000
DTSTAMP:20260421T224111
CREATED:20250828T181515Z
LAST-MODIFIED:20250910T184523Z
UID:10001117-1757593800-1757595600@www.maryvillecollege.edu
SUMMARY:SGA
DESCRIPTION:Open weekly for all students and employees
URL:https://www.maryvillecollege.edu/event/sga-2/
LOCATION:Thaw Hall 216
CATEGORIES:Activities, Clubs, and Orgs
END:VEVENT
BEGIN:VEVENT
DTSTART;TZID=America/New_York:20250904T123000
DTEND;TZID=America/New_York:20250904T130000
DTSTAMP:20260421T224111
CREATED:20250828T181514Z
LAST-MODIFIED:20250903T181515Z
UID:10001116-1756989000-1756990800@www.maryvillecollege.edu
SUMMARY:SGA
DESCRIPTION:Open weekly for all students and employees
URL:https://www.maryvillecollege.edu/event/sga/
LOCATION:Thaw Hall 216
CATEGORIES:Activities, Clubs, and Orgs
END:VEVENT
END:VCALENDAR