BEGIN:VCALENDAR
VERSION:2.0
PRODID:-//Maryville College - ECPv6.15.20//NONSGML v1.0//EN
CALSCALE:GREGORIAN
METHOD:PUBLISH
X-WR-CALNAME:Maryville College
X-ORIGINAL-URL:https://www.maryvillecollege.edu
X-WR-CALDESC:Events for Maryville College
REFRESH-INTERVAL;VALUE=DURATION:PT1H
X-Robots-Tag:noindex
X-PUBLISHED-TTL:PT1H
BEGIN:VTIMEZONE
TZID:America/New_York
BEGIN:DAYLIGHT
TZOFFSETFROM:-0500
TZOFFSETTO:-0400
TZNAME:EDT
DTSTART:20240310T070000
END:DAYLIGHT
BEGIN:STANDARD
TZOFFSETFROM:-0400
TZOFFSETTO:-0500
TZNAME:EST
DTSTART:20241103T060000
END:STANDARD
BEGIN:DAYLIGHT
TZOFFSETFROM:-0500
TZOFFSETTO:-0400
TZNAME:EDT
DTSTART:20250309T070000
END:DAYLIGHT
BEGIN:STANDARD
TZOFFSETFROM:-0400
TZOFFSETTO:-0500
TZNAME:EST
DTSTART:20251102T060000
END:STANDARD
BEGIN:DAYLIGHT
TZOFFSETFROM:-0500
TZOFFSETTO:-0400
TZNAME:EDT
DTSTART:20260308T070000
END:DAYLIGHT
BEGIN:STANDARD
TZOFFSETFROM:-0400
TZOFFSETTO:-0500
TZNAME:EST
DTSTART:20261101T060000
END:STANDARD
END:VTIMEZONE
BEGIN:VEVENT
DTSTART;TZID=America/New_York:20251208T163000
DTEND;TZID=America/New_York:20251208T190000
DTSTAMP:20260422T074726
CREATED:20251028T150028Z
LAST-MODIFIED:20251028T151413Z
UID:10001382-1765211400-1765220400@www.maryvillecollege.edu
SUMMARY:BCAA Christmas Open House
DESCRIPTION:Join Santa\, Mrs. Claus\, and the Maryville College Blount County Alumni Association for the annual favorite event\, the Christmas Open House on Monday\, December 8\, from 4:30 – 7pm. \nDrop in any time to enjoy cozy food\, drinks\, carols\, and holiday crafts. And\, of course\, Santa will be ready to hear the Christmas wishes of kids of all ages. \nThis year\, donations will be collected of new fleece blankets to gift to students staying on campus over the winter break. Please consider adding to their cozy MC holiday!
URL:https://www.maryvillecollege.edu/event/bcaa-christmas-open-house/
LOCATION:Chilhowee Club\, 223 Clarion Ave.\, Maryville\, 37803\, United States
CATEGORIES:Alumni Office
ATTACH;FMTTYPE=image/jpeg:https://www.maryvillecollege.edu/wp-content/uploads/Alumni/Events/2025/BCAA-event.jpg
ORGANIZER;CN="Blount County Alumni Association":MAILTO:blountcountyalumni@maryvillecollege.edu
END:VEVENT
END:VCALENDAR