BEGIN:VCALENDAR
VERSION:2.0
PRODID:-//Maryville College - ECPv6.15.20//NONSGML v1.0//EN
CALSCALE:GREGORIAN
METHOD:PUBLISH
X-ORIGINAL-URL:https://www.maryvillecollege.edu
X-WR-CALDESC:Events for Maryville College
REFRESH-INTERVAL;VALUE=DURATION:PT1H
X-Robots-Tag:noindex
X-PUBLISHED-TTL:PT1H
BEGIN:VTIMEZONE
TZID:America/New_York
BEGIN:DAYLIGHT
TZOFFSETFROM:-0500
TZOFFSETTO:-0400
TZNAME:EDT
DTSTART:20250309T070000
END:DAYLIGHT
BEGIN:STANDARD
TZOFFSETFROM:-0400
TZOFFSETTO:-0500
TZNAME:EST
DTSTART:20251102T060000
END:STANDARD
BEGIN:DAYLIGHT
TZOFFSETFROM:-0500
TZOFFSETTO:-0400
TZNAME:EDT
DTSTART:20260308T070000
END:DAYLIGHT
BEGIN:STANDARD
TZOFFSETFROM:-0400
TZOFFSETTO:-0500
TZNAME:EST
DTSTART:20261101T060000
END:STANDARD
BEGIN:DAYLIGHT
TZOFFSETFROM:-0500
TZOFFSETTO:-0400
TZNAME:EDT
DTSTART:20270314T070000
END:DAYLIGHT
BEGIN:STANDARD
TZOFFSETFROM:-0400
TZOFFSETTO:-0500
TZNAME:EST
DTSTART:20271107T060000
END:STANDARD
END:VTIMEZONE
BEGIN:VEVENT
DTSTART;TZID=America/New_York:20260124T150000
DTEND;TZID=America/New_York:20260124T180000
DTSTAMP:20260422T061603
CREATED:20251216T181946Z
LAST-MODIFIED:20260123T165836Z
UID:10001635-1769266800-1769277600@www.maryvillecollege.edu
SUMMARY:MC Night at the Knoxville Ice Bears
DESCRIPTION:TIME CHANGE: The puck will now drop at 3:00 pm due to inclement weather. Ticket holders look for information from Ticketmaster.  \nJoin the Knox Scots chapter (and fellow Scots in the region) at MC Night at the Knoxville Ice Bears on Saturday\, January 31.  \nThe puck drops at 7:30 pm for this sell-out game featuring the annual wiener dog races in the first intermission. Alumni and members of the MC community receive a special ticket price and a free Ice Bears hat at the game!  \nPurchase your group rate tickets in our section now for $20.50 each (including all fees).
URL:https://www.maryvillecollege.edu/event/knoxville-ice-bears/
LOCATION:Knoxville Civic Coliseum\, 500 Howard Baker Jr. Ave\, Knoxville\, 37915\, United States
CATEGORIES:Alumni Office
ATTACH;FMTTYPE=image/png:https://www.maryvillecollege.edu/wp-content/uploads/Alumni/Events/2026/MC-Alumni-Night.png
END:VEVENT
END:VCALENDAR