BEGIN:VCALENDAR
VERSION:2.0
PRODID:-//Maryville College - ECPv6.15.20//NONSGML v1.0//EN
CALSCALE:GREGORIAN
METHOD:PUBLISH
X-WR-CALNAME:Maryville College
X-ORIGINAL-URL:https://www.maryvillecollege.edu
X-WR-CALDESC:Events for Maryville College
REFRESH-INTERVAL;VALUE=DURATION:PT1H
X-Robots-Tag:noindex
X-PUBLISHED-TTL:PT1H
BEGIN:VTIMEZONE
TZID:America/New_York
BEGIN:DAYLIGHT
TZOFFSETFROM:-0500
TZOFFSETTO:-0400
TZNAME:EDT
DTSTART:20240310T070000
END:DAYLIGHT
BEGIN:STANDARD
TZOFFSETFROM:-0400
TZOFFSETTO:-0500
TZNAME:EST
DTSTART:20241103T060000
END:STANDARD
BEGIN:DAYLIGHT
TZOFFSETFROM:-0500
TZOFFSETTO:-0400
TZNAME:EDT
DTSTART:20250309T070000
END:DAYLIGHT
BEGIN:STANDARD
TZOFFSETFROM:-0400
TZOFFSETTO:-0500
TZNAME:EST
DTSTART:20251102T060000
END:STANDARD
BEGIN:DAYLIGHT
TZOFFSETFROM:-0500
TZOFFSETTO:-0400
TZNAME:EDT
DTSTART:20260308T070000
END:DAYLIGHT
BEGIN:STANDARD
TZOFFSETFROM:-0400
TZOFFSETTO:-0500
TZNAME:EST
DTSTART:20261101T060000
END:STANDARD
END:VTIMEZONE
BEGIN:VEVENT
DTSTART;VALUE=DATE:20251204
DTEND;VALUE=DATE:20251206
DTSTAMP:20260424T051056
CREATED:20251119T180017Z
LAST-MODIFIED:20251126T180017Z
UID:10001417-1764806400-1764979199@www.maryvillecollege.edu
SUMMARY:Men's Track & Field
DESCRIPTION:Maryville College Men’s Indoor & Outdoor Track & Field vs Oiler Opener
URL:https://www.maryvillecollege.edu/event/maryville-college-mens-indoor-outdoor-track-field-vs-oiler-opener/
CATEGORIES:Athletic Events
END:VEVENT
BEGIN:VEVENT
DTSTART;TZID=America/New_York:20251205T170000
DTEND;TZID=America/New_York:20251205T190000
DTSTAMP:20260424T051056
CREATED:20251202T131517Z
LAST-MODIFIED:20260116T205130Z
UID:10001435-1764954000-1764961200@www.maryvillecollege.edu
SUMMARY:Men's Basketball
DESCRIPTION:Maryville College Men’s Basketball vs East Texas Baptist Vs. Covenant – Renasant Bank Employee Appreciation Week\nStreaming Video: https://team1sports.com/maryvillescots/?B=3170694\nTickets: https://fan.hudl.com/tickets/VGlja2V0ZWRFdmVudDY4ZWZlMTMwMzg0NGMyMTk4NDk1MDczZQ==
URL:https://www.maryvillecollege.edu/event/maryville-college-mens-basketball-vs-east-texas-baptist-vs-covenant-renasant-bank-employee-appreciation-week/
LOCATION:Cooper Athletic Center
CATEGORIES:Athletic Events
END:VEVENT
BEGIN:VEVENT
DTSTART;TZID=America/New_York:20251205T190000
DTEND;TZID=America/New_York:20251205T210000
DTSTAMP:20260424T051056
CREATED:20250721T162240Z
LAST-MODIFIED:20260109T221627Z
UID:10000150-1764961200-1764968400@www.maryvillecollege.edu
SUMMARY:Men's Basketball
DESCRIPTION:Maryville College Men’s Basketball vs Johnson & Wales (N.C.) – Renasant Bank Employee Appreciation Week\nStreaming Video: https://team1sports.com/maryvillescots/\nTickets: https://fan.hudl.com/tickets/VGlja2V0ZWRFdmVudDY4ZWZlMTMwMzg0NGMyMTk4NDk1MDczZQ==
URL:https://www.maryvillecollege.edu/event/maryville-college-mens-basketball-vs-johnson-wales-n-c/
LOCATION:Cooper Athletic Center
CATEGORIES:Athletic Events
END:VEVENT
BEGIN:VEVENT
DTSTART;VALUE=DATE:20251205
DTEND;VALUE=DATE:20251207
DTSTAMP:20260424T051056
CREATED:20250721T164148Z
LAST-MODIFIED:20251204T163448Z
UID:10000228-1764961200-1765047599@www.maryvillecollege.edu
SUMMARY:Men's Track & Field
DESCRIPTION:Maryville College Men’s Indoor & Outdoor Track & Field at Mount St. Joseph Preview
URL:https://www.maryvillecollege.edu/event/maryville-college-mens-indoor-outdoor-track-field-at-sewanee-lid-lifter/
LOCATION:Sewanee\, TN
CATEGORIES:Athletic Events
END:VEVENT
BEGIN:VEVENT
DTSTART;VALUE=DATE:20251206
DTEND;VALUE=DATE:20251207
DTSTAMP:20260424T051056
CREATED:20250827T163015Z
LAST-MODIFIED:20251203T174515Z
UID:10001043-1764979200-1765065599@www.maryvillecollege.edu
SUMMARY:Women's Track & Field
DESCRIPTION:Maryville College Women’s Indoor & Outdoor Track & Field at Mount St. Joseph Preview
URL:https://www.maryvillecollege.edu/event/maryville-college-womens-indoor-outdoor-track-field-at-sewanee-lid-lifter/
LOCATION:Sewanee\, TN
CATEGORIES:Athletic Events
END:VEVENT
BEGIN:VEVENT
DTSTART;TZID=America/New_York:20251206T140000
DTEND;TZID=America/New_York:20251206T160000
DTSTAMP:20260424T051056
CREATED:20250721T162241Z
LAST-MODIFIED:20260217T164514Z
UID:10000151-1765029600-1765036800@www.maryvillecollege.edu
SUMMARY:Men's Basketball
DESCRIPTION:Maryville College Men’s Basketball vs East Texas Baptist – Renasant Bank Employee Appreciation Week & John Sevier Elementary Day\nStreaming Video: https://team1sports.com/maryvillescots/\nTickets: https://fan.hudl.com/tickets/VGlja2V0ZWRFdmVudDY4ZWZlMTMwYjM1OGUwYTkwZGYxY2JiNw==
URL:https://www.maryvillecollege.edu/event/maryville-college-mens-basketball-vs-east-texas-baptist/
LOCATION:Cooper Athletic Center
CATEGORIES:Athletic Events
END:VEVENT
BEGIN:VEVENT
DTSTART;TZID=America/New_York:20251206T160000
DTEND;TZID=America/New_York:20251206T180000
DTSTAMP:20260424T051056
CREATED:20251202T131519Z
LAST-MODIFIED:20260217T164514Z
UID:10001436-1765036800-1765044000@www.maryvillecollege.edu
SUMMARY:Men's Basketball
DESCRIPTION:Maryville College Men’s Basketball vs Covenant Vs. Johnson & Wales (NC) – Renasant Bank Employee Appreciation Week & John Sevier Elementary Day\nStreaming Video: https://team1sports.com/maryvillescots/?B=3170680\nTickets: https://fan.hudl.com/tickets/VGlja2V0ZWRFdmVudDY4ZWZlMTMwYjM1OGUwYTkwZGYxY2JiNw==
URL:https://www.maryvillecollege.edu/event/maryville-college-mens-basketball-vs-covenant-vs-johnson-wales-nc-renasant-bank-employee-appreciation-week-john-sevier-elementary-day/
LOCATION:Cooper Athletic Center
CATEGORIES:Athletic Events
END:VEVENT
BEGIN:VEVENT
DTSTART;TZID=America/New_York:20251213T140000
DTEND;TZID=America/New_York:20251213T160000
DTSTAMP:20260424T051056
CREATED:20250721T162327Z
LAST-MODIFIED:20251208T180028Z
UID:10000170-1765634400-1765641600@www.maryvillecollege.edu
SUMMARY:Women's Basketball
DESCRIPTION:Maryville College Women’s Basketball vs Wesleyan – Grounds Keepers\, Maintenance Workers\, and Pearsons Employees Appreciation Night Streaming Video: https://team1sports.com/maryvillescots/ Tickets: https://fan.hudl.com/tickets/VGlja2V0ZWRFdmVudDY4ZWZlMWE5ZDAyZGM4Yjk5NjE0ZmU4Mw==
URL:https://www.maryvillecollege.edu/event/maryville-college-womens-basketball-vs-wesleyan/
LOCATION:Cooper Athletic Center
CATEGORIES:Athletic Events
END:VEVENT
BEGIN:VEVENT
DTSTART;TZID=America/New_York:20251214T140000
DTEND;TZID=America/New_York:20251214T160000
DTSTAMP:20260424T051056
CREATED:20250721T162328Z
LAST-MODIFIED:20251124T203331Z
UID:10000171-1765720800-1765728000@www.maryvillecollege.edu
SUMMARY:Women's Basketball
DESCRIPTION:Maryville College Women’s Basketball vs Spalding\nStreaming Video: https://team1sports.com/maryvillescots/\nTickets: https://fan.hudl.com/tickets/VGlja2V0ZWRFdmVudDY4ZWZlMWE5ZDAyZGM4Yjk5NjE0ZmU4Ng==
URL:https://www.maryvillecollege.edu/event/maryville-college-womens-basketball-vs-spalding/
LOCATION:Cooper Athletic Center
CATEGORIES:Athletic Events
END:VEVENT
BEGIN:VEVENT
DTSTART;TZID=America/New_York:20251216T170000
DTEND;TZID=America/New_York:20251216T190000
DTSTAMP:20260424T051056
CREATED:20250721T162328Z
LAST-MODIFIED:20251215T180119Z
UID:10000172-1765904400-1765911600@www.maryvillecollege.edu
SUMMARY:Women's Basketball
DESCRIPTION:Maryville College Women’s Basketball vs Centre – Faculty Night\nStreaming Video: https://team1sports.com/maryvillescots/\nTickets: https://fan.hudl.com/tickets/VGlja2V0ZWRFdmVudDY4ZWZlMWE5ZDAyZGM4Yjk5NjE0ZmU4NQ==
URL:https://www.maryvillecollege.edu/event/maryville-college-womens-basketball-vs-centre/
LOCATION:Cooper Athletic Center
CATEGORIES:Athletic Events
END:VEVENT
BEGIN:VEVENT
DTSTART;TZID=America/New_York:20251219T170000
DTEND;TZID=America/New_York:20251219T190000
DTSTAMP:20260424T051056
CREATED:20250721T162330Z
LAST-MODIFIED:20251215T180119Z
UID:10000173-1766163600-1766170800@www.maryvillecollege.edu
SUMMARY:Women's Basketball
DESCRIPTION:Maryville College Women’s Basketball vs Catholic
URL:https://www.maryvillecollege.edu/event/maryville-college-womens-basketball-vs-catholic/
CATEGORIES:Athletic Events
END:VEVENT
BEGIN:VEVENT
DTSTART;VALUE=DATE:20251220
DTEND;VALUE=DATE:20251221
DTSTAMP:20260424T051056
CREATED:20250721T162330Z
LAST-MODIFIED:20251215T180119Z
UID:10000174-1766188800-1766275199@www.maryvillecollege.edu
SUMMARY:Women's Basketball
DESCRIPTION:Maryville College Women’s Basketball vs Christopher Newport/York (Pa.)
URL:https://www.maryvillecollege.edu/event/maryville-college-womens-basketball-vs-tbd/
CATEGORIES:Athletic Events
END:VEVENT
BEGIN:VEVENT
DTSTART;TZID=America/New_York:20251229T140000
DTEND;TZID=America/New_York:20251229T160000
DTSTAMP:20260424T051056
CREATED:20250721T162243Z
LAST-MODIFIED:20251223T133013Z
UID:10000153-1767016800-1767024000@www.maryvillecollege.edu
SUMMARY:Men's Basketball
DESCRIPTION:Maryville College Men’s Basketball vs Hampden-Sydney\nStreaming Video: https://flosports.link/3ImCTyy
URL:https://www.maryvillecollege.edu/event/maryville-college-mens-basketball-vs-hampden-sydney/
LOCATION:Atlanta\, GA
CATEGORIES:Athletic Events
END:VEVENT
BEGIN:VEVENT
DTSTART;TZID=America/New_York:20251230T140000
DTEND;TZID=America/New_York:20251230T160000
DTSTAMP:20260424T051056
CREATED:20250721T162241Z
LAST-MODIFIED:20260109T221627Z
UID:10000152-1767103200-1767110400@www.maryvillecollege.edu
SUMMARY:Men's Basketball
DESCRIPTION:Maryville College Men’s Basketball vs Bates\nStreaming Video: https://go.flocollege.com/partner/uaa?utm_medium=partner&utm_source=multiple&utm_content=landingpage&contract_id=006px000005mtotyaw
URL:https://www.maryvillecollege.edu/event/maryville-college-mens-basketball-at-emory/
LOCATION:Atlanta\, GA
CATEGORIES:Athletic Events
END:VEVENT
END:VCALENDAR