BEGIN:VCALENDAR
VERSION:2.0
PRODID:-//Maryville College - ECPv6.15.20//NONSGML v1.0//EN
CALSCALE:GREGORIAN
METHOD:PUBLISH
X-ORIGINAL-URL:https://www.maryvillecollege.edu
X-WR-CALDESC:Events for Maryville College
REFRESH-INTERVAL;VALUE=DURATION:PT1H
X-Robots-Tag:noindex
X-PUBLISHED-TTL:PT1H
BEGIN:VTIMEZONE
TZID:America/New_York
BEGIN:DAYLIGHT
TZOFFSETFROM:-0500
TZOFFSETTO:-0400
TZNAME:EDT
DTSTART:20250309T070000
END:DAYLIGHT
BEGIN:STANDARD
TZOFFSETFROM:-0400
TZOFFSETTO:-0500
TZNAME:EST
DTSTART:20251102T060000
END:STANDARD
BEGIN:DAYLIGHT
TZOFFSETFROM:-0500
TZOFFSETTO:-0400
TZNAME:EDT
DTSTART:20260308T070000
END:DAYLIGHT
BEGIN:STANDARD
TZOFFSETFROM:-0400
TZOFFSETTO:-0500
TZNAME:EST
DTSTART:20261101T060000
END:STANDARD
BEGIN:DAYLIGHT
TZOFFSETFROM:-0500
TZOFFSETTO:-0400
TZNAME:EDT
DTSTART:20270314T070000
END:DAYLIGHT
BEGIN:STANDARD
TZOFFSETFROM:-0400
TZOFFSETTO:-0500
TZNAME:EST
DTSTART:20271107T060000
END:STANDARD
END:VTIMEZONE
BEGIN:VEVENT
DTSTART;VALUE=DATE:20260123
DTEND;VALUE=DATE:20260125
DTSTAMP:20260422T012313
CREATED:20250721T164150Z
LAST-MODIFIED:20260126T212421Z
UID:10000229-1769194800-1769281199@www.maryvillecollege.edu
SUMMARY:CANCELLED Men's Track & Field
DESCRIPTION:CANCELLED Maryville College Men’s Indoor & Outdoor Track & Field at Centre Indoor Showcase
URL:https://www.maryvillecollege.edu/event/maryville-college-mens-indoor-outdoor-track-field-at-centre-indoor-showcase/
LOCATION:Danville\, KY
CATEGORIES:Athletic Events
END:VEVENT
BEGIN:VEVENT
DTSTART;VALUE=DATE:20260123
DTEND;VALUE=DATE:20260125
DTSTAMP:20260422T012313
CREATED:20250903T163018Z
LAST-MODIFIED:20260121T180029Z
UID:10001135-1769194800-1769281199@www.maryvillecollege.edu
SUMMARY:Women's Track & Field
DESCRIPTION:CANCELLED Maryville College Women’s Indoor & Outdoor Track & Field at Centre Indoor Showcase
URL:https://www.maryvillecollege.edu/event/maryville-college-womens-indoor-outdoor-track-field-at-centre-indoor-showcase/
LOCATION:Danville\, KY
CATEGORIES:Athletic Events
END:VEVENT
BEGIN:VEVENT
DTSTART;TZID=America/New_York:20260124T140000
DTEND;TZID=America/New_York:20260124T160000
DTSTAMP:20260422T012313
CREATED:20250721T162337Z
LAST-MODIFIED:20260213T154538Z
UID:10000183-1769263200-1769270400@www.maryvillecollege.edu
SUMMARY:Women's Basketball
DESCRIPTION:Maryville College Women’s Basketball vs Huntingdon – Military and First Responder Night\nStreaming Video: https://team1sports.com/maryvillescots/\nTickets: https://fan.hudl.com/tickets/VGlja2V0ZWRFdmVudDY4ZWZlMWE5YjUzYTAwMDgxOTcyZTg0MA==
URL:https://www.maryvillecollege.edu/event/maryville-college-womens-basketball-vs-huntingdon/
LOCATION:Cooper Athletic Center
CATEGORIES:Athletic Events
END:VEVENT
BEGIN:VEVENT
DTSTART;TZID=America/New_York:20260124T160000
DTEND;TZID=America/New_York:20260124T180000
DTSTAMP:20260422T012313
CREATED:20250721T162249Z
LAST-MODIFIED:20260213T151610Z
UID:10000160-1769270400-1769277600@www.maryvillecollege.edu
SUMMARY:Men's Basketball
DESCRIPTION:Maryville College Men’s Basketball vs Huntingdon\nStreaming Video: https://team1sports.com/maryvillescots/\nTickets: https://fan.hudl.com/tickets/VGlja2V0ZWRFdmVudDY4ZWZlMTMwMzg0NGMyMTk4NDk1MDczYg==
URL:https://www.maryvillecollege.edu/event/maryville-college-mens-basketball-vs-huntingdon/
LOCATION:Cooper Athletic Center
CATEGORIES:Athletic Events
END:VEVENT
END:VCALENDAR