BEGIN:VCALENDAR
VERSION:2.0
PRODID:-//Maryville College - ECPv6.15.20//NONSGML v1.0//EN
CALSCALE:GREGORIAN
METHOD:PUBLISH
X-WR-CALNAME:Maryville College
X-ORIGINAL-URL:https://www.maryvillecollege.edu
X-WR-CALDESC:Events for Maryville College
REFRESH-INTERVAL;VALUE=DURATION:PT1H
X-Robots-Tag:noindex
X-PUBLISHED-TTL:PT1H
BEGIN:VTIMEZONE
TZID:America/New_York
BEGIN:DAYLIGHT
TZOFFSETFROM:-0500
TZOFFSETTO:-0400
TZNAME:EDT
DTSTART:20250309T070000
END:DAYLIGHT
BEGIN:STANDARD
TZOFFSETFROM:-0400
TZOFFSETTO:-0500
TZNAME:EST
DTSTART:20251102T060000
END:STANDARD
BEGIN:DAYLIGHT
TZOFFSETFROM:-0500
TZOFFSETTO:-0400
TZNAME:EDT
DTSTART:20260308T070000
END:DAYLIGHT
BEGIN:STANDARD
TZOFFSETFROM:-0400
TZOFFSETTO:-0500
TZNAME:EST
DTSTART:20261101T060000
END:STANDARD
BEGIN:DAYLIGHT
TZOFFSETFROM:-0500
TZOFFSETTO:-0400
TZNAME:EDT
DTSTART:20270314T070000
END:DAYLIGHT
BEGIN:STANDARD
TZOFFSETFROM:-0400
TZOFFSETTO:-0500
TZNAME:EST
DTSTART:20271107T060000
END:STANDARD
END:VTIMEZONE
BEGIN:VEVENT
DTSTART;VALUE=DATE:20260129
DTEND;VALUE=DATE:20260131
DTSTAMP:20260421T221547
CREATED:20250721T164150Z
LAST-MODIFIED:20260128T181518Z
UID:10000230-1769713200-1769799599@www.maryvillecollege.edu
SUMMARY:Maryville College Men's Indoor & Outdoor Track & Field at Tyron Banked Invitational
DESCRIPTION:Maryville College Men’s Indoor & Outdoor Track & Field at Tyron Banked Invitational
URL:https://www.maryvillecollege.edu/event/maryville-college-mens-indoor-outdoor-track-field-at-tiger-indoor-meet/
LOCATION:Sewanee\, TN
CATEGORIES:Athletic Events
END:VEVENT
BEGIN:VEVENT
DTSTART;VALUE=DATE:20260129
DTEND;VALUE=DATE:20260131
DTSTAMP:20260421T221547
CREATED:20250903T163018Z
LAST-MODIFIED:20260128T180034Z
UID:10001136-1769713200-1769799599@www.maryvillecollege.edu
SUMMARY:Women's Track & Field
DESCRIPTION:Maryville College Women’s Indoor & Outdoor Track & Field at Tyron Banked Invitational
URL:https://www.maryvillecollege.edu/event/maryville-college-womens-indoor-outdoor-track-field-at-tiger-indoor-meet/
LOCATION:Sewanee\, TN
CATEGORIES:Athletic Events
END:VEVENT
BEGIN:VEVENT
DTSTART;TZID=America/New_York:20260130T160000
DTEND;TZID=America/New_York:20260130T200000
DTSTAMP:20260421T221547
CREATED:20251217T180724Z
LAST-MODIFIED:20260129T190636Z
UID:10001643-1769788800-1769803200@www.maryvillecollege.edu
SUMMARY:Alumni Day at MC Basketball
DESCRIPTION:DATE AND TIME CHANGE!  \nDue to the threat of severe weather over the weekend\, the date and times for the games has changed. The games are moved to Friday\, January 30 at these times: \nFriday\, January 30 \n\nWomen’s Basketball vs. LaGrange: 4:00pm\nMen’s Basketball vs. LaGrange: 6:00pm\n\nPlease RSVP here for your free Alumni ticket (valid for entry to both games). Additional tickets are $10/each and must be purchased here in advance of the game. Children 3 and younger are free. \nSee the announcement on the Maryville College Athletics website.
URL:https://www.maryvillecollege.edu/event/basketball-alumni-day/
LOCATION:Cooper Athletic Center
CATEGORIES:Alumni Office,Athletic Events
ATTACH;FMTTYPE=image/png:https://www.maryvillecollege.edu/wp-content/uploads/Alumni/Events/2026/alumni-BB-night-flyer_crop.png
END:VEVENT
END:VCALENDAR