BEGIN:VCALENDAR
VERSION:2.0
PRODID:-//Maryville College - ECPv6.15.20//NONSGML v1.0//EN
CALSCALE:GREGORIAN
METHOD:PUBLISH
X-ORIGINAL-URL:https://www.maryvillecollege.edu
X-WR-CALDESC:Events for Maryville College
REFRESH-INTERVAL;VALUE=DURATION:PT1H
X-Robots-Tag:noindex
X-PUBLISHED-TTL:PT1H
BEGIN:VTIMEZONE
TZID:America/New_York
BEGIN:DAYLIGHT
TZOFFSETFROM:-0500
TZOFFSETTO:-0400
TZNAME:EDT
DTSTART:20250309T070000
END:DAYLIGHT
BEGIN:STANDARD
TZOFFSETFROM:-0400
TZOFFSETTO:-0500
TZNAME:EST
DTSTART:20251102T060000
END:STANDARD
BEGIN:DAYLIGHT
TZOFFSETFROM:-0500
TZOFFSETTO:-0400
TZNAME:EDT
DTSTART:20260308T070000
END:DAYLIGHT
BEGIN:STANDARD
TZOFFSETFROM:-0400
TZOFFSETTO:-0500
TZNAME:EST
DTSTART:20261101T060000
END:STANDARD
BEGIN:DAYLIGHT
TZOFFSETFROM:-0500
TZOFFSETTO:-0400
TZNAME:EDT
DTSTART:20270314T070000
END:DAYLIGHT
BEGIN:STANDARD
TZOFFSETFROM:-0400
TZOFFSETTO:-0500
TZNAME:EST
DTSTART:20271107T060000
END:STANDARD
END:VTIMEZONE
BEGIN:VEVENT
DTSTART;VALUE=DATE:20260213
DTEND;VALUE=DATE:20260215
DTSTAMP:20260421T191050
CREATED:20250721T164151Z
LAST-MODIFIED:20260211T183031Z
UID:10000231-1770940800-1771113599@www.maryvillecollege.edu
SUMMARY:Men's Track & Field
DESCRIPTION:Maryville College Men’s Indoor & Outdoor Track & Field at Centre Multi
URL:https://www.maryvillecollege.edu/event/maryville-college-mens-indoor-outdoor-track-field-at-centre-multi/
LOCATION:Danville\, KY
CATEGORIES:Athletic Events
END:VEVENT
BEGIN:VEVENT
DTSTART;VALUE=DATE:20260213
DTEND;VALUE=DATE:20260215
DTSTAMP:20260421T191050
CREATED:20250903T163019Z
LAST-MODIFIED:20260211T180017Z
UID:10001137-1770940800-1771113599@www.maryvillecollege.edu
SUMMARY:Women's Track & Field
DESCRIPTION:Maryville College Women’s Indoor & Outdoor Track & Field at Centre Multi
URL:https://www.maryvillecollege.edu/event/maryville-college-womens-indoor-outdoor-track-field-at-centre-multi/
LOCATION:Danville\, KY
CATEGORIES:Athletic Events
END:VEVENT
BEGIN:VEVENT
DTSTART;TZID=America/New_York:20260213T160000
DTEND;TZID=America/New_York:20260213T180000
DTSTAMP:20260421T191050
CREATED:20250728T164552Z
LAST-MODIFIED:20260213T191541Z
UID:10000522-1770998400-1771005600@www.maryvillecollege.edu
SUMMARY:Women's Tennis
DESCRIPTION:Maryville College Women’s Tennis vs Ohio Wesleyan – Western Athletic Club
URL:https://www.maryvillecollege.edu/event/maryville-college-womens-tennis-at-ohio-wesleyan-university/
LOCATION:Delaware\, OH
CATEGORIES:Athletic Events
END:VEVENT
BEGIN:VEVENT
DTSTART;TZID=America/New_York:20260213T160000
DTEND;TZID=America/New_York:20260213T180000
DTSTAMP:20260421T191050
CREATED:20250728T164612Z
LAST-MODIFIED:20260213T193015Z
UID:10000541-1770998400-1771005600@www.maryvillecollege.edu
SUMMARY:Men's Tennis
DESCRIPTION:Maryville College Men’s Tennis vs Ohio Wesleyan – Western Athletic Club
URL:https://www.maryvillecollege.edu/event/maryville-college-mens-tennis-at-ohio-wesleyan-university/
LOCATION:Delaware\, OH
CATEGORIES:Athletic Events
END:VEVENT
BEGIN:VEVENT
DTSTART;TZID=America/New_York:20260213T180000
DTEND;TZID=America/New_York:20260213T200000
DTSTAMP:20260421T191050
CREATED:20260202T163949Z
LAST-MODIFIED:20260209T164520Z
UID:10001762-1771005600-1771012800@www.maryvillecollege.edu
SUMMARY:Stunt Team
DESCRIPTION:Maryville College Stunt vs George Fox\nStreaming Video: https://www.miaasportsnetwork.com/smcbelles/
URL:https://www.maryvillecollege.edu/event/maryville-college-stunt-vs-george-fox/
LOCATION:South Bend\, IN
CATEGORIES:Athletic Events
END:VEVENT
BEGIN:VEVENT
DTSTART;TZID=America/New_York:20260213T180000
DTEND;TZID=America/New_York:20260213T210000
DTSTAMP:20260421T191050
CREATED:20260203T174516Z
LAST-MODIFIED:20260219T153318Z
UID:10001773-1771005600-1771016400@www.maryvillecollege.edu
SUMMARY:Baseball
DESCRIPTION:Maryville College Baseball vs Hampden-Sydney  – Joe Ferebee Classic\nStreaming Video: https://fan.hudl.com/usa/nc/misenheimer/organization/94311/pfeiffer-university
URL:https://www.maryvillecollege.edu/event/maryville-college-baseball-vs-hampden-sydney-joe-ferebee-classic/
LOCATION:Misenheimer\, NC
CATEGORIES:Athletic Events
END:VEVENT
BEGIN:VEVENT
DTSTART;TZID=America/New_York:20260213T200000
DTEND;TZID=America/New_York:20260213T220000
DTSTAMP:20260421T191050
CREATED:20260202T163948Z
LAST-MODIFIED:20260209T164519Z
UID:10001761-1771012800-1771020000@www.maryvillecollege.edu
SUMMARY:Stunt Team
DESCRIPTION:Maryville College Stunt vs Buena Vista\nStreaming Video: https://www.miaasportsnetwork.com/smcbelles/
URL:https://www.maryvillecollege.edu/event/maryville-college-stunt-vs-buena-vista/
LOCATION:South Bend\, IN
CATEGORIES:Athletic Events
END:VEVENT
END:VCALENDAR