BEGIN:VCALENDAR
VERSION:2.0
PRODID:-//Maryville College - ECPv6.15.20//NONSGML v1.0//EN
CALSCALE:GREGORIAN
METHOD:PUBLISH
X-WR-CALNAME:Maryville College
X-ORIGINAL-URL:https://www.maryvillecollege.edu
X-WR-CALDESC:Events for Maryville College
REFRESH-INTERVAL;VALUE=DURATION:PT1H
X-Robots-Tag:noindex
X-PUBLISHED-TTL:PT1H
BEGIN:VTIMEZONE
TZID:America/New_York
BEGIN:DAYLIGHT
TZOFFSETFROM:-0500
TZOFFSETTO:-0400
TZNAME:EDT
DTSTART:20250309T070000
END:DAYLIGHT
BEGIN:STANDARD
TZOFFSETFROM:-0400
TZOFFSETTO:-0500
TZNAME:EST
DTSTART:20251102T060000
END:STANDARD
BEGIN:DAYLIGHT
TZOFFSETFROM:-0500
TZOFFSETTO:-0400
TZNAME:EDT
DTSTART:20260308T070000
END:DAYLIGHT
BEGIN:STANDARD
TZOFFSETFROM:-0400
TZOFFSETTO:-0500
TZNAME:EST
DTSTART:20261101T060000
END:STANDARD
BEGIN:DAYLIGHT
TZOFFSETFROM:-0500
TZOFFSETTO:-0400
TZNAME:EDT
DTSTART:20270314T070000
END:DAYLIGHT
BEGIN:STANDARD
TZOFFSETFROM:-0400
TZOFFSETTO:-0500
TZNAME:EST
DTSTART:20271107T060000
END:STANDARD
END:VTIMEZONE
BEGIN:VEVENT
DTSTART;TZID=America/New_York:20260304T140000
DTEND;TZID=America/New_York:20260304T170000
DTSTAMP:20260421T173529
CREATED:20251215T184521Z
LAST-MODIFIED:20260304T210019Z
UID:10001605-1772632800-1772643600@www.maryvillecollege.edu
SUMMARY:Baseball
DESCRIPTION:Maryville College Baseball vs Lynchburg\nStreaming Video: https://team1sports.com/maryvillescots/?B=3637719
URL:https://www.maryvillecollege.edu/event/maryville-college-baseball-vs-lynchburg/
LOCATION:MC Baseball Field “Scotland Yard”
CATEGORIES:Athletic Events
END:VEVENT
BEGIN:VEVENT
DTSTART;TZID=America/New_York:20260304T150000
DTEND;TZID=America/New_York:20260304T170000
DTSTAMP:20260421T173529
CREATED:20251215T180055Z
LAST-MODIFIED:20260303T220022Z
UID:10001568-1772636400-1772643600@www.maryvillecollege.edu
SUMMARY:Softball
DESCRIPTION:Maryville College Softball vs Brevard\nStreaming Video: https://team1sports.com/maryvillescots/?B=3649480
URL:https://www.maryvillecollege.edu/event/maryville-college-softball-vs-brevard/
LOCATION:MC Softball Complex
CATEGORIES:Athletic Events
END:VEVENT
BEGIN:VEVENT
DTSTART;TZID=America/New_York:20260304T170000
DTEND;TZID=America/New_York:20260304T190000
DTSTAMP:20260421T173529
CREATED:20251215T180055Z
LAST-MODIFIED:20260304T220054Z
UID:10001569-1772643600-1772650800@www.maryvillecollege.edu
SUMMARY:Softball
DESCRIPTION:Maryville College Softball vs Brevard\nStreaming Video: https://team1sports.com/maryvillescots/?B=3649480
URL:https://www.maryvillecollege.edu/event/maryville-college-softball-vs-brevard-2/
LOCATION:MC Softball Complex
CATEGORIES:Athletic Events
END:VEVENT
END:VCALENDAR