BEGIN:VCALENDAR
VERSION:2.0
PRODID:-//Maryville College - ECPv6.15.20//NONSGML v1.0//EN
CALSCALE:GREGORIAN
METHOD:PUBLISH
X-WR-CALNAME:Maryville College
X-ORIGINAL-URL:https://www.maryvillecollege.edu
X-WR-CALDESC:Events for Maryville College
REFRESH-INTERVAL;VALUE=DURATION:PT1H
X-Robots-Tag:noindex
X-PUBLISHED-TTL:PT1H
BEGIN:VTIMEZONE
TZID:America/New_York
BEGIN:DAYLIGHT
TZOFFSETFROM:-0500
TZOFFSETTO:-0400
TZNAME:EDT
DTSTART:20250309T070000
END:DAYLIGHT
BEGIN:STANDARD
TZOFFSETFROM:-0400
TZOFFSETTO:-0500
TZNAME:EST
DTSTART:20251102T060000
END:STANDARD
BEGIN:DAYLIGHT
TZOFFSETFROM:-0500
TZOFFSETTO:-0400
TZNAME:EDT
DTSTART:20260308T070000
END:DAYLIGHT
BEGIN:STANDARD
TZOFFSETFROM:-0400
TZOFFSETTO:-0500
TZNAME:EST
DTSTART:20261101T060000
END:STANDARD
BEGIN:DAYLIGHT
TZOFFSETFROM:-0500
TZOFFSETTO:-0400
TZNAME:EDT
DTSTART:20270314T070000
END:DAYLIGHT
BEGIN:STANDARD
TZOFFSETFROM:-0400
TZOFFSETTO:-0500
TZNAME:EST
DTSTART:20271107T060000
END:STANDARD
END:VTIMEZONE
BEGIN:VEVENT
DTSTART;VALUE=DATE:20260305
DTEND;VALUE=DATE:20260307
DTSTAMP:20260421T173528
CREATED:20250721T164153Z
LAST-MODIFIED:20260304T183020Z
UID:10000234-1772737200-1772823599@www.maryvillecollege.edu
SUMMARY:Men' Track & Field Indoor Final Qualifier
DESCRIPTION:Maryville College Men’s Indoor & Outdoor Track & Field at Indoor Final Qualifier
URL:https://www.maryvillecollege.edu/event/maryville-college-mens-indoor-outdoor-track-field-at-indoor-final-qualifier/
LOCATION:Danville\, KY
CATEGORIES:Athletic Events
END:VEVENT
BEGIN:VEVENT
DTSTART;VALUE=DATE:20260305
DTEND;VALUE=DATE:20260307
DTSTAMP:20260421T173528
CREATED:20250903T163021Z
LAST-MODIFIED:20260304T180018Z
UID:10001139-1772737200-1772823599@www.maryvillecollege.edu
SUMMARY:Women's Track & Field
DESCRIPTION:Maryville College Women’s Indoor & Outdoor Track & Field at Indoor Final Qualifier
URL:https://www.maryvillecollege.edu/event/maryville-college-womens-indoor-outdoor-track-field-at-indoor-final-qualifier/
LOCATION:Danville\, KY
CATEGORIES:Athletic Events
END:VEVENT
BEGIN:VEVENT
DTSTART;TZID=America/New_York:20260306T100000
DTEND;TZID=America/New_York:20260306T120000
DTSTAMP:20260421T173528
CREATED:20251215T180057Z
LAST-MODIFIED:20260305T221522Z
UID:10001570-1772791200-1772798400@www.maryvillecollege.edu
SUMMARY:Softball
DESCRIPTION:Maryville College Softball vs Transylvania\nStreaming Video: https://nfca.org/division-iii-leadoff-classic-tournament-central-2026
URL:https://www.maryvillecollege.edu/event/maryville-college-softball-vs-transylvania/
LOCATION:Columbus\, GA
CATEGORIES:Athletic Events
END:VEVENT
BEGIN:VEVENT
DTSTART;TZID=America/New_York:20260306T123000
DTEND;TZID=America/New_York:20260306T143000
DTSTAMP:20260421T173528
CREATED:20251215T180057Z
LAST-MODIFIED:20260305T221524Z
UID:10001571-1772800200-1772807400@www.maryvillecollege.edu
SUMMARY:Softball
DESCRIPTION:Maryville College Softball vs DePauw\nStreaming Video: https://nfca.org/division-iii-leadoff-classic-tournament-central-2026
URL:https://www.maryvillecollege.edu/event/maryville-college-softball-vs-depauw/
LOCATION:Columbus\, GA
CATEGORIES:Athletic Events
END:VEVENT
BEGIN:VEVENT
DTSTART;TZID=America/New_York:20260306T170000
DTEND;TZID=America/New_York:20260306T200000
DTSTAMP:20260421T173528
CREATED:20251215T184522Z
LAST-MODIFIED:20260306T211535Z
UID:10001606-1772816400-1772827200@www.maryvillecollege.edu
SUMMARY:Baseball
DESCRIPTION:Maryville College Baseball vs Montclair State\nStreaming Video: https://www.youtube.com/@GreensboroCollegeAthletics/streams
URL:https://www.maryvillecollege.edu/event/maryville-college-baseball-vs-greensboro-adrian-montclair-state/
LOCATION:Greensboro\, NC
CATEGORIES:Athletic Events
END:VEVENT
BEGIN:VEVENT
DTSTART;TZID=America/New_York:20260306T180000
DTEND;TZID=America/New_York:20260306T200000
DTSTAMP:20260421T173528
CREATED:20251124T215416Z
LAST-MODIFIED:20260302T170029Z
UID:10001427-1772820000-1772827200@www.maryvillecollege.edu
SUMMARY:Stunt Team
DESCRIPTION:Maryville College Stunt at Muskingum
URL:https://www.maryvillecollege.edu/event/maryville-college-stunt-vs-muskingum-university/
LOCATION:New Concord\, OH
CATEGORIES:Athletic Events
END:VEVENT
BEGIN:VEVENT
DTSTART;TZID=America/New_York:20260306T180000
DTEND;TZID=America/New_York:20260320T235900
DTSTAMP:20260421T173528
CREATED:20250922T173038Z
LAST-MODIFIED:20260224T163038Z
UID:10001324-1772820000-1774051140@www.maryvillecollege.edu
SUMMARY:Women's Basketball NCAA Division III Championship
DESCRIPTION:Maryville College Women’s Basketball vs NCAA Division III Championship
URL:https://www.maryvillecollege.edu/event/maryville-college-womens-basketball-vs-ncaa-division-iii-championship/
CATEGORIES:Athletic Events
END:VEVENT
BEGIN:VEVENT
DTSTART;TZID=America/New_York:20260306T180000
DTEND;TZID=America/New_York:20260404T235900
DTSTAMP:20260421T173528
CREATED:20250923T124534Z
LAST-MODIFIED:20260227T154522Z
UID:10001326-1772820000-1775347140@www.maryvillecollege.edu
SUMMARY:Men's Basketball NCAA Division III Championship
DESCRIPTION:Maryville College Men’s Basketball vs NCAA Division III Championship
URL:https://www.maryvillecollege.edu/event/maryville-college-mens-basketball-vs-ncaa-division-iii-championship/
CATEGORIES:Athletic Events
END:VEVENT
BEGIN:VEVENT
DTSTART;VALUE=DATE:20260306
DTEND;VALUE=DATE:20260308
DTSTAMP:20260421T173528
CREATED:20250721T164154Z
LAST-MODIFIED:20260304T183021Z
UID:10000235-1772823600-1772909999@www.maryvillecollege.edu
SUMMARY:Men's Track & Field
DESCRIPTION:Maryville College Men’s Indoor & Outdoor Track & Field at Victor Ice Breaker Duals
URL:https://www.maryvillecollege.edu/event/maryville-college-mens-indoor-outdoor-track-field-at-victor-ice-breaker-duals/
LOCATION:Rome\, GA
CATEGORIES:Athletic Events
END:VEVENT
BEGIN:VEVENT
DTSTART;VALUE=DATE:20260306
DTEND;VALUE=DATE:20260308
DTSTAMP:20260421T173528
CREATED:20250903T163021Z
LAST-MODIFIED:20260304T180019Z
UID:10001140-1772823600-1772909999@www.maryvillecollege.edu
SUMMARY:Women's Track & Field
DESCRIPTION:Maryville College Women’s Indoor & Outdoor Track & Field at Victor Ice Breaker Duals
URL:https://www.maryvillecollege.edu/event/maryville-college-womens-indoor-outdoor-track-field-at-victor-ice-breaker-duals/
LOCATION:Rome\, GA
CATEGORIES:Athletic Events
END:VEVENT
END:VCALENDAR