BEGIN:VCALENDAR
VERSION:2.0
PRODID:-//Maryville College - ECPv6.15.20//NONSGML v1.0//EN
CALSCALE:GREGORIAN
METHOD:PUBLISH
X-WR-CALNAME:Maryville College
X-ORIGINAL-URL:https://www.maryvillecollege.edu
X-WR-CALDESC:Events for Maryville College
REFRESH-INTERVAL;VALUE=DURATION:PT1H
X-Robots-Tag:noindex
X-PUBLISHED-TTL:PT1H
BEGIN:VTIMEZONE
TZID:America/New_York
BEGIN:DAYLIGHT
TZOFFSETFROM:-0500
TZOFFSETTO:-0400
TZNAME:EDT
DTSTART:20250309T070000
END:DAYLIGHT
BEGIN:STANDARD
TZOFFSETFROM:-0400
TZOFFSETTO:-0500
TZNAME:EST
DTSTART:20251102T060000
END:STANDARD
BEGIN:DAYLIGHT
TZOFFSETFROM:-0500
TZOFFSETTO:-0400
TZNAME:EDT
DTSTART:20260308T070000
END:DAYLIGHT
BEGIN:STANDARD
TZOFFSETFROM:-0400
TZOFFSETTO:-0500
TZNAME:EST
DTSTART:20261101T060000
END:STANDARD
BEGIN:DAYLIGHT
TZOFFSETFROM:-0500
TZOFFSETTO:-0400
TZNAME:EDT
DTSTART:20270314T070000
END:DAYLIGHT
BEGIN:STANDARD
TZOFFSETFROM:-0400
TZOFFSETTO:-0500
TZNAME:EST
DTSTART:20271107T060000
END:STANDARD
END:VTIMEZONE
BEGIN:VEVENT
DTSTART;TZID=America/New_York:20260306T180000
DTEND;TZID=America/New_York:20260320T235900
DTSTAMP:20260421T173525
CREATED:20250922T173038Z
LAST-MODIFIED:20260224T163038Z
UID:10001324-1772820000-1774051140@www.maryvillecollege.edu
SUMMARY:Women's Basketball NCAA Division III Championship
DESCRIPTION:Maryville College Women’s Basketball vs NCAA Division III Championship
URL:https://www.maryvillecollege.edu/event/maryville-college-womens-basketball-vs-ncaa-division-iii-championship/
CATEGORIES:Athletic Events
END:VEVENT
BEGIN:VEVENT
DTSTART;TZID=America/New_York:20260306T180000
DTEND;TZID=America/New_York:20260404T235900
DTSTAMP:20260421T173525
CREATED:20250923T124534Z
LAST-MODIFIED:20260227T154522Z
UID:10001326-1772820000-1775347140@www.maryvillecollege.edu
SUMMARY:Men's Basketball NCAA Division III Championship
DESCRIPTION:Maryville College Men’s Basketball vs NCAA Division III Championship
URL:https://www.maryvillecollege.edu/event/maryville-college-mens-basketball-vs-ncaa-division-iii-championship/
CATEGORIES:Athletic Events
END:VEVENT
BEGIN:VEVENT
DTSTART;TZID=America/New_York:20260314T110000
DTEND;TZID=America/New_York:20260314T130000
DTSTAMP:20260421T173525
CREATED:20251215T180102Z
LAST-MODIFIED:20260313T224521Z
UID:10001576-1773486000-1773493200@www.maryvillecollege.edu
SUMMARY:Softball
DESCRIPTION:Maryville College Softball vs Adrian\nStreaming Video: https://team1sports.com/maryvillescots/?B=3820727
URL:https://www.maryvillecollege.edu/event/maryville-college-softball-vs-adrian-college/
LOCATION:Elizabethtown\, KY
CATEGORIES:Athletic Events
END:VEVENT
BEGIN:VEVENT
DTSTART;TZID=America/New_York:20260314T140000
DTEND;TZID=America/New_York:20260314T170000
DTSTAMP:20260421T173525
CREATED:20251204T184526Z
LAST-MODIFIED:20260313T221518Z
UID:10001440-1773496800-1773507600@www.maryvillecollege.edu
SUMMARY:Men's Tennis
DESCRIPTION:Maryville College Men’s Tennis vs Earlham
URL:https://www.maryvillecollege.edu/event/maryville-college-mens-tennis-vs-earlham/
LOCATION:MC Tennis Courts
CATEGORIES:Athletic Events
END:VEVENT
BEGIN:VEVENT
DTSTART;TZID=America/New_York:20260314T140000
DTEND;TZID=America/New_York:20260314T170000
DTSTAMP:20260421T173525
CREATED:20251204T203024Z
LAST-MODIFIED:20260313T211529Z
UID:10001442-1773496800-1773507600@www.maryvillecollege.edu
SUMMARY:Women's Tennis
DESCRIPTION:Maryville College Women’s Tennis vs Earlham
URL:https://www.maryvillecollege.edu/event/maryville-college-womens-tennis-vs-earlham/
LOCATION:MC Tennis Courts
CATEGORIES:Athletic Events
END:VEVENT
BEGIN:VEVENT
DTSTART;TZID=America/New_York:20260314T140000
DTEND;TZID=America/New_York:20260314T170000
DTSTAMP:20260421T173525
CREATED:20251215T184523Z
LAST-MODIFIED:20260313T214535Z
UID:10001608-1773496800-1773507600@www.maryvillecollege.edu
SUMMARY:Baseball - Alumni Weekend - 150th Celebration
DESCRIPTION:Maryville College Baseball vs Piedmont  – Alumni Weekend – 150th Season Celebration
URL:https://www.maryvillecollege.edu/event/maryville-college-baseball-vs-piedmont-alumni-weekend-150th-season-celebration-2/
LOCATION:MC Baseball Field “Scotland Yard”
CATEGORIES:Athletic Events
END:VEVENT
BEGIN:VEVENT
DTSTART;TZID=America/New_York:20260314T153000
DTEND;TZID=America/New_York:20260314T173000
DTSTAMP:20260421T173525
CREATED:20251215T180102Z
LAST-MODIFIED:20260313T224521Z
UID:10001577-1773502200-1773509400@www.maryvillecollege.edu
SUMMARY:Softball
DESCRIPTION:Maryville College Softball vs MSOE\nStreaming Video: https://team1sports.com/maryvillescots/?B=3820730
URL:https://www.maryvillecollege.edu/event/maryville-college-softball-vs-msoe/
LOCATION:Elizabethtown\, KY
CATEGORIES:Athletic Events
END:VEVENT
END:VCALENDAR