BEGIN:VCALENDAR
VERSION:2.0
PRODID:-//Maryville College - ECPv6.15.20//NONSGML v1.0//EN
CALSCALE:GREGORIAN
METHOD:PUBLISH
X-ORIGINAL-URL:https://www.maryvillecollege.edu
X-WR-CALDESC:Events for Maryville College
REFRESH-INTERVAL;VALUE=DURATION:PT1H
X-Robots-Tag:noindex
X-PUBLISHED-TTL:PT1H
BEGIN:VTIMEZONE
TZID:America/New_York
BEGIN:DAYLIGHT
TZOFFSETFROM:-0500
TZOFFSETTO:-0400
TZNAME:EDT
DTSTART:20250309T070000
END:DAYLIGHT
BEGIN:STANDARD
TZOFFSETFROM:-0400
TZOFFSETTO:-0500
TZNAME:EST
DTSTART:20251102T060000
END:STANDARD
BEGIN:DAYLIGHT
TZOFFSETFROM:-0500
TZOFFSETTO:-0400
TZNAME:EDT
DTSTART:20260308T070000
END:DAYLIGHT
BEGIN:STANDARD
TZOFFSETFROM:-0400
TZOFFSETTO:-0500
TZNAME:EST
DTSTART:20261101T060000
END:STANDARD
BEGIN:DAYLIGHT
TZOFFSETFROM:-0500
TZOFFSETTO:-0400
TZNAME:EDT
DTSTART:20270314T070000
END:DAYLIGHT
BEGIN:STANDARD
TZOFFSETFROM:-0400
TZOFFSETTO:-0500
TZNAME:EST
DTSTART:20271107T060000
END:STANDARD
END:VTIMEZONE
BEGIN:VEVENT
DTSTART;TZID=America/New_York:20260411T000000
DTEND;TZID=America/New_York:20260411T235959
DTSTAMP:20260421T154357
CREATED:20250728T164606Z
LAST-MODIFIED:20260410T234521Z
UID:10000536-1775865600-1775951999@www.maryvillecollege.edu
SUMMARY:Women's Tennis
DESCRIPTION:Maryville College Women’s Tennis vs Agnes Scott
URL:https://www.maryvillecollege.edu/event/maryville-college-womens-tennis-vs-agnes-scott/
LOCATION:MC Tennis Courts
CATEGORIES:Athletic Events
END:VEVENT
BEGIN:VEVENT
DTSTART;TZID=America/New_York:20260411T120000
DTEND;TZID=America/New_York:20260411T140000
DTSTAMP:20260421T154357
CREATED:20251215T180111Z
LAST-MODIFIED:20260411T081529Z
UID:10001590-1775908800-1775916000@www.maryvillecollege.edu
SUMMARY:Softball
DESCRIPTION:Maryville College Softball vs Agnes Scott – Senior Day\nStreaming Video: https://team1sports.com/maryvillescots/?B=3649493
URL:https://www.maryvillecollege.edu/event/maryville-college-softball-vs-agnes-scott/
LOCATION:MC Softball Complex
CATEGORIES:Athletic Events
END:VEVENT
BEGIN:VEVENT
DTSTART;TZID=America/New_York:20260411T130000
DTEND;TZID=America/New_York:20260411T160000
DTSTAMP:20260421T154357
CREATED:20251215T184535Z
LAST-MODIFIED:20260411T080018Z
UID:10001623-1775912400-1775923200@www.maryvillecollege.edu
SUMMARY:Baseball
DESCRIPTION:Maryville College Baseball at Asbury\nStreaming Video: https://www.asburysportsdigitalnetwork.com/
URL:https://www.maryvillecollege.edu/event/maryville-college-baseball-at-asbury-2/
LOCATION:Wilmore\, KY
CATEGORIES:Athletic Events
END:VEVENT
BEGIN:VEVENT
DTSTART;TZID=America/New_York:20260411T140000
DTEND;TZID=America/New_York:20260411T160000
DTSTAMP:20260421T154357
CREATED:20251215T180111Z
LAST-MODIFIED:20260411T081529Z
UID:10001591-1775916000-1775923200@www.maryvillecollege.edu
SUMMARY:Softball
DESCRIPTION:Maryville College Softball vs Agnes Scott – Senior Day\nStreaming Video: https://team1sports.com/maryvillescots/?B=3649493
URL:https://www.maryvillecollege.edu/event/maryville-college-softball-vs-agnes-scott-2/
LOCATION:MC Softball Complex
CATEGORIES:Athletic Events
END:VEVENT
BEGIN:VEVENT
DTSTART;TZID=America/New_York:20260411T160000
DTEND;TZID=America/New_York:20260411T190000
DTSTAMP:20260421T154357
CREATED:20251215T184536Z
LAST-MODIFIED:20260411T080019Z
UID:10001624-1775923200-1775934000@www.maryvillecollege.edu
SUMMARY:Baseball
DESCRIPTION:Maryville College Baseball at Asbury\nStreaming Video: https://www.asburysportsdigitalnetwork.com/
URL:https://www.maryvillecollege.edu/event/maryville-college-baseball-at-asbury-3/
LOCATION:Wilmore\, KY
CATEGORIES:Athletic Events
END:VEVENT
END:VCALENDAR