BEGIN:VCALENDAR
VERSION:2.0
PRODID:-//Maryville College - ECPv6.15.20//NONSGML v1.0//EN
CALSCALE:GREGORIAN
METHOD:PUBLISH
X-ORIGINAL-URL:https://www.maryvillecollege.edu
X-WR-CALDESC:Events for Maryville College
REFRESH-INTERVAL;VALUE=DURATION:PT1H
X-Robots-Tag:noindex
X-PUBLISHED-TTL:PT1H
BEGIN:VTIMEZONE
TZID:America/New_York
BEGIN:DAYLIGHT
TZOFFSETFROM:-0500
TZOFFSETTO:-0400
TZNAME:EDT
DTSTART:20250309T070000
END:DAYLIGHT
BEGIN:STANDARD
TZOFFSETFROM:-0400
TZOFFSETTO:-0500
TZNAME:EST
DTSTART:20251102T060000
END:STANDARD
BEGIN:DAYLIGHT
TZOFFSETFROM:-0500
TZOFFSETTO:-0400
TZNAME:EDT
DTSTART:20260308T070000
END:DAYLIGHT
BEGIN:STANDARD
TZOFFSETFROM:-0400
TZOFFSETTO:-0500
TZNAME:EST
DTSTART:20261101T060000
END:STANDARD
BEGIN:DAYLIGHT
TZOFFSETFROM:-0500
TZOFFSETTO:-0400
TZNAME:EDT
DTSTART:20270314T070000
END:DAYLIGHT
BEGIN:STANDARD
TZOFFSETFROM:-0400
TZOFFSETTO:-0500
TZNAME:EST
DTSTART:20271107T060000
END:STANDARD
END:VTIMEZONE
BEGIN:VEVENT
DTSTART;VALUE=DATE:20260417
DTEND;VALUE=DATE:20260419
DTSTAMP:20260421T154358
CREATED:20250625T161517Z
LAST-MODIFIED:20260415T201514Z
UID:10000129-1776456000-1776542399@www.maryvillecollege.edu
SUMMARY:Men's Golf
DESCRIPTION:Maryville College Men’s Golf at Discover DeKalb Invitational
URL:https://www.maryvillecollege.edu/event/maryville-college-mens-golf-at-discover-dekalb-invitational/
CATEGORIES:Athletic Events
END:VEVENT
BEGIN:VEVENT
DTSTART;VALUE=DATE:20260417
DTEND;VALUE=DATE:20260419
DTSTAMP:20260421T154358
CREATED:20250721T164202Z
LAST-MODIFIED:20260415T193019Z
UID:10000242-1776456000-1776542399@www.maryvillecollege.edu
SUMMARY:Maryville College Men's Indoor & Outdoor Track & Field at Mountain Lurel Invitational
DESCRIPTION:Maryville College Men’s Indoor & Outdoor Track & Field at Mountain Lurel Invitational
URL:https://www.maryvillecollege.edu/event/maryville-college-mens-indoor-outdoor-track-field-at-mountain-laurel-invitational/
LOCATION:Sewanee\, TN
CATEGORIES:Athletic Events
END:VEVENT
BEGIN:VEVENT
DTSTART;VALUE=DATE:20260417
DTEND;VALUE=DATE:20260419
DTSTAMP:20260421T154358
CREATED:20250827T163023Z
LAST-MODIFIED:20260415T184518Z
UID:10001048-1776456000-1776542399@www.maryvillecollege.edu
SUMMARY:Women's Track & Field
DESCRIPTION:Maryville College Women’s Indoor & Outdoor Track & Field at Mountain Laurel Invitational
URL:https://www.maryvillecollege.edu/event/maryville-college-womens-indoor-outdoor-track-field-at-mountain-laurel-invitational/
LOCATION:Sewanee\, TN
CATEGORIES:Athletic Events
END:VEVENT
BEGIN:VEVENT
DTSTART;TZID=America/New_York:20260418T100000
DTEND;TZID=America/New_York:20260418T130000
DTSTAMP:20260421T154358
CREATED:20250728T164623Z
LAST-MODIFIED:20260418T070023Z
UID:10000556-1776506400-1776517200@www.maryvillecollege.edu
SUMMARY:Men's Tennis
DESCRIPTION:Maryville College Men’s Tennis at Millsaps
URL:https://www.maryvillecollege.edu/event/maryville-college-mens-tennis-at-millsaps/
LOCATION:Jackson\, MS
CATEGORIES:Athletic Events
END:VEVENT
BEGIN:VEVENT
DTSTART;TZID=America/New_York:20260418T120000
DTEND;TZID=America/New_York:20260418T140000
DTSTAMP:20260421T154358
CREATED:20251215T180112Z
LAST-MODIFIED:20260418T083015Z
UID:10001592-1776513600-1776520800@www.maryvillecollege.edu
SUMMARY:Softball
DESCRIPTION:Maryville College Softball vs Belhaven – Alumni Day\nStreaming Video: https://team1sports.com/maryvillescots/?B=3649496
URL:https://www.maryvillecollege.edu/event/maryville-college-softball-vs-belhaven/
LOCATION:MC Softball Complex
CATEGORIES:Athletic Events
END:VEVENT
BEGIN:VEVENT
DTSTART;TZID=America/New_York:20260418T120000
DTEND;TZID=America/New_York:20260418T150000
DTSTAMP:20260421T154358
CREATED:20250728T164607Z
LAST-MODIFIED:20251124T203517Z
UID:10000538-1776513600-1776524400@www.maryvillecollege.edu
SUMMARY:Women's Tennis
DESCRIPTION:Maryville College Women’s Tennis at Millsaps
URL:https://www.maryvillecollege.edu/event/maryville-college-womens-tennis-at-millsaps/
LOCATION:Jackson\, MS
CATEGORIES:Athletic Events
END:VEVENT
BEGIN:VEVENT
DTSTART;TZID=America/New_York:20260418T120000
DTEND;TZID=America/New_York:20260418T150000
DTSTAMP:20260421T154358
CREATED:20250918T180030Z
LAST-MODIFIED:20260416T061519Z
UID:10001313-1776513600-1776524400@www.maryvillecollege.edu
SUMMARY:Women's Tennis
DESCRIPTION:Maryville College Women’s Tennis at Millsaps
URL:https://www.maryvillecollege.edu/event/maryville-college-womens-tennis-at-millsaps-2/
LOCATION:Maryville College\, Maryville\, 37804\, United States
CATEGORIES:Athletic Events
END:VEVENT
BEGIN:VEVENT
DTSTART;TZID=America/New_York:20260418T120000
DTEND;TZID=America/New_York:20260418T150000
DTSTAMP:20260421T154358
CREATED:20251215T184538Z
LAST-MODIFIED:20260418T081519Z
UID:10001628-1776513600-1776524400@www.maryvillecollege.edu
SUMMARY:Baseball
DESCRIPTION:Maryville College Baseball at Covenant\nStreaming Video: https://team1sports.com/scotssports/
URL:https://www.maryvillecollege.edu/event/maryville-college-baseball-at-covenant-2/
LOCATION:Lookout Mountain\, GA
CATEGORIES:Athletic Events
END:VEVENT
BEGIN:VEVENT
DTSTART;TZID=America/New_York:20260418T140000
DTEND;TZID=America/New_York:20260418T160000
DTSTAMP:20260421T154358
CREATED:20251215T180112Z
LAST-MODIFIED:20260418T083016Z
UID:10001593-1776520800-1776528000@www.maryvillecollege.edu
SUMMARY:Softball
DESCRIPTION:Maryville College Softball vs Belhaven – Alumni Day\nStreaming Video: https://team1sports.com/maryvillescots/?B=3649496
URL:https://www.maryvillecollege.edu/event/maryville-college-softball-vs-belhaven-2/
LOCATION:MC Softball Complex
CATEGORIES:Athletic Events
END:VEVENT
BEGIN:VEVENT
DTSTART;TZID=America/New_York:20260418T150000
DTEND;TZID=America/New_York:20260418T180000
DTSTAMP:20260421T154358
CREATED:20251215T184539Z
LAST-MODIFIED:20260418T081519Z
UID:10001629-1776524400-1776535200@www.maryvillecollege.edu
SUMMARY:Baseball
DESCRIPTION:Maryville College Baseball at Covenant\nStreaming Video: https://team1sports.com/scotssports/
URL:https://www.maryvillecollege.edu/event/maryville-college-baseball-at-covenant-3/
LOCATION:Lookout Mountain\, GA
CATEGORIES:Athletic Events
END:VEVENT
END:VCALENDAR