BEGIN:VCALENDAR
VERSION:2.0
PRODID:-//Maryville College - ECPv6.15.20//NONSGML v1.0//EN
CALSCALE:GREGORIAN
METHOD:PUBLISH
X-ORIGINAL-URL:https://www.maryvillecollege.edu
X-WR-CALDESC:Events for Maryville College
REFRESH-INTERVAL;VALUE=DURATION:PT1H
X-Robots-Tag:noindex
X-PUBLISHED-TTL:PT1H
BEGIN:VTIMEZONE
TZID:America/New_York
BEGIN:DAYLIGHT
TZOFFSETFROM:-0500
TZOFFSETTO:-0400
TZNAME:EDT
DTSTART:20250309T070000
END:DAYLIGHT
BEGIN:STANDARD
TZOFFSETFROM:-0400
TZOFFSETTO:-0500
TZNAME:EST
DTSTART:20251102T060000
END:STANDARD
BEGIN:DAYLIGHT
TZOFFSETFROM:-0500
TZOFFSETTO:-0400
TZNAME:EDT
DTSTART:20260308T070000
END:DAYLIGHT
BEGIN:STANDARD
TZOFFSETFROM:-0400
TZOFFSETTO:-0500
TZNAME:EST
DTSTART:20261101T060000
END:STANDARD
BEGIN:DAYLIGHT
TZOFFSETFROM:-0500
TZOFFSETTO:-0400
TZNAME:EDT
DTSTART:20270314T070000
END:DAYLIGHT
BEGIN:STANDARD
TZOFFSETFROM:-0400
TZOFFSETTO:-0500
TZNAME:EST
DTSTART:20271107T060000
END:STANDARD
END:VTIMEZONE
BEGIN:VEVENT
DTSTART;VALUE=DATE:20260428
DTEND;VALUE=DATE:20260502
DTSTAMP:20260421T155341
CREATED:20251215T184542Z
LAST-MODIFIED:20260421T081518Z
UID:10001633-1777406400-1777665599@www.maryvillecollege.edu
SUMMARY:Baseball Collegiate Conference of the South
DESCRIPTION:Maryville College Baseball vs CCS Championship
URL:https://www.maryvillecollege.edu/event/maryville-college-baseball-vs-collegiate-conference-of-the-south/
LOCATION:Higher Seed
CATEGORIES:Athletic Events
END:VEVENT
BEGIN:VEVENT
DTSTART;VALUE=DATE:20260428
DTEND;VALUE=DATE:20260502
DTSTAMP:20260421T155341
CREATED:20251229T183043Z
LAST-MODIFIED:20260421T084519Z
UID:10001644-1777406400-1777665599@www.maryvillecollege.edu
SUMMARY:Softball CCS Championship
DESCRIPTION:Maryville College Softball vs CCS Championship
URL:https://www.maryvillecollege.edu/event/maryville-college-softball-vs-ccs-championship/
LOCATION:Oxford\, AL
CATEGORIES:Athletic Events
END:VEVENT
END:VCALENDAR