BEGIN:VCALENDAR
VERSION:2.0
PRODID:-//Maryville College - ECPv6.15.20//NONSGML v1.0//EN
CALSCALE:GREGORIAN
METHOD:PUBLISH
X-WR-CALNAME:Maryville College
X-ORIGINAL-URL:https://www.maryvillecollege.edu
X-WR-CALDESC:Events for Maryville College
REFRESH-INTERVAL;VALUE=DURATION:PT1H
X-Robots-Tag:noindex
X-PUBLISHED-TTL:PT1H
BEGIN:VTIMEZONE
TZID:America/New_York
BEGIN:DAYLIGHT
TZOFFSETFROM:-0500
TZOFFSETTO:-0400
TZNAME:EDT
DTSTART:20250309T070000
END:DAYLIGHT
BEGIN:STANDARD
TZOFFSETFROM:-0400
TZOFFSETTO:-0500
TZNAME:EST
DTSTART:20251102T060000
END:STANDARD
BEGIN:DAYLIGHT
TZOFFSETFROM:-0500
TZOFFSETTO:-0400
TZNAME:EDT
DTSTART:20260308T070000
END:DAYLIGHT
BEGIN:STANDARD
TZOFFSETFROM:-0400
TZOFFSETTO:-0500
TZNAME:EST
DTSTART:20261101T060000
END:STANDARD
BEGIN:DAYLIGHT
TZOFFSETFROM:-0500
TZOFFSETTO:-0400
TZNAME:EDT
DTSTART:20270314T070000
END:DAYLIGHT
BEGIN:STANDARD
TZOFFSETFROM:-0400
TZOFFSETTO:-0500
TZNAME:EST
DTSTART:20271107T060000
END:STANDARD
END:VTIMEZONE
BEGIN:VEVENT
DTSTART;TZID=America/New_York:20260217T170000
DTEND;TZID=America/New_York:20260217T190000
DTSTAMP:20260421T224006
CREATED:20250721T162342Z
LAST-MODIFIED:20260217T160030Z
UID:10000189-1771347600-1771354800@www.maryvillecollege.edu
SUMMARY:Women's Basketball
DESCRIPTION:Maryville College Women’s Basketball vs Asbury – Blount County Elementary Basketball Spotlight Night\nStreaming Video: https://team1sports.com/maryvillescots/\nTickets: https://fan.hudl.com/tickets/VGlja2V0ZWRFdmVudDY4ZWZlMWE5YjUzYTAwMDgxOTcyZTg0MQ==
URL:https://www.maryvillecollege.edu/event/maryville-college-womens-basketball-vs-asbury/
LOCATION:Cooper Athletic Center
CATEGORIES:Athletic Events
END:VEVENT
BEGIN:VEVENT
DTSTART;TZID=America/New_York:20260217T190000
DTEND;TZID=America/New_York:20260217T210000
DTSTAMP:20260421T224006
CREATED:20250721T162252Z
LAST-MODIFIED:20260219T153318Z
UID:10000164-1771354800-1771362000@www.maryvillecollege.edu
SUMMARY:Men's Basketball - Senior Day
DESCRIPTION:Maryville College Men’s Basketball vs Asbury – Senior Day\nStreaming Video: https://team1sports.com/maryvillescots/\nTickets: https://fan.hudl.com/tickets/VGlja2V0ZWRFdmVudDY4ZWZlMTMwZDAyZGM4Yjk5NjE0ZmU3Ng==
URL:https://www.maryvillecollege.edu/event/maryville-college-mens-basketball-vs-asbury/
LOCATION:Cooper Athletic Center
CATEGORIES:Athletic Events
END:VEVENT
BEGIN:VEVENT
DTSTART;VALUE=DATE:20260221
DTEND;VALUE=DATE:20260222
DTSTAMP:20260421T224006
CREATED:20250721T164152Z
LAST-MODIFIED:20260218T183016Z
UID:10000232-1771632000-1771718399@www.maryvillecollege.edu
SUMMARY:Men's Track & Field
DESCRIPTION:Maryville College Men’s Indoor & Outdoor Track & Field at The Last Roar
URL:https://www.maryvillecollege.edu/event/maryville-college-mens-indoor-outdoor-track-field-at-sewanee-indoor-meet/
LOCATION:Sewanee\, TN
CATEGORIES:Athletic Events
END:VEVENT
BEGIN:VEVENT
DTSTART;VALUE=DATE:20260221
DTEND;VALUE=DATE:20260222
DTSTAMP:20260421T224006
CREATED:20250903T163020Z
LAST-MODIFIED:20260218T180016Z
UID:10001138-1771632000-1771718399@www.maryvillecollege.edu
SUMMARY:Women's Track & Field
DESCRIPTION:Maryville College Women’s Indoor & Outdoor Track & Field at The Last Roar
URL:https://www.maryvillecollege.edu/event/maryville-college-womens-indoor-outdoor-track-field-at-sewanee-indoor-meet/
LOCATION:Sewanee\, TN
CATEGORIES:Athletic Events
END:VEVENT
BEGIN:VEVENT
DTSTART;TZID=America/New_York:20260221T100000
DTEND;TZID=America/New_York:20260221T120000
DTSTAMP:20260421T224006
CREATED:20251215T180049Z
LAST-MODIFIED:20260220T211556Z
UID:10001560-1771668000-1771675200@www.maryvillecollege.edu
SUMMARY:Softball
DESCRIPTION:Maryville College Softball vs Lyon\nStreaming Video: https://rhodeslynx.com/sports/2021/1/11/lynx-live-network.aspx
URL:https://www.maryvillecollege.edu/event/maryville-college-softball-vs-lyon/
LOCATION:Memphis\, TN
CATEGORIES:Athletic Events
END:VEVENT
BEGIN:VEVENT
DTSTART;TZID=America/New_York:20260221T100000
DTEND;TZID=America/New_York:20260221T130000
DTSTAMP:20260421T224006
CREATED:20251002T181519Z
LAST-MODIFIED:20260129T184516Z
UID:10001349-1771668000-1771678800@www.maryvillecollege.edu
SUMMARY:Men's Tennis
DESCRIPTION:Maryville College Men’s Tennis at King
URL:https://www.maryvillecollege.edu/event/maryville-college-mens-tennis-at-king/
LOCATION:Bristol\, TN
CATEGORIES:Athletic Events
END:VEVENT
BEGIN:VEVENT
DTSTART;TZID=America/New_York:20260221T130000
DTEND;TZID=America/New_York:20260221T160000
DTSTAMP:20260421T224006
CREATED:20251215T184515Z
LAST-MODIFIED:20260221T194556Z
UID:10001598-1771678800-1771689600@www.maryvillecollege.edu
SUMMARY:Baseball
DESCRIPTION:Maryville College Baseball vs Transylvania\nStreaming Video: https://team1sports.com/maryvillescots/
URL:https://www.maryvillecollege.edu/event/maryville-college-baseball-vs-wooster/
LOCATION:Oglethorpe\, GA
CATEGORIES:Athletic Events
END:VEVENT
BEGIN:VEVENT
DTSTART;TZID=America/New_York:20260221T140000
DTEND;TZID=America/New_York:20260221T160000
DTSTAMP:20260421T224006
CREATED:20250721T162343Z
LAST-MODIFIED:20260221T160041Z
UID:10000190-1771682400-1771689600@www.maryvillecollege.edu
SUMMARY:Women's Basketball
DESCRIPTION:Maryville College Women’s Basketball at Piedmont\nStreaming Video: https://www.youtube.com/live/sjpz9UYrL3Y
URL:https://www.maryvillecollege.edu/event/maryville-college-womens-basketball-at-piedmont/
CATEGORIES:Athletic Events
END:VEVENT
BEGIN:VEVENT
DTSTART;TZID=America/New_York:20260221T140000
DTEND;TZID=America/New_York:20260221T160000
DTSTAMP:20260421T224006
CREATED:20251215T180049Z
LAST-MODIFIED:20260220T211556Z
UID:10001561-1771682400-1771689600@www.maryvillecollege.edu
SUMMARY:Softball
DESCRIPTION:Maryville College Softball at Rhodes\nStreaming Video: https://rhodeslynx.com/sports/2021/1/11/lynx-live-network.aspx
URL:https://www.maryvillecollege.edu/event/maryville-college-softball-at-rhodes/
LOCATION:Memphis\, TN
CATEGORIES:Athletic Events
END:VEVENT
BEGIN:VEVENT
DTSTART;TZID=America/New_York:20260221T160000
DTEND;TZID=America/New_York:20260221T180000
DTSTAMP:20260421T224006
CREATED:20250721T162254Z
LAST-MODIFIED:20260221T153017Z
UID:10000165-1771689600-1771696800@www.maryvillecollege.edu
SUMMARY:Men's Basketball
DESCRIPTION:Maryville College Men’s Basketball at Piedmont\nStreaming Video: https://www.youtube.com/live/IW7OqTMAUlE
URL:https://www.maryvillecollege.edu/event/maryville-college-mens-basketball-at-piedmont/
CATEGORIES:Athletic Events
END:VEVENT
BEGIN:VEVENT
DTSTART;TZID=America/New_York:20260221T160000
DTEND;TZID=America/New_York:20260221T190000
DTSTAMP:20260421T224006
CREATED:20251215T184515Z
LAST-MODIFIED:20260221T194556Z
UID:10001599-1771689600-1771700400@www.maryvillecollege.edu
SUMMARY:Baseball
DESCRIPTION:Maryville College Baseball vs Transylvania\nStreaming Video: https://team1sports.com/maryvillescots/
URL:https://www.maryvillecollege.edu/event/maryville-college-baseball-vs-transylvania/
LOCATION:Oglethorpe\, GA
CATEGORIES:Athletic Events
END:VEVENT
BEGIN:VEVENT
DTSTART;TZID=America/New_York:20260222T100000
DTEND;TZID=America/New_York:20260222T120000
DTSTAMP:20260421T224006
CREATED:20251215T180050Z
LAST-MODIFIED:20260221T213019Z
UID:10001562-1771754400-1771761600@www.maryvillecollege.edu
SUMMARY:Softball
DESCRIPTION:Maryville College Softball vs Lyon\nStreaming Video: https://rhodeslynx.com/sports/2021/1/11/lynx-live-network.aspx
URL:https://www.maryvillecollege.edu/event/maryville-college-softball-at-lyon/
LOCATION:Memphis\, TN
CATEGORIES:Athletic Events
END:VEVENT
BEGIN:VEVENT
DTSTART;TZID=America/New_York:20260222T120000
DTEND;TZID=America/New_York:20260222T140000
DTSTAMP:20260421T224006
CREATED:20251215T180051Z
LAST-MODIFIED:20260221T213020Z
UID:10001563-1771761600-1771768800@www.maryvillecollege.edu
SUMMARY:Softball
DESCRIPTION:Maryville College Softball at Rhodes\nStreaming Video: https://rhodeslynx.com/sports/2021/1/11/lynx-live-network.aspx
URL:https://www.maryvillecollege.edu/event/maryville-college-softball-at-rhodes-2/
LOCATION:Memphis\, TN
CATEGORIES:Athletic Events
END:VEVENT
BEGIN:VEVENT
DTSTART;TZID=America/New_York:20260222T120000
DTEND;TZID=America/New_York:20260222T150000
DTSTAMP:20260421T224006
CREATED:20251002T181520Z
LAST-MODIFIED:20260221T204518Z
UID:10001350-1771761600-1771772400@www.maryvillecollege.edu
SUMMARY:Men's Tennis
DESCRIPTION:Maryville College Men’s Tennis vs Mississippi Women
URL:https://www.maryvillecollege.edu/event/maryville-college-mens-tennis-vs-mississippi-university-for-women/
LOCATION:Maryville College\, Maryville\, 37804\, United States
CATEGORIES:Athletic Events
END:VEVENT
BEGIN:VEVENT
DTSTART;TZID=America/New_York:20260222T120000
DTEND;TZID=America/New_York:20260222T150000
DTSTAMP:20260421T224006
CREATED:20251002T183017Z
LAST-MODIFIED:20260221T194520Z
UID:10001351-1771761600-1771772400@www.maryvillecollege.edu
SUMMARY:Women's Tennis
DESCRIPTION:Maryville College Women’s Tennis vs Mississippi Women
URL:https://www.maryvillecollege.edu/event/maryville-college-womens-tennis-vs-mississippi-university-for-women/
LOCATION:Maryville College\, Maryville\, 37804\, United States
CATEGORIES:Athletic Events
END:VEVENT
BEGIN:VEVENT
DTSTART;TZID=America/New_York:20260222T130000
DTEND;TZID=America/New_York:20260222T160000
DTSTAMP:20260421T224006
CREATED:20251215T184516Z
LAST-MODIFIED:20260222T194521Z
UID:10001600-1771765200-1771776000@www.maryvillecollege.edu
SUMMARY:Baseball
DESCRIPTION:Maryville College Baseball vs Transylvania\nStreaming Video: https://team1sports.com/maryvillescots/?B=3720134
URL:https://www.maryvillecollege.edu/event/maryville-college-baseball-vs-oglethorpe/
LOCATION:Oglethorpe\, GA
CATEGORIES:Athletic Events
END:VEVENT
BEGIN:VEVENT
DTSTART;TZID=America/New_York:20260222T140000
DTEND;TZID=America/New_York:20260222T170000
DTSTAMP:20260421T224006
CREATED:20260203T174558Z
LAST-MODIFIED:20260221T204518Z
UID:10001776-1771768800-1771779600@www.maryvillecollege.edu
SUMMARY:Men's Tennis
DESCRIPTION:Maryville College Men’s Tennis vs UT Southern
URL:https://www.maryvillecollege.edu/event/maryville-college-mens-tennis-vs-tennessee-southern/
LOCATION:MC Tennis Courts
CATEGORIES:Athletic Events
END:VEVENT
BEGIN:VEVENT
DTSTART;VALUE=DATE:20260224
DTEND;VALUE=DATE:20260301
DTSTAMP:20260421T224006
CREATED:20250923T124532Z
LAST-MODIFIED:20260227T154521Z
UID:10001325-1771891200-1772323199@www.maryvillecollege.edu
SUMMARY:Men's Basketball Conference Championship
DESCRIPTION:Maryville College Men’s Basketball vs CCS Championship
URL:https://www.maryvillecollege.edu/event/maryville-college-mens-basketball-vs-ccs-championship/
LOCATION:Higher Seed
CATEGORIES:Athletic Events
END:VEVENT
BEGIN:VEVENT
DTSTART;TZID=America/New_York:20260224T153000
DTEND;TZID=America/New_York:20260224T183000
DTSTAMP:20260421T224006
CREATED:20251215T184518Z
LAST-MODIFIED:20260224T201628Z
UID:10001601-1771947000-1771957800@www.maryvillecollege.edu
SUMMARY:Baseball
DESCRIPTION:Maryville College Baseball at Berry\nStreaming Video: https://berryvikings.com/showcase?Live=826
URL:https://www.maryvillecollege.edu/event/maryville-college-baseball-at-berry/
LOCATION:Mount Berry\, GA
CATEGORIES:Athletic Events
END:VEVENT
BEGIN:VEVENT
DTSTART;TZID=America/New_York:20260224T170000
DTEND;TZID=America/New_York:20260224T190000
DTSTAMP:20260421T224006
CREATED:20250721T162344Z
LAST-MODIFIED:20260224T194029Z
UID:10000191-1771952400-1771959600@www.maryvillecollege.edu
SUMMARY:Women's Basketball - Quarterfinals
DESCRIPTION:Maryville College Women’s Basketball at Piedmont – Quarterfinals
URL:https://www.maryvillecollege.edu/event/maryville-college-womens-basketball-vs-collegiate-conference-of-the-south/
LOCATION:Higher Seed
CATEGORIES:Athletic Events
END:VEVENT
BEGIN:VEVENT
DTSTART;VALUE=DATE:20260226
DTEND;VALUE=DATE:20260228
DTSTAMP:20260421T224006
CREATED:20250721T164152Z
LAST-MODIFIED:20260225T183021Z
UID:10000233-1772132400-1772218799@www.maryvillecollege.edu
SUMMARY:Maryville College Men's Indoor & Outdoor Track & Field vs SAA Indoor Conference Championships
DESCRIPTION:Maryville College Men’s Indoor & Outdoor Track & Field vs SAA Indoor Conference Championships
URL:https://www.maryvillecollege.edu/event/maryville-college-mens-indoor-outdoor-track-field-vs-saa-indoor-conference-championships/
LOCATION:Danville\, KY
CATEGORIES:Athletic Events
END:VEVENT
BEGIN:VEVENT
DTSTART;VALUE=DATE:20260227
DTEND;VALUE=DATE:20260228
DTSTAMP:20260421T224006
CREATED:20250728T164521Z
LAST-MODIFIED:20260225T180044Z
UID:10000508-1772150400-1772236799@www.maryvillecollege.edu
SUMMARY:Women's Track & Field Indoor Conference Championships
DESCRIPTION:Maryville College Women’s Indoor & Outdoor Track & Field vs SAA Indoor Conference Championships
URL:https://www.maryvillecollege.edu/event/maryville-college-womens-indoor-outdoor-track-field-vs-saa-indoor-conference-championships/
LOCATION:Danville\, KY
CATEGORIES:Athletic Events
END:VEVENT
BEGIN:VEVENT
DTSTART;TZID=America/New_York:20260227T130000
DTEND;TZID=America/New_York:20260227T160000
DTSTAMP:20260421T224006
CREATED:20250728T164553Z
LAST-MODIFIED:20260227T201532Z
UID:10000524-1772197200-1772208000@www.maryvillecollege.edu
SUMMARY:Women's Tennis
DESCRIPTION:Maryville College Women’s Tennis vs Hanover
URL:https://www.maryvillecollege.edu/event/maryville-college-womens-tennis-vs-hanover/
LOCATION:MC Tennis Courts
CATEGORIES:Athletic Events
END:VEVENT
BEGIN:VEVENT
DTSTART;TZID=America/New_York:20260227T130000
DTEND;TZID=America/New_York:20260227T160000
DTSTAMP:20260421T224006
CREATED:20250728T164614Z
LAST-MODIFIED:20260226T210020Z
UID:10000543-1772197200-1772208000@www.maryvillecollege.edu
SUMMARY:Men's Tennis
DESCRIPTION:Maryville College Men’s Tennis vs Hanover
URL:https://www.maryvillecollege.edu/event/maryville-college-mens-tennis-vs-hanover/
LOCATION:MC Tennis Courts
CATEGORIES:Athletic Events
END:VEVENT
BEGIN:VEVENT
DTSTART;TZID=America/New_York:20260227T170000
DTEND;TZID=America/New_York:20260227T190000
DTSTAMP:20260421T224006
CREATED:20260224T154521Z
LAST-MODIFIED:20260227T154520Z
UID:10001836-1772211600-1772218800@www.maryvillecollege.edu
SUMMARY:Maryville College Men's Basketball vs Huntingdon vs. Belhaven - Semifinal Round
DESCRIPTION:Maryville College Men’s Basketball vs Huntingdon vs. Belhaven – Semifinal Round\nStreaming Video: https://team1sports.com/maryvillescots/?B=3754939\nTickets: https://fan.hudl.com/tickets/VGlja2V0ZWRFdmVudDY5OTVmOGFkZDMyZTMxNDUwMzQzMjdiMw==
URL:https://www.maryvillecollege.edu/event/maryville-college-mens-basketball-vs-huntingdon-college-vs-tbd-semifinal-round/
LOCATION:Cooper Athletic Center
CATEGORIES:Athletic Events
END:VEVENT
BEGIN:VEVENT
DTSTART;TZID=America/New_York:20260228T130000
DTEND;TZID=America/New_York:20260228T150000
DTSTAMP:20260421T224006
CREATED:20251215T180052Z
LAST-MODIFIED:20260227T220022Z
UID:10001564-1772283600-1772290800@www.maryvillecollege.edu
SUMMARY:Softball
DESCRIPTION:Maryville College Softball vs LaGrange  – Blackout\nStreaming Video: https://team1sports.com/maryvillescots/?B=3649514
URL:https://www.maryvillecollege.edu/event/maryville-college-softball-vs-lagrange/
LOCATION:MC Softball Complex
CATEGORIES:Athletic Events
END:VEVENT
BEGIN:VEVENT
DTSTART;TZID=America/New_York:20260228T130000
DTEND;TZID=America/New_York:20260228T160000
DTSTAMP:20260421T224006
CREATED:20250728T164615Z
LAST-MODIFIED:20260228T210033Z
UID:10000544-1772283600-1772294400@www.maryvillecollege.edu
SUMMARY:Men's Tennis
DESCRIPTION:Maryville College Men’s Tennis vs Pfeiffer
URL:https://www.maryvillecollege.edu/event/maryville-college-mens-tennis-vs-pfeiffer/
LOCATION:MC Tennis Courts
CATEGORIES:Athletic Events
END:VEVENT
BEGIN:VEVENT
DTSTART;TZID=America/New_York:20260228T130000
DTEND;TZID=America/New_York:20260228T160000
DTSTAMP:20260421T224006
CREATED:20251215T184519Z
LAST-MODIFIED:20260228T204546Z
UID:10001602-1772283600-1772294400@www.maryvillecollege.edu
SUMMARY:Baseball
DESCRIPTION:Maryville College Baseball vs Wittenberg\nStreaming Video: https://team1sports.com/maryvillescots/?B=3637717
URL:https://www.maryvillecollege.edu/event/maryville-college-baseball-vs-wittenberg/
LOCATION:MC Baseball Field “Scotland Yard”
CATEGORIES:Athletic Events
END:VEVENT
BEGIN:VEVENT
DTSTART;TZID=America/New_York:20260228T140000
DTEND;TZID=America/New_York:20260228T170000
DTSTAMP:20260421T224006
CREATED:20250728T164553Z
LAST-MODIFIED:20260227T201532Z
UID:10000525-1772287200-1772298000@www.maryvillecollege.edu
SUMMARY:Women's Tennis
DESCRIPTION:Maryville College Women’s Tennis vs Pfeiffer
URL:https://www.maryvillecollege.edu/event/maryville-college-womens-tennis-vs-pfeiffer/
LOCATION:MC Tennis Courts
CATEGORIES:Athletic Events
END:VEVENT
BEGIN:VEVENT
DTSTART;TZID=America/New_York:20260228T150000
DTEND;TZID=America/New_York:20260228T170000
DTSTAMP:20260421T224006
CREATED:20251215T180052Z
LAST-MODIFIED:20260227T220022Z
UID:10001565-1772290800-1772298000@www.maryvillecollege.edu
SUMMARY:Softball
DESCRIPTION:Maryville College Softball vs LaGrange  – Blackout\nStreaming Video: https://team1sports.com/maryvillescots/?B=3649514
URL:https://www.maryvillecollege.edu/event/maryville-college-softball-vs-lagrange-2/
LOCATION:MC Softball Complex
CATEGORIES:Athletic Events
END:VEVENT
END:VCALENDAR