BEGIN:VCALENDAR
VERSION:2.0
PRODID:-//Maryville College - ECPv6.15.20//NONSGML v1.0//EN
CALSCALE:GREGORIAN
METHOD:PUBLISH
X-WR-CALNAME:Maryville College
X-ORIGINAL-URL:https://www.maryvillecollege.edu
X-WR-CALDESC:Events for Maryville College
REFRESH-INTERVAL;VALUE=DURATION:PT1H
X-Robots-Tag:noindex
X-PUBLISHED-TTL:PT1H
BEGIN:VTIMEZONE
TZID:America/New_York
BEGIN:DAYLIGHT
TZOFFSETFROM:-0500
TZOFFSETTO:-0400
TZNAME:EDT
DTSTART:20250309T070000
END:DAYLIGHT
BEGIN:STANDARD
TZOFFSETFROM:-0400
TZOFFSETTO:-0500
TZNAME:EST
DTSTART:20251102T060000
END:STANDARD
BEGIN:DAYLIGHT
TZOFFSETFROM:-0500
TZOFFSETTO:-0400
TZNAME:EDT
DTSTART:20260308T070000
END:DAYLIGHT
BEGIN:STANDARD
TZOFFSETFROM:-0400
TZOFFSETTO:-0500
TZNAME:EST
DTSTART:20261101T060000
END:STANDARD
BEGIN:DAYLIGHT
TZOFFSETFROM:-0500
TZOFFSETTO:-0400
TZNAME:EDT
DTSTART:20270314T070000
END:DAYLIGHT
BEGIN:STANDARD
TZOFFSETFROM:-0400
TZOFFSETTO:-0500
TZNAME:EST
DTSTART:20271107T060000
END:STANDARD
END:VTIMEZONE
BEGIN:VEVENT
DTSTART;TZID=America/New_York:20260328T110000
DTEND;TZID=America/New_York:20260328T140000
DTSTAMP:20260421T224036
CREATED:20250728T164620Z
LAST-MODIFIED:20260328T054514Z
UID:10000551-1774695600-1774706400@www.maryvillecollege.edu
SUMMARY:Men's Tennis
DESCRIPTION:Maryville College Men’s Tennis vs Southern Virginia – Senior Day
URL:https://www.maryvillecollege.edu/event/maryville-college-mens-tennis-vs-southern-virginia/
LOCATION:MC Tennis Courts
CATEGORIES:Athletic Events
END:VEVENT
BEGIN:VEVENT
DTSTART;TZID=America/New_York:20260328T120000
DTEND;TZID=America/New_York:20260328T150000
DTSTAMP:20260421T224036
CREATED:20251215T184530Z
LAST-MODIFIED:20260327T223020Z
UID:10001616-1774699200-1774710000@www.maryvillecollege.edu
SUMMARY:Baseball
DESCRIPTION:Maryville College Baseball at ETBU\nStreaming Video: https://goetbutigers.com/watch/?Archive=12&type=Live
URL:https://www.maryvillecollege.edu/event/maryville-college-baseball-at-etbu-3/
LOCATION:Marshall\, TX
CATEGORIES:Athletic Events
END:VEVENT
BEGIN:VEVENT
DTSTART;TZID=America/New_York:20260328T150000
DTEND;TZID=America/New_York:20260328T180000
DTSTAMP:20260421T224036
CREATED:20251215T184529Z
LAST-MODIFIED:20260327T223021Z
UID:10001615-1774710000-1774720800@www.maryvillecollege.edu
SUMMARY:Baseball
DESCRIPTION:Maryville College Baseball at ETBU\nStreaming Video: https://goetbutigers.com/watch/
URL:https://www.maryvillecollege.edu/event/maryville-college-baseball-at-etbu-2/
LOCATION:Marshall\, TX
CATEGORIES:Athletic Events
END:VEVENT
BEGIN:VEVENT
DTSTART;TZID=America/New_York:20260329T130000
DTEND;TZID=America/New_York:20260329T160000
DTSTAMP:20260421T224036
CREATED:20250821T174019Z
LAST-MODIFIED:20251124T211945Z
UID:10001036-1774789200-1774800000@www.maryvillecollege.edu
SUMMARY:Women's Tennis
DESCRIPTION:Maryville College Women’s Tennis vs Brevard College
URL:https://www.maryvillecollege.edu/event/maryville-college-womens-tennis-vs-brevard-college/
LOCATION:MC Tennis Courts
CATEGORIES:Athletic Events
END:VEVENT
BEGIN:VEVENT
DTSTART;TZID=America/New_York:20260329T143000
DTEND;TZID=America/New_York:20260329T173000
DTSTAMP:20260421T224036
CREATED:20260308T204523Z
LAST-MODIFIED:20260415T153424Z
UID:10001852-1774794600-1774805400@www.maryvillecollege.edu
SUMMARY:Women's Tennis
DESCRIPTION:Maryville College Women’s Tennis at LaGrange
URL:https://www.maryvillecollege.edu/event/maryville-college-womens-tennis-at-lagrange-2/
LOCATION:LaGrange\, Ga.
CATEGORIES:Athletic Events
END:VEVENT
BEGIN:VEVENT
DTSTART;TZID=America/New_York:20260329T143000
DTEND;TZID=America/New_York:20260329T173000
DTSTAMP:20260421T224036
CREATED:20260308T214526Z
LAST-MODIFIED:20260415T170543Z
UID:10001855-1774794600-1774805400@www.maryvillecollege.edu
SUMMARY:Men's Tennis
DESCRIPTION:Maryville College Men’s Tennis at LaGrange
URL:https://www.maryvillecollege.edu/event/maryville-college-mens-tennis-at-lagrange-2/
LOCATION:LaGrange\, Ga.
CATEGORIES:Athletic Events
END:VEVENT
BEGIN:VEVENT
DTSTART;VALUE=DATE:20260329
DTEND;VALUE=DATE:20260331
DTSTAMP:20260421T224036
CREATED:20250625T161517Z
LAST-MODIFIED:20260325T201524Z
UID:10000128-1774814400-1774900799@www.maryvillecollege.edu
SUMMARY:Men's Golf
DESCRIPTION:Maryville College Men’s Golf at Music City Invitational
URL:https://www.maryvillecollege.edu/event/maryville-college-mens-golf-at-music-city-invitational/
CATEGORIES:Athletic Events
END:VEVENT
BEGIN:VEVENT
DTSTART;VALUE=DATE:20260329
DTEND;VALUE=DATE:20260331
DTSTAMP:20260421T224036
CREATED:20251118T130018Z
LAST-MODIFIED:20260324T143019Z
UID:10001416-1774814400-1774900799@www.maryvillecollege.edu
SUMMARY:Women's Golf SAA Preview
DESCRIPTION:Maryville College Women’s Golf vs SAA Preview – Greystone Golf Course
URL:https://www.maryvillecollege.edu/event/maryville-college-womens-golf-vs-saa-preview-greystone-golf-course/
LOCATION:Dickson\, TN
CATEGORIES:Athletic Events
END:VEVENT
BEGIN:VEVENT
DTSTART;TZID=America/New_York:20260331T130000
DTEND;TZID=America/New_York:20260331T150000
DTSTAMP:20260421T224036
CREATED:20251215T180108Z
LAST-MODIFIED:20260331T073018Z
UID:10001586-1774962000-1774969200@www.maryvillecollege.edu
SUMMARY:Softball
DESCRIPTION:Maryville College Softball vs Franklin – Faculty/Staff Appreciation Day\nStreaming Video: https://team1sports.com/maryvillescots/?B=3649491
URL:https://www.maryvillecollege.edu/event/maryville-college-softball-vs-franklin/
LOCATION:MC Softball Complex
CATEGORIES:Athletic Events
END:VEVENT
BEGIN:VEVENT
DTSTART;TZID=America/New_York:20260331T150000
DTEND;TZID=America/New_York:20260331T170000
DTSTAMP:20260421T224036
CREATED:20251215T180108Z
LAST-MODIFIED:20260331T073018Z
UID:10001587-1774969200-1774976400@www.maryvillecollege.edu
SUMMARY:Softball
DESCRIPTION:Maryville College Softball vs Franklin – Faculty/Staff Appreciation Day\nStreaming Video: https://team1sports.com/maryvillescots/?B=3649491
URL:https://www.maryvillecollege.edu/event/maryville-college-softball-vs-franklin-2/
LOCATION:MC Softball Complex
CATEGORIES:Athletic Events
END:VEVENT
BEGIN:VEVENT
DTSTART;TZID=America/New_York:20260331T150000
DTEND;TZID=America/New_York:20260331T180000
DTSTAMP:20260421T224036
CREATED:20251215T184531Z
LAST-MODIFIED:20260330T224514Z
UID:10001617-1774969200-1774980000@www.maryvillecollege.edu
SUMMARY:Baseball
DESCRIPTION:Maryville College Baseball vs Sewanee\nStreaming Video: https://team1sports.com/maryvillescots/?B=3637725
URL:https://www.maryvillecollege.edu/event/maryville-college-baseball-vs-sewanee/
LOCATION:MC Baseball Field “Scotland Yard”
CATEGORIES:Athletic Events
END:VEVENT
BEGIN:VEVENT
DTSTART;TZID=America/New_York:20260401T150000
DTEND;TZID=America/New_York:20260401T180000
DTSTAMP:20260421T224036
CREATED:20250728T164602Z
LAST-MODIFIED:20260331T221518Z
UID:10000533-1775055600-1775066400@www.maryvillecollege.edu
SUMMARY:Women's Tennis
DESCRIPTION:Maryville College Women’s Tennis vs Covenant
URL:https://www.maryvillecollege.edu/event/maryville-college-womens-tennis-vs-covenant/
LOCATION:MC Tennis Courts
CATEGORIES:Athletic Events
END:VEVENT
BEGIN:VEVENT
DTSTART;TZID=America/New_York:20260401T160000
DTEND;TZID=America/New_York:20260401T190000
DTSTAMP:20260421T224036
CREATED:20250728T164620Z
LAST-MODIFIED:20260401T060049Z
UID:10000552-1775059200-1775070000@www.maryvillecollege.edu
SUMMARY:Men's Tennis
DESCRIPTION:Maryville College Men’s Tennis vs Covenant
URL:https://www.maryvillecollege.edu/event/maryville-college-mens-tennis-vs-covenant/
LOCATION:MC Tennis Courts
CATEGORIES:Athletic Events
END:VEVENT
BEGIN:VEVENT
DTSTART;VALUE=DATE:20260402
DTEND;VALUE=DATE:20260404
DTSTAMP:20260421T224036
CREATED:20250721T164159Z
LAST-MODIFIED:20260325T190059Z
UID:10000239-1775160000-1775246399@www.maryvillecollege.edu
SUMMARY:Men's Track & Field
DESCRIPTION:Maryville College Men’s Indoor & Outdoor Track & Field at Tornado Classic
URL:https://www.maryvillecollege.edu/event/maryville-college-mens-indoor-outdoor-track-field-at-tornado-classic/
CATEGORIES:Athletic Events
END:VEVENT
BEGIN:VEVENT
DTSTART;VALUE=DATE:20260402
DTEND;VALUE=DATE:20260404
DTSTAMP:20260421T224036
CREATED:20250721T164200Z
LAST-MODIFIED:20260415T170556Z
UID:10000240-1775160000-1775246399@www.maryvillecollege.edu
SUMMARY:Men's Track & Field
DESCRIPTION:Maryville College Men’s Indoor & Outdoor Track & Field at Blue and Gold Invitational
URL:https://www.maryvillecollege.edu/event/maryville-college-mens-indoor-outdoor-track-field-at-electric-city-invitational-multi/
LOCATION:Emory\, VA
CATEGORIES:Athletic Events
END:VEVENT
BEGIN:VEVENT
DTSTART;VALUE=DATE:20260402
DTEND;VALUE=DATE:20260404
DTSTAMP:20260421T224036
CREATED:20250827T163020Z
LAST-MODIFIED:20260325T183026Z
UID:10001045-1775160000-1775246399@www.maryvillecollege.edu
SUMMARY:Women's Track & Field
DESCRIPTION:Maryville College Women’s Indoor & Outdoor Track & Field at Tornado Classic
URL:https://www.maryvillecollege.edu/event/maryville-college-womens-indoor-outdoor-track-field-at-tornado-classic/
LOCATION:Brevard\, NC
CATEGORIES:Athletic Events
END:VEVENT
BEGIN:VEVENT
DTSTART;VALUE=DATE:20260402
DTEND;VALUE=DATE:20260404
DTSTAMP:20260421T224036
CREATED:20250827T163021Z
LAST-MODIFIED:20260401T183052Z
UID:10001046-1775160000-1775246399@www.maryvillecollege.edu
SUMMARY:Women's Track & Field
DESCRIPTION:Maryville College Women’s Indoor & Outdoor Track & Field at Blue and Gold Invitational
URL:https://www.maryvillecollege.edu/event/maryville-college-womens-indoor-outdoor-track-field-at-electric-city-invitational-multi/
LOCATION:Anderson\, SC
CATEGORIES:Athletic Events
END:VEVENT
BEGIN:VEVENT
DTSTART;VALUE=DATE:20260402
DTEND;VALUE=DATE:20260404
DTSTAMP:20260421T224036
CREATED:20251111T130017Z
LAST-MODIFIED:20260126T212434Z
UID:10001413-1775160000-1775246399@www.maryvillecollege.edu
SUMMARY:Women's Golf
DESCRIPTION:Maryville College Women’s Golf vs MSJ Stateline Shootout – Miami Whitewater Golf Course
URL:https://www.maryvillecollege.edu/event/maryville-college-womens-golf-vs-msj-stateline-shootout-miami-whitewater-golf-course/
LOCATION:Harrison\, OH
CATEGORIES:Athletic Events
END:VEVENT
BEGIN:VEVENT
DTSTART;TZID=America/New_York:20260403T000000
DTEND;TZID=America/New_York:20260404T235959
DTSTAMP:20260421T224036
CREATED:20251215T184531Z
LAST-MODIFIED:20260403T231638Z
UID:10001618-1775174400-1775347199@www.maryvillecollege.edu
SUMMARY:Baseball - Senior Weekend
DESCRIPTION:Maryville College Baseball vs Huntingdon – Senior Weekend\nStreaming Video: https://team1sports.com/maryvillescots/?B=3637726
URL:https://www.maryvillecollege.edu/event/maryville-college-baseball-vs-huntingdon-senior-weekend/
LOCATION:MC Baseball Field “Scotland Yard”
CATEGORIES:Athletic Events
END:VEVENT
BEGIN:VEVENT
DTSTART;TZID=America/New_York:20260403T120000
DTEND;TZID=America/New_York:20260403T140000
DTSTAMP:20260421T224036
CREATED:20251215T180109Z
LAST-MODIFIED:20260403T073144Z
UID:10001588-1775217600-1775224800@www.maryvillecollege.edu
SUMMARY:Softball
DESCRIPTION:Maryville College Softball at Piedmont\nStreaming Video: https://www.youtube.com/live/z0EXAH96Zws
URL:https://www.maryvillecollege.edu/event/maryville-college-softball-at-piedmont/
LOCATION:Demorest\, GA
CATEGORIES:Athletic Events
END:VEVENT
BEGIN:VEVENT
DTSTART;TZID=America/New_York:20260403T140000
DTEND;TZID=America/New_York:20260403T160000
DTSTAMP:20260421T224036
CREATED:20251215T180110Z
LAST-MODIFIED:20260403T073145Z
UID:10001589-1775224800-1775232000@www.maryvillecollege.edu
SUMMARY:Softball
DESCRIPTION:Maryville College Softball at Piedmont\nStreaming Video: http://mcscots.com/calendar.ashx/youtube.com/live/-q4SKBKwD7s?feature=share
URL:https://www.maryvillecollege.edu/event/maryville-college-softball-at-piedmont-2/
LOCATION:Demorest\, GA
CATEGORIES:Athletic Events
END:VEVENT
BEGIN:VEVENT
DTSTART;TZID=America/New_York:20260404T000000
DTEND;TZID=America/New_York:20260404T235959
DTSTAMP:20260421T224036
CREATED:20250728T164603Z
LAST-MODIFIED:20260402T224652Z
UID:10000534-1775260800-1775347199@www.maryvillecollege.edu
SUMMARY:Women's Tennis
DESCRIPTION:Maryville College Women’s Tennis vs Truett McConnell
URL:https://www.maryvillecollege.edu/event/maryville-college-womens-tennis-vs-truett-mcconnell/
LOCATION:MC Tennis Courts
CATEGORIES:Athletic Events
END:VEVENT
BEGIN:VEVENT
DTSTART;TZID=America/New_York:20260404T000000
DTEND;TZID=America/New_York:20260404T235959
DTSTAMP:20260421T224036
CREATED:20250728T164621Z
LAST-MODIFIED:20260403T061640Z
UID:10000553-1775260800-1775347199@www.maryvillecollege.edu
SUMMARY:Men's Tennis
DESCRIPTION:Maryville College Men’s Tennis vs Truett McConnell
URL:https://www.maryvillecollege.edu/event/maryville-college-mens-tennis-vs-truett-mcconnell/
LOCATION:MC Tennis Courts
CATEGORIES:Athletic Events
END:VEVENT
BEGIN:VEVENT
DTSTART;TZID=America/New_York:20260407T000000
DTEND;TZID=America/New_York:20260407T235959
DTSTAMP:20260421T224036
CREATED:20251215T184533Z
LAST-MODIFIED:20260406T234645Z
UID:10001621-1775520000-1775606399@www.maryvillecollege.edu
SUMMARY:Baseball
DESCRIPTION:Maryville College Baseball at Sewanee\nStreaming Video: https://sewaneetigers.com/showcase?Live=875
URL:https://www.maryvillecollege.edu/event/maryville-college-baseball-at-sewanee/
LOCATION:Sewanee\, TN
CATEGORIES:Athletic Events
END:VEVENT
BEGIN:VEVENT
DTSTART;TZID=America/New_York:20260407T160000
DTEND;TZID=America/New_York:20260407T190000
DTSTAMP:20260421T224036
CREATED:20250821T173654Z
LAST-MODIFIED:20260407T063138Z
UID:10001033-1775577600-1775588400@www.maryvillecollege.edu
SUMMARY:Men's Tennis
DESCRIPTION:Maryville College Men’s Tennis vs Brevard
URL:https://www.maryvillecollege.edu/event/maryville-college-mens-tennis-vs-brevard/
LOCATION:MC Tennis Courts
CATEGORIES:Athletic Events
END:VEVENT
BEGIN:VEVENT
DTSTART;VALUE=DATE:20260409
DTEND;VALUE=DATE:20260411
DTSTAMP:20260421T224036
CREATED:20250721T164201Z
LAST-MODIFIED:20260408T190046Z
UID:10000241-1775764800-1775851199@www.maryvillecollege.edu
SUMMARY:Men's Track & Field
DESCRIPTION:Maryville College Men’s Indoor & Outdoor Track & Field vs Scots Invitational
URL:https://www.maryvillecollege.edu/event/maryville-college-mens-indoor-outdoor-track-field-vs-scots-invitational/
LOCATION:Austin Coleman Piper Memorial Track
CATEGORIES:Athletic Events
END:VEVENT
BEGIN:VEVENT
DTSTART;VALUE=DATE:20260409
DTEND;VALUE=DATE:20260411
DTSTAMP:20260421T224036
CREATED:20250827T163022Z
LAST-MODIFIED:20260408T183110Z
UID:10001047-1775764800-1775851199@www.maryvillecollege.edu
SUMMARY:Women's Track & Field
DESCRIPTION:Maryville College Women’s Indoor & Outdoor Track & Field vs Scots Invitational
URL:https://www.maryvillecollege.edu/event/maryville-college-womens-indoor-outdoor-track-field-vs-scots-invitational/
LOCATION:Austin Coleman Piper Memorial Track
CATEGORIES:Athletic Events
END:VEVENT
BEGIN:VEVENT
DTSTART;VALUE=DATE:20260409
DTEND;VALUE=DATE:20260411
DTSTAMP:20260421T224036
CREATED:20260128T184517Z
LAST-MODIFIED:20260311T200022Z
UID:10001758-1775764800-1775851199@www.maryvillecollege.edu
SUMMARY:Men's Golf
DESCRIPTION:Maryville College Men’s Golf at Miami Valley Collegiate – Hueston Woods Golf Course
URL:https://www.maryvillecollege.edu/event/maryville-college-mens-golf-at-miami-valley-collegiate-hueston-woods-golf-course/
LOCATION:Cincinnati\, OH
CATEGORIES:Athletic Events
END:VEVENT
BEGIN:VEVENT
DTSTART;TZID=America/New_York:20260410T150000
DTEND;TZID=America/New_York:20260410T180000
DTSTAMP:20260421T224036
CREATED:20250728T164605Z
LAST-MODIFIED:20260409T234515Z
UID:10000535-1775833200-1775844000@www.maryvillecollege.edu
SUMMARY:Women's Tennis
DESCRIPTION:Maryville College Women’s Tennis vs Piedmont
URL:https://www.maryvillecollege.edu/event/maryville-college-womens-tennis-vs-piedmont/
LOCATION:MC Tennis Courts
CATEGORIES:Athletic Events
END:VEVENT
BEGIN:VEVENT
DTSTART;TZID=America/New_York:20260410T150000
DTEND;TZID=America/New_York:20260410T180000
DTSTAMP:20260421T224036
CREATED:20250728T164622Z
LAST-MODIFIED:20260410T063017Z
UID:10000554-1775833200-1775844000@www.maryvillecollege.edu
SUMMARY:Men's Tennis
DESCRIPTION:Maryville College Men’s Tennis vs Piedmont
URL:https://www.maryvillecollege.edu/event/maryville-college-mens-tennis-vs-piedmont/
LOCATION:MC Tennis Courts
CATEGORIES:Athletic Events
END:VEVENT
END:VCALENDAR