BEGIN:VCALENDAR
VERSION:2.0
PRODID:-//Maryville College - ECPv6.15.20//NONSGML v1.0//EN
CALSCALE:GREGORIAN
METHOD:PUBLISH
X-WR-CALNAME:Maryville College
X-ORIGINAL-URL:https://www.maryvillecollege.edu
X-WR-CALDESC:Events for Maryville College
REFRESH-INTERVAL;VALUE=DURATION:PT1H
X-Robots-Tag:noindex
X-PUBLISHED-TTL:PT1H
BEGIN:VTIMEZONE
TZID:America/New_York
BEGIN:DAYLIGHT
TZOFFSETFROM:-0500
TZOFFSETTO:-0400
TZNAME:EDT
DTSTART:20250309T070000
END:DAYLIGHT
BEGIN:STANDARD
TZOFFSETFROM:-0400
TZOFFSETTO:-0500
TZNAME:EST
DTSTART:20251102T060000
END:STANDARD
BEGIN:DAYLIGHT
TZOFFSETFROM:-0500
TZOFFSETTO:-0400
TZNAME:EDT
DTSTART:20260308T070000
END:DAYLIGHT
BEGIN:STANDARD
TZOFFSETFROM:-0400
TZOFFSETTO:-0500
TZNAME:EST
DTSTART:20261101T060000
END:STANDARD
BEGIN:DAYLIGHT
TZOFFSETFROM:-0500
TZOFFSETTO:-0400
TZNAME:EDT
DTSTART:20270314T070000
END:DAYLIGHT
BEGIN:STANDARD
TZOFFSETFROM:-0400
TZOFFSETTO:-0500
TZNAME:EST
DTSTART:20271107T060000
END:STANDARD
END:VTIMEZONE
BEGIN:VEVENT
DTSTART;TZID=America/New_York:20260423T190000
DTEND;TZID=America/New_York:20260423T220000
DTSTAMP:20260421T202635
CREATED:20251215T184540Z
LAST-MODIFIED:20260421T081516Z
UID:10001630-1776970800-1776981600@www.maryvillecollege.edu
SUMMARY:Baseball
DESCRIPTION:Maryville College Baseball at LaGrange
URL:https://www.maryvillecollege.edu/event/maryville-college-baseball-at-lagrange/
LOCATION:LaGrange\, GA
CATEGORIES:Athletic Events
END:VEVENT
BEGIN:VEVENT
DTSTART;VALUE=DATE:20260423
DTEND;VALUE=DATE:20260426
DTSTAMP:20260421T202635
CREATED:20251111T130018Z
LAST-MODIFIED:20260421T150016Z
UID:10001414-1776974400-1777147199@www.maryvillecollege.edu
SUMMARY:Women's Golf SAA Conference Championship
DESCRIPTION:Maryville College Women’s Golf vs SAA Conference Championship – Greystone Golf Course
URL:https://www.maryvillecollege.edu/event/maryville-college-womens-golf-vs-sas-conference-championship-greystone-golf-course/
LOCATION:Dickson\, TN
CATEGORIES:Athletic Events
END:VEVENT
BEGIN:VEVENT
DTSTART;TZID=America/New_York:20260424T150000
DTEND;TZID=America/New_York:20260424T170000
DTSTAMP:20260421T202635
CREATED:20251215T180115Z
LAST-MODIFIED:20260421T084519Z
UID:10001596-1777042800-1777050000@www.maryvillecollege.edu
SUMMARY:Softball
DESCRIPTION:Maryville College Softball vs Covenant\nStreaming Video: https://team1sports.com/maryvillescots/?B=3649501
URL:https://www.maryvillecollege.edu/event/maryville-college-softball-vs-covenant/
LOCATION:MC Softball Complex
CATEGORIES:Athletic Events
END:VEVENT
BEGIN:VEVENT
DTSTART;TZID=America/New_York:20260424T170000
DTEND;TZID=America/New_York:20260424T190000
DTSTAMP:20260421T202635
CREATED:20251215T180116Z
LAST-MODIFIED:20260421T084519Z
UID:10001597-1777050000-1777057200@www.maryvillecollege.edu
SUMMARY:Softball
DESCRIPTION:Maryville College Softball vs Covenant\nStreaming Video: https://team1sports.com/maryvillescots/?B=3649501
URL:https://www.maryvillecollege.edu/event/maryville-college-softball-vs-covenant-2/
LOCATION:MC Softball Complex
CATEGORIES:Athletic Events
END:VEVENT
BEGIN:VEVENT
DTSTART;TZID=America/New_York:20260424T190000
DTEND;TZID=America/New_York:20260424T220000
DTSTAMP:20260421T202635
CREATED:20251215T184540Z
LAST-MODIFIED:20260421T081516Z
UID:10001631-1777057200-1777068000@www.maryvillecollege.edu
SUMMARY:Baseball
DESCRIPTION:Maryville College Baseball at LaGrange
URL:https://www.maryvillecollege.edu/event/maryville-college-baseball-at-lagrange-2/
LOCATION:LaGrange\, GA
CATEGORIES:Athletic Events
END:VEVENT
BEGIN:VEVENT
DTSTART;TZID=America/New_York:20260425T140000
DTEND;TZID=America/New_York:20260425T170000
DTSTAMP:20260421T202635
CREATED:20251215T184541Z
LAST-MODIFIED:20260421T081517Z
UID:10001632-1777125600-1777136400@www.maryvillecollege.edu
SUMMARY:Baseball
DESCRIPTION:Maryville College Baseball at LaGrange
URL:https://www.maryvillecollege.edu/event/maryville-college-baseball-at-lagrange-3/
LOCATION:LaGrange\, GA
CATEGORIES:Athletic Events
END:VEVENT
BEGIN:VEVENT
DTSTART;VALUE=DATE:20260426
DTEND;VALUE=DATE:20260429
DTSTAMP:20260421T202635
CREATED:20250625T161517Z
LAST-MODIFIED:20260415T201515Z
UID:10000130-1777233600-1777406399@www.maryvillecollege.edu
SUMMARY:Men's Golf
DESCRIPTION:Maryville College Men’s Golf vs Collegiate Conference of the South – Dalton Golf & Country Club
URL:https://www.maryvillecollege.edu/event/maryville-college-mens-golf-vs-collegiate-conference-of-the-south/
CATEGORIES:Athletic Events
END:VEVENT
BEGIN:VEVENT
DTSTART;VALUE=DATE:20260428
DTEND;VALUE=DATE:20260502
DTSTAMP:20260421T202635
CREATED:20251215T184542Z
LAST-MODIFIED:20260421T081518Z
UID:10001633-1777406400-1777665599@www.maryvillecollege.edu
SUMMARY:Baseball Collegiate Conference of the South
DESCRIPTION:Maryville College Baseball vs CCS Championship
URL:https://www.maryvillecollege.edu/event/maryville-college-baseball-vs-collegiate-conference-of-the-south/
LOCATION:Higher Seed
CATEGORIES:Athletic Events
END:VEVENT
BEGIN:VEVENT
DTSTART;VALUE=DATE:20260428
DTEND;VALUE=DATE:20260502
DTSTAMP:20260421T202635
CREATED:20251229T183043Z
LAST-MODIFIED:20260421T084519Z
UID:10001644-1777406400-1777665599@www.maryvillecollege.edu
SUMMARY:Softball CCS Championship
DESCRIPTION:Maryville College Softball vs CCS Championship
URL:https://www.maryvillecollege.edu/event/maryville-college-softball-vs-ccs-championship/
LOCATION:Oxford\, AL
CATEGORIES:Athletic Events
END:VEVENT
BEGIN:VEVENT
DTSTART;VALUE=DATE:20260507
DTEND;VALUE=DATE:20260509
DTSTAMP:20260421T202635
CREATED:20250721T164204Z
LAST-MODIFIED:20260415T193022Z
UID:10000244-1778184000-1778270399@www.maryvillecollege.edu
SUMMARY:Men's Track & Field
DESCRIPTION:Maryville College Men’s Indoor & Outdoor Track & Field at Centre Last Chance and Multis
URL:https://www.maryvillecollege.edu/event/maryville-college-mens-indoor-outdoor-track-field-at-centre-last-chance-and-multis/
LOCATION:Danville\, KY
CATEGORIES:Athletic Events
END:VEVENT
BEGIN:VEVENT
DTSTART;VALUE=DATE:20260507
DTEND;VALUE=DATE:20260509
DTSTAMP:20260421T202635
CREATED:20250827T163024Z
LAST-MODIFIED:20260415T184519Z
UID:10001050-1778184000-1778270399@www.maryvillecollege.edu
SUMMARY:Women's Track & Field
DESCRIPTION:Maryville College Women’s Indoor & Outdoor Track & Field at Centre Last Chance and Multis
URL:https://www.maryvillecollege.edu/event/maryville-college-womens-indoor-outdoor-track-field-at-centre-last-chance-and-multis/
LOCATION:Danville\, KY
CATEGORIES:Athletic Events
END:VEVENT
BEGIN:VEVENT
DTSTART;VALUE=DATE:20260508
DTEND;VALUE=DATE:20260510
DTSTAMP:20260421T202635
CREATED:20250721T164205Z
LAST-MODIFIED:20260415T193023Z
UID:10000245-1778270400-1778356799@www.maryvillecollege.edu
SUMMARY:Men's Track & Field
DESCRIPTION:Maryville College Men’s Indoor & Outdoor Track & Field at LR Last Chance Meet
URL:https://www.maryvillecollege.edu/event/maryville-college-mens-indoor-outdoor-track-field-at-lr-last-chance-meet/
CATEGORIES:Athletic Events
END:VEVENT
BEGIN:VEVENT
DTSTART;VALUE=DATE:20260508
DTEND;VALUE=DATE:20260510
DTSTAMP:20260421T202635
CREATED:20250827T163026Z
LAST-MODIFIED:20260415T184520Z
UID:10001051-1778270400-1778356799@www.maryvillecollege.edu
SUMMARY:Women's Track & Field
DESCRIPTION:Maryville College Women’s Indoor & Outdoor Track & Field at LR Last Chance Meet
URL:https://www.maryvillecollege.edu/event/maryville-college-womens-indoor-outdoor-track-field-at-lr-last-chance-meet/
LOCATION:Hickory\, NC
CATEGORIES:Athletic Events
END:VEVENT
BEGIN:VEVENT
DTSTART;VALUE=DATE:20260520
DTEND;VALUE=DATE:20260523
DTSTAMP:20260421T202635
CREATED:20250721T164206Z
LAST-MODIFIED:20260415T193023Z
UID:10000246-1779307200-1779479999@www.maryvillecollege.edu
SUMMARY:Maryville College Men's Indoor & Outdoor Track & Field vs Outdoor National Champioinships
DESCRIPTION:Maryville College Men’s Indoor & Outdoor Track & Field vs Outdoor National Champioinships
URL:https://www.maryvillecollege.edu/event/maryville-college-mens-indoor-outdoor-track-field-vs-outdoor-national-champioinships/
LOCATION:La Crosse\, WI
CATEGORIES:Athletic Events
END:VEVENT
BEGIN:VEVENT
DTSTART;VALUE=DATE:20260520
DTEND;VALUE=DATE:20260523
DTSTAMP:20260421T202635
CREATED:20250827T163027Z
LAST-MODIFIED:20260415T184520Z
UID:10001052-1779307200-1779479999@www.maryvillecollege.edu
SUMMARY:Women's Track & Field
DESCRIPTION:Maryville College Women’s Indoor & Outdoor Track & Field vs Outdoor National Champioinships
URL:https://www.maryvillecollege.edu/event/maryville-college-womens-indoor-outdoor-track-field-vs-outdoor-national-champioinships/
LOCATION:La Crosse\, WI
CATEGORIES:Athletic Events
END:VEVENT
BEGIN:VEVENT
DTSTART;VALUE=DATE:20260903
DTEND;VALUE=DATE:20260905
DTSTAMP:20260421T202635
CREATED:20260325T184524Z
LAST-MODIFIED:20260415T190019Z
UID:10001951-1788465600-1788551999@www.maryvillecollege.edu
SUMMARY:Maryville College Women's Cross Country at Sewanee
DESCRIPTION:Maryville College Women’s Cross Country at Sewanee
URL:https://www.maryvillecollege.edu/event/maryville-college-womens-cross-country-at-sewanee/
LOCATION:Sewanee\, TN
CATEGORIES:Athletic Events
END:VEVENT
BEGIN:VEVENT
DTSTART;VALUE=DATE:20260904
DTEND;VALUE=DATE:20260906
DTSTAMP:20260421T202635
CREATED:20260203T004525Z
LAST-MODIFIED:20260421T020018Z
UID:10001763-1788552000-1788638399@www.maryvillecollege.edu
SUMMARY:Football
DESCRIPTION:Maryville College Football at Heidelberg
URL:https://www.maryvillecollege.edu/event/maryville-college-football-at-heidelberg/
LOCATION:Tiffin\, OH
CATEGORIES:Athletic Events
END:VEVENT
BEGIN:VEVENT
DTSTART;TZID=America/New_York:20260912T130000
DTEND;TZID=America/New_York:20260912T160000
DTSTAMP:20260421T202635
CREATED:20260203T004525Z
LAST-MODIFIED:20260421T020019Z
UID:10001764-1789218000-1789228800@www.maryvillecollege.edu
SUMMARY:Football
DESCRIPTION:Maryville College Football vs Hanover
URL:https://www.maryvillecollege.edu/event/maryville-college-football-vs-hanover/
LOCATION:Honaker Field at Lloyd Thornton Stadium
CATEGORIES:Athletic Events
END:VEVENT
BEGIN:VEVENT
DTSTART;VALUE=DATE:20260918
DTEND;VALUE=DATE:20260920
DTSTAMP:20260421T202635
CREATED:20260203T004525Z
LAST-MODIFIED:20260421T020019Z
UID:10001765-1789761600-1789847999@www.maryvillecollege.edu
SUMMARY:Football
DESCRIPTION:Maryville College Football at Randolph-Macon
URL:https://www.maryvillecollege.edu/event/maryville-college-football-at-randolph-macon/
LOCATION:Ashland\, VA
CATEGORIES:Athletic Events
END:VEVENT
BEGIN:VEVENT
DTSTART;VALUE=DATE:20260918
DTEND;VALUE=DATE:20260920
DTSTAMP:20260421T202635
CREATED:20260325T184525Z
LAST-MODIFIED:20260415T190019Z
UID:10001952-1789761600-1789847999@www.maryvillecollege.edu
SUMMARY:Maryville College Women's Cross Country at Berea
DESCRIPTION:Maryville College Women’s Cross Country at Berea
URL:https://www.maryvillecollege.edu/event/maryville-college-womens-cross-country-at-berea/
LOCATION:Berea\, KY
CATEGORIES:Athletic Events
END:VEVENT
BEGIN:VEVENT
DTSTART;VALUE=DATE:20260925
DTEND;VALUE=DATE:20260927
DTSTAMP:20260421T202635
CREATED:20260203T004525Z
LAST-MODIFIED:20260421T020020Z
UID:10001766-1790366400-1790452799@www.maryvillecollege.edu
SUMMARY:Football
DESCRIPTION:Maryville College Football at Rhodes
URL:https://www.maryvillecollege.edu/event/maryville-college-football-at-rhodes/
LOCATION:Memphis\, TN
CATEGORIES:Athletic Events
END:VEVENT
BEGIN:VEVENT
DTSTART;TZID=America/New_York:20260926T093000
DTEND;TZID=America/New_York:20260926T123000
DTSTAMP:20260421T202635
CREATED:20260325T184525Z
LAST-MODIFIED:20260415T190020Z
UID:10001953-1790415000-1790425800@www.maryvillecollege.edu
SUMMARY:Maryville College Women's Cross Country vs Maryville College Invitational
DESCRIPTION:Maryville College Women’s Cross Country vs Maryville College Invitational
URL:https://www.maryvillecollege.edu/event/maryville-college-womens-cross-country-vs-maryville-college-invitational/
CATEGORIES:Athletic Events
END:VEVENT
BEGIN:VEVENT
DTSTART;VALUE=DATE:20261002
DTEND;VALUE=DATE:20261004
DTSTAMP:20260421T202635
CREATED:20260203T004525Z
LAST-MODIFIED:20260421T020021Z
UID:10001767-1790971200-1791057599@www.maryvillecollege.edu
SUMMARY:Football
DESCRIPTION:Maryville College Football at Centre
URL:https://www.maryvillecollege.edu/event/maryville-college-football-at-centre/
LOCATION:Danville\, KY
CATEGORIES:Athletic Events
END:VEVENT
BEGIN:VEVENT
DTSTART;VALUE=DATE:20261009
DTEND;VALUE=DATE:20261011
DTSTAMP:20260421T202635
CREATED:20260325T184527Z
LAST-MODIFIED:20260415T190021Z
UID:10001954-1791576000-1791662399@www.maryvillecollege.edu
SUMMARY:Maryville College Women's Cross Country at USC Beaufort
DESCRIPTION:Maryville College Women’s Cross Country at USC Beaufort
URL:https://www.maryvillecollege.edu/event/maryville-college-womens-cross-country-at-usc-beaufort/
LOCATION:Bluftton\, SC
CATEGORIES:Athletic Events
END:VEVENT
BEGIN:VEVENT
DTSTART;TZID=America/New_York:20261010T130000
DTEND;TZID=America/New_York:20261010T160000
DTSTAMP:20260421T202635
CREATED:20260203T004526Z
LAST-MODIFIED:20260421T020021Z
UID:10001768-1791637200-1791648000@www.maryvillecollege.edu
SUMMARY:Football
DESCRIPTION:Maryville College Football vs Sewanee
URL:https://www.maryvillecollege.edu/event/maryville-college-football-vs-sewanee-homecoming/
LOCATION:Honaker Field at Lloyd Thornton Stadium
CATEGORIES:Athletic Events
END:VEVENT
BEGIN:VEVENT
DTSTART;TZID=America/New_York:20261016T163000
DTEND;TZID=America/New_York:20261016T193000
DTSTAMP:20260421T202635
CREATED:20260325T184527Z
LAST-MODIFIED:20260415T190021Z
UID:10001955-1792168200-1792179000@www.maryvillecollege.edu
SUMMARY:Maryville College Women's Cross Country vs Fighting Scots Invitational
DESCRIPTION:Maryville College Women’s Cross Country vs Fighting Scots Invitational
URL:https://www.maryvillecollege.edu/event/maryville-college-womens-cross-country-vs-fighting-scots-invitational/
CATEGORIES:Athletic Events
END:VEVENT
BEGIN:VEVENT
DTSTART;VALUE=DATE:20261016
DTEND;VALUE=DATE:20261018
DTSTAMP:20260421T202635
CREATED:20260203T004526Z
LAST-MODIFIED:20260421T020022Z
UID:10001769-1792180800-1792267199@www.maryvillecollege.edu
SUMMARY:Football
DESCRIPTION:Maryville College Football at Trinity (Texas)
URL:https://www.maryvillecollege.edu/event/maryville-college-football-at-trinity-texas/
LOCATION:San Antonio\, TX
CATEGORIES:Athletic Events
END:VEVENT
BEGIN:VEVENT
DTSTART;TZID=America/New_York:20261024T130000
DTEND;TZID=America/New_York:20261024T160000
DTSTAMP:20260421T202635
CREATED:20260203T004526Z
LAST-MODIFIED:20260421T020023Z
UID:10001770-1792846800-1792857600@www.maryvillecollege.edu
SUMMARY:Football
DESCRIPTION:Maryville College Football vs Berry – Homecoming
URL:https://www.maryvillecollege.edu/event/maryville-college-football-vs-berry/
LOCATION:Honaker Field at Lloyd Thornton Stadium
CATEGORIES:Athletic Events
END:VEVENT
BEGIN:VEVENT
DTSTART;VALUE=DATE:20261030
DTEND;VALUE=DATE:20261101
DTSTAMP:20260421T202635
CREATED:20260325T184528Z
LAST-MODIFIED:20260415T190022Z
UID:10001956-1793390400-1793476799@www.maryvillecollege.edu
SUMMARY:Maryville College Women's Cross Country vs SAA Championship
DESCRIPTION:Maryville College Women’s Cross Country vs SAA Championship
URL:https://www.maryvillecollege.edu/event/maryville-college-womens-cross-country-vs-saa-championship/
CATEGORIES:Athletic Events
END:VEVENT
BEGIN:VEVENT
DTSTART;TZID=America/New_York:20261107T130000
DTEND;TZID=America/New_York:20261107T160000
DTSTAMP:20260421T202635
CREATED:20260203T004526Z
LAST-MODIFIED:20260421T020023Z
UID:10001771-1794056400-1794067200@www.maryvillecollege.edu
SUMMARY:Football
DESCRIPTION:Maryville College Football vs Southwestern
URL:https://www.maryvillecollege.edu/event/maryville-college-football-vs-southwestern/
LOCATION:Honaker Field at Lloyd Thornton Stadium
CATEGORIES:Athletic Events
END:VEVENT
END:VCALENDAR