BEGIN:VCALENDAR
VERSION:2.0
PRODID:-//Maryville College - ECPv6.15.20//NONSGML v1.0//EN
CALSCALE:GREGORIAN
METHOD:PUBLISH
X-WR-CALNAME:Maryville College
X-ORIGINAL-URL:https://www.maryvillecollege.edu
X-WR-CALDESC:Events for Maryville College
REFRESH-INTERVAL;VALUE=DURATION:PT1H
X-Robots-Tag:noindex
X-PUBLISHED-TTL:PT1H
BEGIN:VTIMEZONE
TZID:America/New_York
BEGIN:DAYLIGHT
TZOFFSETFROM:-0500
TZOFFSETTO:-0400
TZNAME:EDT
DTSTART:20240310T070000
END:DAYLIGHT
BEGIN:STANDARD
TZOFFSETFROM:-0400
TZOFFSETTO:-0500
TZNAME:EST
DTSTART:20241103T060000
END:STANDARD
BEGIN:DAYLIGHT
TZOFFSETFROM:-0500
TZOFFSETTO:-0400
TZNAME:EDT
DTSTART:20250309T070000
END:DAYLIGHT
BEGIN:STANDARD
TZOFFSETFROM:-0400
TZOFFSETTO:-0500
TZNAME:EST
DTSTART:20251102T060000
END:STANDARD
BEGIN:DAYLIGHT
TZOFFSETFROM:-0500
TZOFFSETTO:-0400
TZNAME:EDT
DTSTART:20260308T070000
END:DAYLIGHT
BEGIN:STANDARD
TZOFFSETFROM:-0400
TZOFFSETTO:-0500
TZNAME:EST
DTSTART:20261101T060000
END:STANDARD
END:VTIMEZONE
BEGIN:VEVENT
DTSTART;TZID=America/New_York:20251201T160000
DTEND;TZID=America/New_York:20251201T170000
DTSTAMP:20260421T221528
CREATED:20250903T213057Z
LAST-MODIFIED:20251125T150016Z
UID:10001193-1764604800-1764608400@www.maryvillecollege.edu
SUMMARY:Bible Study
DESCRIPTION:
URL:https://www.maryvillecollege.edu/event/bible-study-25/
LOCATION:Maryville College\, Maryville\, TN\, 37804\, United States
CATEGORIES:Center for Campus Ministry
END:VEVENT
BEGIN:VEVENT
DTSTART;TZID=America/New_York:20251202T131500
DTEND;TZID=America/New_York:20251202T135000
DTSTAMP:20260421T221528
CREATED:20250728T191534Z
LAST-MODIFIED:20251202T151617Z
UID:10000573-1764681300-1764683400@www.maryvillecollege.edu
SUMMARY:Chapel
DESCRIPTION:
URL:https://www.maryvillecollege.edu/event/chapel-15/
LOCATION:Center for Campus Ministry (CCM)
CATEGORIES:Center for Campus Ministry
END:VEVENT
BEGIN:VEVENT
DTSTART;TZID=America/New_York:20251202T170000
DTEND;TZID=America/New_York:20251202T180000
DTSTAMP:20260421T221528
CREATED:20250827T193645Z
LAST-MODIFIED:20251126T204514Z
UID:10001092-1764694800-1764698400@www.maryvillecollege.edu
SUMMARY:World Cup Coffee
DESCRIPTION:
URL:https://www.maryvillecollege.edu/event/world-cup-coffee-14/
LOCATION:Center for Campus Ministry (CCM)
CATEGORIES:Center for Campus Ministry,Global Engagement Events
END:VEVENT
BEGIN:VEVENT
DTSTART;TZID=America/New_York:20251203T150000
DTEND;TZID=America/New_York:20251203T170000
DTSTAMP:20260421T221528
CREATED:20250903T213101Z
LAST-MODIFIED:20251202T151617Z
UID:10001195-1764774000-1764781200@www.maryvillecollege.edu
SUMMARY:College Hill Lights Setup
DESCRIPTION:
URL:https://www.maryvillecollege.edu/event/college-hill-lights-setup/
LOCATION:MC Sidewalks
CATEGORIES:Center for Campus Ministry
END:VEVENT
BEGIN:VEVENT
DTSTART;TZID=America/New_York:20251203T180000
DTEND;TZID=America/New_York:20251203T183000
DTSTAMP:20260421T221528
CREATED:20250903T213102Z
LAST-MODIFIED:20251202T151617Z
UID:10001197-1764784800-1764786600@www.maryvillecollege.edu
SUMMARY:College Hill Lights - Caroling
DESCRIPTION:
URL:https://www.maryvillecollege.edu/event/college-hill-lights-caroling/
LOCATION:Maryville College\, Maryville\, TN\, 37804\, United States
CATEGORIES:Center for Campus Ministry
END:VEVENT
BEGIN:VEVENT
DTSTART;TZID=America/New_York:20251203T183000
DTEND;TZID=America/New_York:20251203T193000
DTSTAMP:20260421T221528
CREATED:20250903T213102Z
LAST-MODIFIED:20251202T151617Z
UID:10001196-1764786600-1764790200@www.maryvillecollege.edu
SUMMARY:Candlelight Service
DESCRIPTION:
URL:https://www.maryvillecollege.edu/event/candlelight-service/
LOCATION:Maryville College\, Maryville\, TN\, 37804\, United States
CATEGORIES:Center for Campus Ministry
END:VEVENT
BEGIN:VEVENT
DTSTART;TZID=America/New_York:20251209T170000
DTEND;TZID=America/New_York:20251209T180000
DTSTAMP:20260421T221528
CREATED:20250827T193646Z
LAST-MODIFIED:20251203T204515Z
UID:10001093-1765299600-1765303200@www.maryvillecollege.edu
SUMMARY:World Cup Coffee
DESCRIPTION:
URL:https://www.maryvillecollege.edu/event/world-cup-coffee-15/
LOCATION:Center for Campus Ministry (CCM)
CATEGORIES:Center for Campus Ministry,Global Engagement Events
END:VEVENT
BEGIN:VEVENT
DTSTART;TZID=America/New_York:20251216T170000
DTEND;TZID=America/New_York:20251216T180000
DTSTAMP:20260421T221528
CREATED:20250827T193647Z
LAST-MODIFIED:20251210T204513Z
UID:10001094-1765904400-1765908000@www.maryvillecollege.edu
SUMMARY:World Cup Coffee
DESCRIPTION:
URL:https://www.maryvillecollege.edu/event/world-cup-coffee-16/
LOCATION:Center for Campus Ministry (CCM)
CATEGORIES:Center for Campus Ministry,Global Engagement Events
END:VEVENT
END:VCALENDAR