BEGIN:VCALENDAR
VERSION:2.0
PRODID:-//Maryville College - ECPv6.15.20//NONSGML v1.0//EN
CALSCALE:GREGORIAN
METHOD:PUBLISH
X-WR-CALNAME:Maryville College
X-ORIGINAL-URL:https://www.maryvillecollege.edu
X-WR-CALDESC:Events for Maryville College
REFRESH-INTERVAL;VALUE=DURATION:PT1H
X-Robots-Tag:noindex
X-PUBLISHED-TTL:PT1H
BEGIN:VTIMEZONE
TZID:America/New_York
BEGIN:DAYLIGHT
TZOFFSETFROM:-0500
TZOFFSETTO:-0400
TZNAME:EDT
DTSTART:20250309T070000
END:DAYLIGHT
BEGIN:STANDARD
TZOFFSETFROM:-0400
TZOFFSETTO:-0500
TZNAME:EST
DTSTART:20251102T060000
END:STANDARD
BEGIN:DAYLIGHT
TZOFFSETFROM:-0500
TZOFFSETTO:-0400
TZNAME:EDT
DTSTART:20260308T070000
END:DAYLIGHT
BEGIN:STANDARD
TZOFFSETFROM:-0400
TZOFFSETTO:-0500
TZNAME:EST
DTSTART:20261101T060000
END:STANDARD
BEGIN:DAYLIGHT
TZOFFSETFROM:-0500
TZOFFSETTO:-0400
TZNAME:EDT
DTSTART:20270314T070000
END:DAYLIGHT
BEGIN:STANDARD
TZOFFSETFROM:-0400
TZOFFSETTO:-0500
TZNAME:EST
DTSTART:20271107T060000
END:STANDARD
END:VTIMEZONE
BEGIN:VEVENT
DTSTART;TZID=America/New_York:20260224T131500
DTEND;TZID=America/New_York:20260224T135000
DTSTAMP:20260421T191102
CREATED:20250728T191539Z
LAST-MODIFIED:20260224T163047Z
UID:10000580-1771938900-1771941000@www.maryvillecollege.edu
SUMMARY:Chapel
DESCRIPTION:
URL:https://www.maryvillecollege.edu/event/chapel-21/
LOCATION:Center for Campus Ministry (CCM)
CATEGORIES:Center for Campus Ministry
END:VEVENT
BEGIN:VEVENT
DTSTART;TZID=America/New_York:20260224T170000
DTEND;TZID=America/New_York:20260224T180000
DTSTAMP:20260421T191102
CREATED:20250903T213123Z
LAST-MODIFIED:20250918T145358Z
UID:10001221-1771952400-1771956000@www.maryvillecollege.edu
SUMMARY:World Cup Coffee
DESCRIPTION:
URL:https://www.maryvillecollege.edu/event/world-cup-coffee-35/
LOCATION:Center for Campus Ministry (CCM)
CATEGORIES:Center for Campus Ministry,Global Engagement Events
END:VEVENT
END:VCALENDAR