BEGIN:VCALENDAR
VERSION:2.0
PRODID:-//Maryville College - ECPv6.15.20//NONSGML v1.0//EN
CALSCALE:GREGORIAN
METHOD:PUBLISH
X-ORIGINAL-URL:https://www.maryvillecollege.edu
X-WR-CALDESC:Events for Maryville College
REFRESH-INTERVAL;VALUE=DURATION:PT1H
X-Robots-Tag:noindex
X-PUBLISHED-TTL:PT1H
BEGIN:VTIMEZONE
TZID:America/New_York
BEGIN:DAYLIGHT
TZOFFSETFROM:-0500
TZOFFSETTO:-0400
TZNAME:EDT
DTSTART:20240310T070000
END:DAYLIGHT
BEGIN:STANDARD
TZOFFSETFROM:-0400
TZOFFSETTO:-0500
TZNAME:EST
DTSTART:20241103T060000
END:STANDARD
BEGIN:DAYLIGHT
TZOFFSETFROM:-0500
TZOFFSETTO:-0400
TZNAME:EDT
DTSTART:20250309T070000
END:DAYLIGHT
BEGIN:STANDARD
TZOFFSETFROM:-0400
TZOFFSETTO:-0500
TZNAME:EST
DTSTART:20251102T060000
END:STANDARD
BEGIN:DAYLIGHT
TZOFFSETFROM:-0500
TZOFFSETTO:-0400
TZNAME:EDT
DTSTART:20260308T070000
END:DAYLIGHT
BEGIN:STANDARD
TZOFFSETFROM:-0400
TZOFFSETTO:-0500
TZNAME:EST
DTSTART:20261101T060000
END:STANDARD
BEGIN:DAYLIGHT
TZOFFSETFROM:-0500
TZOFFSETTO:-0400
TZNAME:EDT
DTSTART:20270314T070000
END:DAYLIGHT
BEGIN:STANDARD
TZOFFSETFROM:-0400
TZOFFSETTO:-0500
TZNAME:EST
DTSTART:20271107T060000
END:STANDARD
END:VTIMEZONE
BEGIN:VEVENT
DTSTART;TZID=America/New_York:20251121T110000
DTEND;TZID=America/New_York:20251121T120000
DTSTAMP:20260422T042558
CREATED:20250903T213054Z
LAST-MODIFIED:20251118T144521Z
UID:10001190-1763722800-1763726400@www.maryvillecollege.edu
SUMMARY:Bible Study
DESCRIPTION:
URL:https://www.maryvillecollege.edu/event/bible-study-23/
LOCATION:Maryville College\, Maryville\, TN\, 37804\, United States
CATEGORIES:Center for Campus Ministry
END:VEVENT
BEGIN:VEVENT
DTSTART;TZID=America/New_York:20251124T160000
DTEND;TZID=America/New_York:20251124T170000
DTSTAMP:20260422T042558
CREATED:20250903T213055Z
LAST-MODIFIED:20251118T144521Z
UID:10001191-1764000000-1764003600@www.maryvillecollege.edu
SUMMARY:Bible Study
DESCRIPTION:
URL:https://www.maryvillecollege.edu/event/bible-study-24/
LOCATION:Maryville College\, Maryville\, TN\, 37804\, United States
CATEGORIES:Center for Campus Ministry
END:VEVENT
BEGIN:VEVENT
DTSTART;TZID=America/New_York:20251125T131500
DTEND;TZID=America/New_York:20251125T135000
DTSTAMP:20260422T042558
CREATED:20250728T191533Z
LAST-MODIFIED:20251125T150015Z
UID:10000572-1764076500-1764078600@www.maryvillecollege.edu
SUMMARY:Chapel
DESCRIPTION:
URL:https://www.maryvillecollege.edu/event/chapel-14/
LOCATION:Center for Campus Ministry (CCM)
CATEGORIES:Center for Campus Ministry
END:VEVENT
BEGIN:VEVENT
DTSTART;TZID=America/New_York:20251125T170000
DTEND;TZID=America/New_York:20251125T180000
DTSTAMP:20260422T042558
CREATED:20250827T193645Z
LAST-MODIFIED:20251119T204517Z
UID:10001091-1764090000-1764093600@www.maryvillecollege.edu
SUMMARY:World Cup Coffee
DESCRIPTION:
URL:https://www.maryvillecollege.edu/event/world-cup-coffee-13/
LOCATION:Center for Campus Ministry (CCM)
CATEGORIES:Center for Campus Ministry,Global Engagement Events
END:VEVENT
BEGIN:VEVENT
DTSTART;TZID=America/New_York:20251201T160000
DTEND;TZID=America/New_York:20251201T170000
DTSTAMP:20260422T042558
CREATED:20250903T213057Z
LAST-MODIFIED:20251125T150016Z
UID:10001193-1764604800-1764608400@www.maryvillecollege.edu
SUMMARY:Bible Study
DESCRIPTION:
URL:https://www.maryvillecollege.edu/event/bible-study-25/
LOCATION:Maryville College\, Maryville\, TN\, 37804\, United States
CATEGORIES:Center for Campus Ministry
END:VEVENT
BEGIN:VEVENT
DTSTART;TZID=America/New_York:20251202T131500
DTEND;TZID=America/New_York:20251202T135000
DTSTAMP:20260422T042558
CREATED:20250728T191534Z
LAST-MODIFIED:20251202T151617Z
UID:10000573-1764681300-1764683400@www.maryvillecollege.edu
SUMMARY:Chapel
DESCRIPTION:
URL:https://www.maryvillecollege.edu/event/chapel-15/
LOCATION:Center for Campus Ministry (CCM)
CATEGORIES:Center for Campus Ministry
END:VEVENT
BEGIN:VEVENT
DTSTART;TZID=America/New_York:20251202T170000
DTEND;TZID=America/New_York:20251202T180000
DTSTAMP:20260422T042558
CREATED:20250827T193645Z
LAST-MODIFIED:20251126T204514Z
UID:10001092-1764694800-1764698400@www.maryvillecollege.edu
SUMMARY:World Cup Coffee
DESCRIPTION:
URL:https://www.maryvillecollege.edu/event/world-cup-coffee-14/
LOCATION:Center for Campus Ministry (CCM)
CATEGORIES:Center for Campus Ministry,Global Engagement Events
END:VEVENT
BEGIN:VEVENT
DTSTART;TZID=America/New_York:20251203T150000
DTEND;TZID=America/New_York:20251203T170000
DTSTAMP:20260422T042558
CREATED:20250903T213101Z
LAST-MODIFIED:20251202T151617Z
UID:10001195-1764774000-1764781200@www.maryvillecollege.edu
SUMMARY:College Hill Lights Setup
DESCRIPTION:
URL:https://www.maryvillecollege.edu/event/college-hill-lights-setup/
LOCATION:MC Sidewalks
CATEGORIES:Center for Campus Ministry
END:VEVENT
BEGIN:VEVENT
DTSTART;TZID=America/New_York:20251203T180000
DTEND;TZID=America/New_York:20251203T183000
DTSTAMP:20260422T042558
CREATED:20250903T213102Z
LAST-MODIFIED:20251202T151617Z
UID:10001197-1764784800-1764786600@www.maryvillecollege.edu
SUMMARY:College Hill Lights - Caroling
DESCRIPTION:
URL:https://www.maryvillecollege.edu/event/college-hill-lights-caroling/
LOCATION:Maryville College\, Maryville\, TN\, 37804\, United States
CATEGORIES:Center for Campus Ministry
END:VEVENT
BEGIN:VEVENT
DTSTART;TZID=America/New_York:20251203T183000
DTEND;TZID=America/New_York:20251203T193000
DTSTAMP:20260422T042558
CREATED:20250903T213102Z
LAST-MODIFIED:20251202T151617Z
UID:10001196-1764786600-1764790200@www.maryvillecollege.edu
SUMMARY:Candlelight Service
DESCRIPTION:
URL:https://www.maryvillecollege.edu/event/candlelight-service/
LOCATION:Maryville College\, Maryville\, TN\, 37804\, United States
CATEGORIES:Center for Campus Ministry
END:VEVENT
BEGIN:VEVENT
DTSTART;TZID=America/New_York:20251209T170000
DTEND;TZID=America/New_York:20251209T180000
DTSTAMP:20260422T042558
CREATED:20250827T193646Z
LAST-MODIFIED:20251203T204515Z
UID:10001093-1765299600-1765303200@www.maryvillecollege.edu
SUMMARY:World Cup Coffee
DESCRIPTION:
URL:https://www.maryvillecollege.edu/event/world-cup-coffee-15/
LOCATION:Center for Campus Ministry (CCM)
CATEGORIES:Center for Campus Ministry,Global Engagement Events
END:VEVENT
BEGIN:VEVENT
DTSTART;TZID=America/New_York:20251216T170000
DTEND;TZID=America/New_York:20251216T180000
DTSTAMP:20260422T042558
CREATED:20250827T193647Z
LAST-MODIFIED:20251210T204513Z
UID:10001094-1765904400-1765908000@www.maryvillecollege.edu
SUMMARY:World Cup Coffee
DESCRIPTION:
URL:https://www.maryvillecollege.edu/event/world-cup-coffee-16/
LOCATION:Center for Campus Ministry (CCM)
CATEGORIES:Center for Campus Ministry,Global Engagement Events
END:VEVENT
BEGIN:VEVENT
DTSTART;TZID=America/New_York:20260115T160000
DTEND;TZID=America/New_York:20260115T170000
DTSTAMP:20260422T042558
CREATED:20250903T213103Z
LAST-MODIFIED:20260113T153017Z
UID:10001198-1768492800-1768496400@www.maryvillecollege.edu
SUMMARY:Jam Session
DESCRIPTION:
URL:https://www.maryvillecollege.edu/event/jam-session-13/
LOCATION:Maryville College\, Maryville\, TN\, 37804\, United States
CATEGORIES:Center for Campus Ministry
END:VEVENT
BEGIN:VEVENT
DTSTART;TZID=America/New_York:20260116T110000
DTEND;TZID=America/New_York:20260116T120000
DTSTAMP:20260422T042558
CREATED:20250903T213103Z
LAST-MODIFIED:20260113T153017Z
UID:10001199-1768561200-1768564800@www.maryvillecollege.edu
SUMMARY:Bible Study
DESCRIPTION:
URL:https://www.maryvillecollege.edu/event/bible-study-26/
LOCATION:Maryville College\, Maryville\, TN\, 37804\, United States
CATEGORIES:Center for Campus Ministry
END:VEVENT
BEGIN:VEVENT
DTSTART;TZID=America/New_York:20260119T160000
DTEND;TZID=America/New_York:20260119T170000
DTSTAMP:20260422T042558
CREATED:20250903T213104Z
LAST-MODIFIED:20260113T153018Z
UID:10001200-1768838400-1768842000@www.maryvillecollege.edu
SUMMARY:Bible Study
DESCRIPTION:
URL:https://www.maryvillecollege.edu/event/bible-study-27/
LOCATION:Maryville College\, Maryville\, TN\, 37804\, United States
CATEGORIES:Center for Campus Ministry
END:VEVENT
BEGIN:VEVENT
DTSTART;TZID=America/New_York:20260120T131500
DTEND;TZID=America/New_York:20260120T135000
DTSTAMP:20260422T042558
CREATED:20250728T191535Z
LAST-MODIFIED:20260120T153057Z
UID:10000574-1768914900-1768917000@www.maryvillecollege.edu
SUMMARY:Chapel
DESCRIPTION:
URL:https://www.maryvillecollege.edu/event/chapel-16/
LOCATION:Center for Campus Ministry (CCM)
CATEGORIES:Center for Campus Ministry
END:VEVENT
BEGIN:VEVENT
DTSTART;TZID=America/New_York:20260120T170000
DTEND;TZID=America/New_York:20260120T180000
DTSTAMP:20260422T042558
CREATED:20250903T213107Z
LAST-MODIFIED:20250918T145358Z
UID:10001201-1768928400-1768932000@www.maryvillecollege.edu
SUMMARY:World Cup Coffee
DESCRIPTION:
URL:https://www.maryvillecollege.edu/event/world-cup-coffee-30/
LOCATION:Center for Campus Ministry (CCM)
CATEGORIES:Center for Campus Ministry,Global Engagement Events
END:VEVENT
BEGIN:VEVENT
DTSTART;TZID=America/New_York:20260122T160000
DTEND;TZID=America/New_York:20260122T170000
DTSTAMP:20260422T042558
CREATED:20250903T213107Z
LAST-MODIFIED:20260120T153057Z
UID:10001202-1769097600-1769101200@www.maryvillecollege.edu
SUMMARY:Jam Session
DESCRIPTION:
URL:https://www.maryvillecollege.edu/event/jam-session-14/
LOCATION:Maryville College\, Maryville\, TN\, 37804\, United States
CATEGORIES:Center for Campus Ministry
END:VEVENT
BEGIN:VEVENT
DTSTART;TZID=America/New_York:20260123T110000
DTEND;TZID=America/New_York:20260123T120000
DTSTAMP:20260422T042558
CREATED:20250903T213108Z
LAST-MODIFIED:20260120T153057Z
UID:10001203-1769166000-1769169600@www.maryvillecollege.edu
SUMMARY:Bible Study
DESCRIPTION:
URL:https://www.maryvillecollege.edu/event/bible-study-28/
LOCATION:Maryville College\, Maryville\, TN\, 37804\, United States
CATEGORIES:Center for Campus Ministry
END:VEVENT
BEGIN:VEVENT
DTSTART;TZID=America/New_York:20260126T160000
DTEND;TZID=America/New_York:20260126T170000
DTSTAMP:20260422T042558
CREATED:20250903T213109Z
LAST-MODIFIED:20260126T184240Z
UID:10001204-1769443200-1769446800@www.maryvillecollege.edu
SUMMARY:CANCELED: Bible Study
DESCRIPTION:
URL:https://www.maryvillecollege.edu/event/bible-study-29/
LOCATION:Maryville College\, Maryville\, TN\, 37804\, United States
CATEGORIES:Center for Campus Ministry
END:VEVENT
BEGIN:VEVENT
DTSTART;TZID=America/New_York:20260127T131500
DTEND;TZID=America/New_York:20260127T135000
DTSTAMP:20260422T042558
CREATED:20250728T191535Z
LAST-MODIFIED:20260127T153015Z
UID:10000575-1769519700-1769521800@www.maryvillecollege.edu
SUMMARY:ZOOM: Chapel
DESCRIPTION:Check Today@MC email for link
URL:https://www.maryvillecollege.edu/event/chapel-17/
LOCATION:Center for Campus Ministry (CCM)
CATEGORIES:Center for Campus Ministry
END:VEVENT
BEGIN:VEVENT
DTSTART;TZID=America/New_York:20260127T170000
DTEND;TZID=America/New_York:20260127T180000
DTSTAMP:20260422T042558
CREATED:20250903T213110Z
LAST-MODIFIED:20260126T211454Z
UID:10001205-1769533200-1769536800@www.maryvillecollege.edu
SUMMARY:CANCELED: World Cup Coffee
DESCRIPTION:
URL:https://www.maryvillecollege.edu/event/world-cup-coffee-31/
LOCATION:Center for Campus Ministry (CCM)
CATEGORIES:Center for Campus Ministry,Global Engagement Events
END:VEVENT
BEGIN:VEVENT
DTSTART;TZID=America/New_York:20260129T160000
DTEND;TZID=America/New_York:20260129T170000
DTSTAMP:20260422T042558
CREATED:20250903T213110Z
LAST-MODIFIED:20260127T153015Z
UID:10001206-1769702400-1769706000@www.maryvillecollege.edu
SUMMARY:Jam Session
DESCRIPTION:
URL:https://www.maryvillecollege.edu/event/jam-session-15/
LOCATION:Maryville College\, Maryville\, TN\, 37804\, United States
CATEGORIES:Center for Campus Ministry
END:VEVENT
BEGIN:VEVENT
DTSTART;TZID=America/New_York:20260130T110000
DTEND;TZID=America/New_York:20260130T120000
DTSTAMP:20260422T042558
CREATED:20250903T213111Z
LAST-MODIFIED:20260127T153016Z
UID:10001207-1769770800-1769774400@www.maryvillecollege.edu
SUMMARY:Bible Study
DESCRIPTION:
URL:https://www.maryvillecollege.edu/event/bible-study-30/
LOCATION:Maryville College\, Maryville\, TN\, 37804\, United States
CATEGORIES:Center for Campus Ministry
END:VEVENT
BEGIN:VEVENT
DTSTART;TZID=America/New_York:20260202T160000
DTEND;TZID=America/New_York:20260202T170000
DTSTAMP:20260422T042558
CREATED:20250903T213112Z
LAST-MODIFIED:20260202T140840Z
UID:10001208-1770048000-1770051600@www.maryvillecollege.edu
SUMMARY:CANCELED: Bible Study
DESCRIPTION:
URL:https://www.maryvillecollege.edu/event/bible-study-31/
LOCATION:Maryville College\, Maryville\, TN\, 37804\, United States
CATEGORIES:Center for Campus Ministry
END:VEVENT
BEGIN:VEVENT
DTSTART;TZID=America/New_York:20260203T131500
DTEND;TZID=America/New_York:20260203T135000
DTSTAMP:20260422T042558
CREATED:20250728T191536Z
LAST-MODIFIED:20260203T153017Z
UID:10000576-1770124500-1770126600@www.maryvillecollege.edu
SUMMARY:Chapel
DESCRIPTION:
URL:https://www.maryvillecollege.edu/event/chapel-18/
LOCATION:Center for Campus Ministry (CCM)
CATEGORIES:Center for Campus Ministry
END:VEVENT
BEGIN:VEVENT
DTSTART;TZID=America/New_York:20260203T170000
DTEND;TZID=America/New_York:20260203T180000
DTSTAMP:20260422T042558
CREATED:20250903T213113Z
LAST-MODIFIED:20250918T145358Z
UID:10001209-1770138000-1770141600@www.maryvillecollege.edu
SUMMARY:World Cup Coffee
DESCRIPTION:
URL:https://www.maryvillecollege.edu/event/world-cup-coffee-32/
LOCATION:Center for Campus Ministry (CCM)
CATEGORIES:Center for Campus Ministry,Global Engagement Events
END:VEVENT
BEGIN:VEVENT
DTSTART;TZID=America/New_York:20260205T160000
DTEND;TZID=America/New_York:20260205T170000
DTSTAMP:20260422T042558
CREATED:20250903T213114Z
LAST-MODIFIED:20260203T153018Z
UID:10001210-1770307200-1770310800@www.maryvillecollege.edu
SUMMARY:Jam Session
DESCRIPTION:
URL:https://www.maryvillecollege.edu/event/jam-session-16/
LOCATION:Maryville College\, Maryville\, TN\, 37804\, United States
CATEGORIES:Center for Campus Ministry
END:VEVENT
BEGIN:VEVENT
DTSTART;TZID=America/New_York:20260206T110000
DTEND;TZID=America/New_York:20260206T120000
DTSTAMP:20260422T042558
CREATED:20250903T213114Z
LAST-MODIFIED:20260203T153019Z
UID:10001211-1770375600-1770379200@www.maryvillecollege.edu
SUMMARY:Bible Study
DESCRIPTION:
URL:https://www.maryvillecollege.edu/event/bible-study-32/
LOCATION:Maryville College\, Maryville\, TN\, 37804\, United States
CATEGORIES:Center for Campus Ministry
END:VEVENT
BEGIN:VEVENT
DTSTART;TZID=America/New_York:20260209T160000
DTEND;TZID=America/New_York:20260209T170000
DTSTAMP:20260422T042558
CREATED:20250903T213115Z
LAST-MODIFIED:20260203T153019Z
UID:10001212-1770652800-1770656400@www.maryvillecollege.edu
SUMMARY:Bible Study
DESCRIPTION:
URL:https://www.maryvillecollege.edu/event/bible-study-33/
LOCATION:Maryville College\, Maryville\, TN\, 37804\, United States
CATEGORIES:Center for Campus Ministry
END:VEVENT
END:VCALENDAR