BEGIN:VCALENDAR
VERSION:2.0
PRODID:-//Maryville College - ECPv6.15.20//NONSGML v1.0//EN
CALSCALE:GREGORIAN
METHOD:PUBLISH
X-WR-CALNAME:Maryville College
X-ORIGINAL-URL:https://www.maryvillecollege.edu
X-WR-CALDESC:Events for Maryville College
REFRESH-INTERVAL;VALUE=DURATION:PT1H
X-Robots-Tag:noindex
X-PUBLISHED-TTL:PT1H
BEGIN:VTIMEZONE
TZID:America/New_York
BEGIN:DAYLIGHT
TZOFFSETFROM:-0500
TZOFFSETTO:-0400
TZNAME:EDT
DTSTART:20240310T070000
END:DAYLIGHT
BEGIN:STANDARD
TZOFFSETFROM:-0400
TZOFFSETTO:-0500
TZNAME:EST
DTSTART:20241103T060000
END:STANDARD
BEGIN:DAYLIGHT
TZOFFSETFROM:-0500
TZOFFSETTO:-0400
TZNAME:EDT
DTSTART:20250309T070000
END:DAYLIGHT
BEGIN:STANDARD
TZOFFSETFROM:-0400
TZOFFSETTO:-0500
TZNAME:EST
DTSTART:20251102T060000
END:STANDARD
BEGIN:DAYLIGHT
TZOFFSETFROM:-0500
TZOFFSETTO:-0400
TZNAME:EDT
DTSTART:20260308T070000
END:DAYLIGHT
BEGIN:STANDARD
TZOFFSETFROM:-0400
TZOFFSETTO:-0500
TZNAME:EST
DTSTART:20261101T060000
END:STANDARD
END:VTIMEZONE
BEGIN:VEVENT
DTSTART;TZID=America/New_York:20251023T160000
DTEND;TZID=America/New_York:20251023T170000
DTSTAMP:20260422T012309
CREATED:20250903T213040Z
LAST-MODIFIED:20251021T143017Z
UID:10001172-1761235200-1761238800@www.maryvillecollege.edu
SUMMARY:Jam Session
DESCRIPTION:
URL:https://www.maryvillecollege.edu/event/jam-session-8/
LOCATION:Maryville College\, Maryville\, 37804\, United States
CATEGORIES:Center for Campus Ministry
END:VEVENT
BEGIN:VEVENT
DTSTART;TZID=America/New_York:20251021T170000
DTEND;TZID=America/New_York:20251021T180000
DTSTAMP:20260422T012309
CREATED:20250827T193641Z
LAST-MODIFIED:20251015T204517Z
UID:10001086-1761066000-1761069600@www.maryvillecollege.edu
SUMMARY:World Cup Coffee
DESCRIPTION:
URL:https://www.maryvillecollege.edu/event/world-cup-coffee-8/
LOCATION:Center for Campus Ministry (CCM)
CATEGORIES:Center for Campus Ministry,Global Engagement Events
END:VEVENT
BEGIN:VEVENT
DTSTART;TZID=America/New_York:20251021T131500
DTEND;TZID=America/New_York:20251021T135000
DTSTAMP:20260422T012309
CREATED:20250728T191531Z
LAST-MODIFIED:20251021T143016Z
UID:10000567-1761052500-1761054600@www.maryvillecollege.edu
SUMMARY:Chapel
DESCRIPTION:
URL:https://www.maryvillecollege.edu/event/chapel-9/
LOCATION:Center for Campus Ministry (CCM)
CATEGORIES:Center for Campus Ministry
END:VEVENT
BEGIN:VEVENT
DTSTART;TZID=America/New_York:20251020T160000
DTEND;TZID=America/New_York:20251020T170000
DTSTAMP:20260422T012309
CREATED:20250903T213039Z
LAST-MODIFIED:20251014T143113Z
UID:10001170-1760976000-1760979600@www.maryvillecollege.edu
SUMMARY:Bible Study
DESCRIPTION:
URL:https://www.maryvillecollege.edu/event/bible-study-14/
LOCATION:Maryville College\, Maryville\, 37804\, United States
CATEGORIES:Center for Campus Ministry
END:VEVENT
BEGIN:VEVENT
DTSTART;TZID=America/New_York:20251017T110000
DTEND;TZID=America/New_York:20251017T120000
DTSTAMP:20260422T012309
CREATED:20250903T213038Z
LAST-MODIFIED:20251014T143113Z
UID:10001169-1760698800-1760702400@www.maryvillecollege.edu
SUMMARY:Bible Study
DESCRIPTION:
URL:https://www.maryvillecollege.edu/event/bible-study-13/
LOCATION:Maryville College\, Maryville\, 37804\, United States
CATEGORIES:Center for Campus Ministry
END:VEVENT
BEGIN:VEVENT
DTSTART;TZID=America/New_York:20251016T160000
DTEND;TZID=America/New_York:20251016T170000
DTSTAMP:20260422T012309
CREATED:20250903T213037Z
LAST-MODIFIED:20251014T143113Z
UID:10001168-1760630400-1760634000@www.maryvillecollege.edu
SUMMARY:Jam Session
DESCRIPTION:
URL:https://www.maryvillecollege.edu/event/jam-session-7/
LOCATION:Maryville College\, Maryville\, 37804\, United States
CATEGORIES:Center for Campus Ministry
END:VEVENT
BEGIN:VEVENT
DTSTART;TZID=America/New_York:20251014T170000
DTEND;TZID=America/New_York:20251014T180000
DTSTAMP:20260422T012309
CREATED:20250827T193640Z
LAST-MODIFIED:20251008T203015Z
UID:10001085-1760461200-1760464800@www.maryvillecollege.edu
SUMMARY:World Cup Coffee
DESCRIPTION:
URL:https://www.maryvillecollege.edu/event/world-cup-coffee-7/
LOCATION:Center for Campus Ministry (CCM)
CATEGORIES:Center for Campus Ministry,Global Engagement Events
END:VEVENT
BEGIN:VEVENT
DTSTART;TZID=America/New_York:20251014T131500
DTEND;TZID=America/New_York:20251014T135000
DTSTAMP:20260422T012309
CREATED:20250728T191530Z
LAST-MODIFIED:20251014T143113Z
UID:10000566-1760447700-1760449800@www.maryvillecollege.edu
SUMMARY:Chapel
DESCRIPTION:
URL:https://www.maryvillecollege.edu/event/chapel-8/
LOCATION:Center for Campus Ministry (CCM)
CATEGORIES:Center for Campus Ministry
END:VEVENT
BEGIN:VEVENT
DTSTART;TZID=America/New_York:20251013T160000
DTEND;TZID=America/New_York:20251013T170000
DTSTAMP:20260422T012309
CREATED:20250903T213034Z
LAST-MODIFIED:20251007T143027Z
UID:10001166-1760371200-1760374800@www.maryvillecollege.edu
SUMMARY:Bible Study
DESCRIPTION:
URL:https://www.maryvillecollege.edu/event/bible-study-12/
LOCATION:Maryville College\, Maryville\, 37804\, United States
CATEGORIES:Center for Campus Ministry
END:VEVENT
BEGIN:VEVENT
DTSTART;TZID=America/New_York:20251012T100000
DTEND;TZID=America/New_York:20251012T110000
DTSTAMP:20260422T012309
CREATED:20250903T213034Z
LAST-MODIFIED:20251007T143026Z
UID:10001165-1760263200-1760266800@www.maryvillecollege.edu
SUMMARY:Service of Remembrance
DESCRIPTION:
URL:https://www.maryvillecollege.edu/event/service-of-remembrance/
LOCATION:Maryville College\, Maryville\, 37804\, United States
CATEGORIES:Center for Campus Ministry
END:VEVENT
BEGIN:VEVENT
DTSTART;TZID=America/New_York:20251010T110000
DTEND;TZID=America/New_York:20251010T120000
DTSTAMP:20260422T012309
CREATED:20250903T213033Z
LAST-MODIFIED:20251007T143025Z
UID:10001164-1760094000-1760097600@www.maryvillecollege.edu
SUMMARY:Bible Study
DESCRIPTION:
URL:https://www.maryvillecollege.edu/event/bible-study-11/
LOCATION:Maryville College\, Maryville\, 37804\, United States
CATEGORIES:Center for Campus Ministry
END:VEVENT
BEGIN:VEVENT
DTSTART;TZID=America/New_York:20251009T160000
DTEND;TZID=America/New_York:20251009T170000
DTSTAMP:20260422T012309
CREATED:20250903T213033Z
LAST-MODIFIED:20251007T143024Z
UID:10001163-1760025600-1760029200@www.maryvillecollege.edu
SUMMARY:Jam Session
DESCRIPTION:
URL:https://www.maryvillecollege.edu/event/jam-session-6/
LOCATION:Maryville College\, Maryville\, 37804\, United States
CATEGORIES:Center for Campus Ministry
END:VEVENT
BEGIN:VEVENT
DTSTART;TZID=America/New_York:20251007T170000
DTEND;TZID=America/New_York:20251007T180000
DTSTAMP:20260422T012309
CREATED:20250827T193639Z
LAST-MODIFIED:20251001T200024Z
UID:10001084-1759856400-1759860000@www.maryvillecollege.edu
SUMMARY:World Cup Coffee
DESCRIPTION:
URL:https://www.maryvillecollege.edu/event/world-cup-coffee-6/
LOCATION:Center for Campus Ministry (CCM)
CATEGORIES:Center for Campus Ministry,Global Engagement Events
END:VEVENT
BEGIN:VEVENT
DTSTART;TZID=America/New_York:20251007T131500
DTEND;TZID=America/New_York:20251007T135000
DTSTAMP:20260422T012309
CREATED:20250728T191529Z
LAST-MODIFIED:20250930T141520Z
UID:10000565-1759842900-1759845000@www.maryvillecollege.edu
SUMMARY:Chapel
DESCRIPTION:
URL:https://www.maryvillecollege.edu/event/chapel-7/
LOCATION:Center for Campus Ministry (CCM)
CATEGORIES:Center for Campus Ministry
END:VEVENT
BEGIN:VEVENT
DTSTART;TZID=America/New_York:20251006T160000
DTEND;TZID=America/New_York:20251006T170000
DTSTAMP:20260422T012309
CREATED:20250903T213031Z
LAST-MODIFIED:20250930T141518Z
UID:10001161-1759766400-1759770000@www.maryvillecollege.edu
SUMMARY:Bible Study
DESCRIPTION:
URL:https://www.maryvillecollege.edu/event/bible-study-10/
LOCATION:Maryville College\, Maryville\, 37804\, United States
CATEGORIES:Center for Campus Ministry
END:VEVENT
BEGIN:VEVENT
DTSTART;TZID=America/New_York:20251003T110000
DTEND;TZID=America/New_York:20251003T120000
DTSTAMP:20260422T012309
CREATED:20250903T213030Z
LAST-MODIFIED:20250930T141518Z
UID:10001160-1759489200-1759492800@www.maryvillecollege.edu
SUMMARY:Bible Study
DESCRIPTION:
URL:https://www.maryvillecollege.edu/event/bible-study-9/
LOCATION:Maryville College\, Maryville\, 37804\, United States
CATEGORIES:Center for Campus Ministry
END:VEVENT
BEGIN:VEVENT
DTSTART;TZID=America/New_York:20251002T160000
DTEND;TZID=America/New_York:20251002T170000
DTSTAMP:20260422T012309
CREATED:20250903T213029Z
LAST-MODIFIED:20250930T141517Z
UID:10001159-1759420800-1759424400@www.maryvillecollege.edu
SUMMARY:Jam Session
DESCRIPTION:
URL:https://www.maryvillecollege.edu/event/jam-session-5/
LOCATION:Maryville College\, Maryville\, 37804\, United States
CATEGORIES:Center for Campus Ministry
END:VEVENT
BEGIN:VEVENT
DTSTART;TZID=America/New_York:20250930T170000
DTEND;TZID=America/New_York:20250930T180000
DTSTAMP:20260422T012309
CREATED:20250827T193639Z
LAST-MODIFIED:20250924T200106Z
UID:10001083-1759251600-1759255200@www.maryvillecollege.edu
SUMMARY:World Cup Coffee
DESCRIPTION:
URL:https://www.maryvillecollege.edu/event/world-cup-coffee-5/
LOCATION:Center for Campus Ministry (CCM)
CATEGORIES:Center for Campus Ministry,Global Engagement Events
END:VEVENT
BEGIN:VEVENT
DTSTART;TZID=America/New_York:20250930T131500
DTEND;TZID=America/New_York:20250930T135000
DTSTAMP:20260422T012309
CREATED:20250728T191529Z
LAST-MODIFIED:20250930T141516Z
UID:10000564-1759238100-1759240200@www.maryvillecollege.edu
SUMMARY:Chapel
DESCRIPTION:
URL:https://www.maryvillecollege.edu/event/chapel-6/
LOCATION:Center for Campus Ministry (CCM)
CATEGORIES:Center for Campus Ministry
END:VEVENT
BEGIN:VEVENT
DTSTART;TZID=America/New_York:20250929T160000
DTEND;TZID=America/New_York:20250929T170000
DTSTAMP:20260422T012309
CREATED:20250903T213028Z
LAST-MODIFIED:20250923T141516Z
UID:10001157-1759161600-1759165200@www.maryvillecollege.edu
SUMMARY:Bible Study
DESCRIPTION:
URL:https://www.maryvillecollege.edu/event/bible-study-8/
LOCATION:Maryville College\, Maryville\, 37804\, United States
CATEGORIES:Center for Campus Ministry
END:VEVENT
BEGIN:VEVENT
DTSTART;TZID=America/New_York:20250926T110000
DTEND;TZID=America/New_York:20250926T120000
DTSTAMP:20260422T012309
CREATED:20250903T213027Z
LAST-MODIFIED:20250923T141516Z
UID:10001156-1758884400-1758888000@www.maryvillecollege.edu
SUMMARY:Bible Study
DESCRIPTION:
URL:https://www.maryvillecollege.edu/event/bible-study-7/
LOCATION:Maryville College\, Maryville\, 37804\, United States
CATEGORIES:Center for Campus Ministry
END:VEVENT
BEGIN:VEVENT
DTSTART;TZID=America/New_York:20250925T160000
DTEND;TZID=America/New_York:20250925T170000
DTSTAMP:20260422T012309
CREATED:20250903T213026Z
LAST-MODIFIED:20250923T141515Z
UID:10001155-1758816000-1758819600@www.maryvillecollege.edu
SUMMARY:Jam Session
DESCRIPTION:
URL:https://www.maryvillecollege.edu/event/jam-session-4/
LOCATION:Maryville College\, Maryville\, 37804\, United States
CATEGORIES:Center for Campus Ministry
END:VEVENT
BEGIN:VEVENT
DTSTART;TZID=America/New_York:20250923T170000
DTEND;TZID=America/New_York:20250923T180000
DTSTAMP:20260422T012309
CREATED:20250827T193638Z
LAST-MODIFIED:20250918T145341Z
UID:10001082-1758646800-1758650400@www.maryvillecollege.edu
SUMMARY:World Cup Coffee
DESCRIPTION:
URL:https://www.maryvillecollege.edu/event/world-cup-coffee-4/
LOCATION:Center for Campus Ministry (CCM)
CATEGORIES:Center for Campus Ministry,Global Engagement Events
END:VEVENT
BEGIN:VEVENT
DTSTART;TZID=America/New_York:20250923T131500
DTEND;TZID=America/New_York:20250923T135000
DTSTAMP:20260422T012309
CREATED:20250728T191528Z
LAST-MODIFIED:20250923T141514Z
UID:10000563-1758633300-1758635400@www.maryvillecollege.edu
SUMMARY:Chapel
DESCRIPTION:
URL:https://www.maryvillecollege.edu/event/chapel-5/
LOCATION:Center for Campus Ministry (CCM)
CATEGORIES:Center for Campus Ministry
END:VEVENT
BEGIN:VEVENT
DTSTART;TZID=America/New_York:20250922T160000
DTEND;TZID=America/New_York:20250922T170000
DTSTAMP:20260422T012309
CREATED:20250903T213024Z
LAST-MODIFIED:20250916T141544Z
UID:10001153-1758556800-1758560400@www.maryvillecollege.edu
SUMMARY:Bible Study
DESCRIPTION:
URL:https://www.maryvillecollege.edu/event/bible-study-6/
LOCATION:Maryville College\, Maryville\, 37804\, United States
CATEGORIES:Center for Campus Ministry
END:VEVENT
BEGIN:VEVENT
DTSTART;TZID=America/New_York:20250919T110000
DTEND;TZID=America/New_York:20250919T120000
DTSTAMP:20260422T012309
CREATED:20250903T213024Z
LAST-MODIFIED:20250916T141543Z
UID:10001152-1758279600-1758283200@www.maryvillecollege.edu
SUMMARY:Bible Study
DESCRIPTION:
URL:https://www.maryvillecollege.edu/event/bible-study-5/
LOCATION:Maryville College\, Maryville\, 37804\, United States
CATEGORIES:Center for Campus Ministry
END:VEVENT
BEGIN:VEVENT
DTSTART;TZID=America/New_York:20250918T160000
DTEND;TZID=America/New_York:20250918T170000
DTSTAMP:20260422T012309
CREATED:20250903T213023Z
LAST-MODIFIED:20250916T141543Z
UID:10001151-1758211200-1758214800@www.maryvillecollege.edu
SUMMARY:Jam Session
DESCRIPTION:
URL:https://www.maryvillecollege.edu/event/jam-session-3/
LOCATION:Maryville College\, Maryville\, 37804\, United States
CATEGORIES:Center for Campus Ministry
END:VEVENT
BEGIN:VEVENT
DTSTART;TZID=America/New_York:20250916T170000
DTEND;TZID=America/New_York:20250916T180000
DTSTAMP:20260422T012309
CREATED:20250827T193638Z
LAST-MODIFIED:20250918T145341Z
UID:10001081-1758042000-1758045600@www.maryvillecollege.edu
SUMMARY:World Cup Coffee
DESCRIPTION:
URL:https://www.maryvillecollege.edu/event/world-cup-coffee-3/
LOCATION:Center for Campus Ministry (CCM)
CATEGORIES:Center for Campus Ministry,Global Engagement Events
END:VEVENT
BEGIN:VEVENT
DTSTART;TZID=America/New_York:20250916T131500
DTEND;TZID=America/New_York:20250916T135000
DTSTAMP:20260422T012309
CREATED:20250728T191526Z
LAST-MODIFIED:20250916T141541Z
UID:10000562-1758028500-1758030600@www.maryvillecollege.edu
SUMMARY:Chapel
DESCRIPTION:Speaker: Pastor Trey Ferguson\, author of the book “Theologizin’ Bigger”
URL:https://www.maryvillecollege.edu/event/chapel-4/
LOCATION:Center for Campus Ministry (CCM)
CATEGORIES:Center for Campus Ministry
END:VEVENT
BEGIN:VEVENT
DTSTART;TZID=America/New_York:20250915T160000
DTEND;TZID=America/New_York:20250915T170000
DTSTAMP:20260422T012309
CREATED:20250903T213021Z
LAST-MODIFIED:20250909T141704Z
UID:10001149-1757952000-1757955600@www.maryvillecollege.edu
SUMMARY:Bible Study
DESCRIPTION:
URL:https://www.maryvillecollege.edu/event/bible-study-4/
LOCATION:Maryville College\, Maryville\, 37804\, United States
CATEGORIES:Center for Campus Ministry
END:VEVENT
END:VCALENDAR