BEGIN:VCALENDAR
VERSION:2.0
PRODID:-//Maryville College - ECPv6.15.20//NONSGML v1.0//EN
CALSCALE:GREGORIAN
METHOD:PUBLISH
X-WR-CALNAME:Maryville College
X-ORIGINAL-URL:https://www.maryvillecollege.edu
X-WR-CALDESC:Events for Maryville College
REFRESH-INTERVAL;VALUE=DURATION:PT1H
X-Robots-Tag:noindex
X-PUBLISHED-TTL:PT1H
BEGIN:VTIMEZONE
TZID:America/New_York
BEGIN:DAYLIGHT
TZOFFSETFROM:-0500
TZOFFSETTO:-0400
TZNAME:EDT
DTSTART:20240310T070000
END:DAYLIGHT
BEGIN:STANDARD
TZOFFSETFROM:-0400
TZOFFSETTO:-0500
TZNAME:EST
DTSTART:20241103T060000
END:STANDARD
BEGIN:DAYLIGHT
TZOFFSETFROM:-0500
TZOFFSETTO:-0400
TZNAME:EDT
DTSTART:20250309T070000
END:DAYLIGHT
BEGIN:STANDARD
TZOFFSETFROM:-0400
TZOFFSETTO:-0500
TZNAME:EST
DTSTART:20251102T060000
END:STANDARD
BEGIN:DAYLIGHT
TZOFFSETFROM:-0500
TZOFFSETTO:-0400
TZNAME:EDT
DTSTART:20260308T070000
END:DAYLIGHT
BEGIN:STANDARD
TZOFFSETFROM:-0400
TZOFFSETTO:-0500
TZNAME:EST
DTSTART:20261101T060000
END:STANDARD
END:VTIMEZONE
BEGIN:VEVENT
DTSTART;TZID=America/New_York:20251021T080000
DTEND;TZID=America/New_York:20251219T170000
DTSTAMP:20260421T223918
CREATED:20251021T223025Z
LAST-MODIFIED:20251216T231519Z
UID:10001369-1761033600-1766163600@www.maryvillecollege.edu
SUMMARY:Art Exhibition: Pinkie Mistry
DESCRIPTION:The Clayton Center for the Arts proudly presents a stunning new exhibition by celebrated East Tennessee artist Pinkie Mistry\, whose vibrant oil paintings and monumental public murals have captivated audiences throughout the Smokies region and beyond.\nMistry\, who has transformed the visual landscape of our community with three beloved murals right here in Maryville and thirteen throughout the greater Smokies region\, brings her mastery of oil and canvas to this remarkable gallery presentation. Known for her acclaimed “Wings of Wander” mural series and as the illustrator of five enchanting children’s books\, Mistry continues to build bridges between cultures\, communities\, and the natural world through her art.\nThis extraordinary exhibition showcases four distinct yet harmonious bodies of work that reflect the artist’s diverse inspirations and masterful technique. Visitors will be mesmerized by her evocative series capturing the fluid grace and cultural richness of Indian and Cuban dancers\, where each brushstroke pulses with rhythm and movement. Her collection of twenty luminous butterfly paintings celebrates transformation and migration—themes that resonate deeply with both the artist’s personal journey and our region’s natural heritage. Mistry’s mountain-inspired series pays homage to the majestic Smokies that have long served as both her home and creative muse\, while her deeply textured floral works reveal nature’s intricate beauty through layers of rich\, tactile oil paint.\nDrawing from her East Tennessee roots\, rich cultural heritage\, and extensive world travels\, Mistry creates art that speaks to universal experiences of movement\, beauty\, and belonging. Her bold colors and dynamic themes invite viewers to see their own stories reflected in each carefully crafted canvas.\nJoin us on Tuesday\, October 21 at 5pm to celebrate an artist who has made Maryville and the entire Smokies region more beautiful\, one brush stroke at a time.\n \nGrand Foyer open Monday-Friday 10:00am-4:00pm and during events.
URL:https://www.maryvillecollege.edu/event/art-exhibition-pinkie-mistry/
LOCATION:CCA – William Baxter Lee Grand Foyer\, 502 E Lamar Alexander Pkwy\, Maryville\, TN\, United States
CATEGORIES:Art Exhibit,Clayton Center for the Arts
ATTACH;FMTTYPE=image/jpeg:https://www.maryvillecollege.edu/wp-content/uploads/Calendar/CC-Artist-Recept-FB-Web-hAs5Bi.jpg
GEO:35.754957;-83.965409
X-APPLE-STRUCTURED-LOCATION;VALUE=URI;X-ADDRESS=CCA – William Baxter Lee Grand Foyer 502 E Lamar Alexander Pkwy Maryville TN United States;X-APPLE-RADIUS=500;X-TITLE=502 E Lamar Alexander Pkwy:geo:-83.965409,35.754957
END:VEVENT
BEGIN:VEVENT
DTSTART;TZID=America/New_York:20251030T100000
DTEND;TZID=America/New_York:20251216T160000
DTSTAMP:20260421T223918
CREATED:20251104T224539Z
LAST-MODIFIED:20251209T230019Z
UID:10001407-1761818400-1765900800@www.maryvillecollege.edu
SUMMARY:Canvas of Many Colors Group Exhibition
DESCRIPTION:Inspired by legends like Dolly Parton and the storytelling spirit of country music\, this group exhibition celebrates the heart and soul of the genre through the eyes of local and regional artists.\nCan’t get enough Dolly? Join us for Dolly Parton’s Smoky Mountain Christmas Carol on Saturday\, November 29!\n \nThis exhibition is an independent artistic tribute inspired by the music and legacy of Dolly Parton. It is not affiliated with\, endorsed by\, or sponsored by Dolly Parton\, Dollywood\, or any related entities.
URL:https://www.maryvillecollege.edu/event/canvas-of-many-colors-group-exhibition/
LOCATION:La Dolce Vita Gallery\, 502 E Lamar Alexander Pkwy\, Maryville\, TN\, United States
CATEGORIES:Art Exhibit,Clayton Center for the Arts
ATTACH;FMTTYPE=image/jpeg:https://www.maryvillecollege.edu/wp-content/uploads/Calendar/DOLLY-Show-16x9-1-8xm8EL.jpg
ORGANIZER;CN="Clayton Center for the Arts":MAILTO:info@claytonartscenter.com
GEO:35.754957;-83.965409
X-APPLE-STRUCTURED-LOCATION;VALUE=URI;X-ADDRESS=La Dolce Vita Gallery 502 E Lamar Alexander Pkwy Maryville TN United States;X-APPLE-RADIUS=500;X-TITLE=502 E Lamar Alexander Pkwy:geo:-83.965409,35.754957
END:VEVENT
BEGIN:VEVENT
DTSTART;TZID=America/New_York:20251202T190000
DTEND;TZID=America/New_York:20251202T203000
DTSTAMP:20260421T223918
CREATED:20251021T223040Z
LAST-MODIFIED:20251202T224520Z
UID:10001373-1764702000-1764707400@www.maryvillecollege.edu
SUMMARY:MC Christmas Concert
DESCRIPTION:The annual Maryville College Christmas performance will take place at 7 p.m. in the Clayton Center for the Arts’ Ronald and Lynda Nutt Theatre and will include selections by the Orchestra at Maryville College\, directed by Dr. Ace Edewards; the Maryville College Community Chorus\, directed by Dr. Dwight Dockery ’05; the Maryville College Concert Choir and the smaller ensembles Off Kilter and the Lassies\, under the direction of Stacey Wilner; and the Lads\, directed by Dr. Jennifer Olander Anderson ’05.\n \n“A Maryville College Christmas” is an annual tradition that brings together the College’s ensembles and community musicians for a festive celebration of the season. This year’s concert will feature “The Ceremony of Carols” by Benjamin Britten and a “Carol Sing” with the orchestra and chorus\, along with additional music of the season. The event highlights the College’s collaborative spirit\, uniting performers of all ages to share music that captures the joy\, beauty\, and tradition of Christmas.\n \nTickets are $20.00 plus tax for general admission. Free for MC faculty\, staff\, and students\, although a printed ticket from the Clayton Center box office is required for admission. For more information\, call the box office at 865-981-8590.
URL:https://www.maryvillecollege.edu/event/maryville-college-christmas-concert/
LOCATION:CCA – Ronald and Lynda Nutt Theatre\, 502 E Lamar Alexander Pkwy\, Maryville\, TN\, United States
CATEGORIES:Clayton Center for the Arts,Fine Arts Division
ATTACH;FMTTYPE=image/jpeg:https://www.maryvillecollege.edu/wp-content/uploads/Calendar/MC-Christmas-Concert-2024-4-EDIT-1XvBzN.jpg
GEO:35.754957;-83.965409
X-APPLE-STRUCTURED-LOCATION;VALUE=URI;X-ADDRESS=CCA – Ronald and Lynda Nutt Theatre 502 E Lamar Alexander Pkwy Maryville TN United States;X-APPLE-RADIUS=500;X-TITLE=502 E Lamar Alexander Pkwy:geo:-83.965409,35.754957
END:VEVENT
BEGIN:VEVENT
DTSTART;TZID=America/New_York:20251206T190000
DTEND;TZID=America/New_York:20251206T210000
DTSTAMP:20260421T223918
CREATED:20251028T223101Z
LAST-MODIFIED:20251202T224520Z
UID:10001387-1765047600-1765054800@www.maryvillecollege.edu
SUMMARY:Mission of Hope: Keyboards at Christmas
DESCRIPTION:For the last 13 years\, talented musicians from around East Tennessee have come together to produce and perform a holiday show to benefit Mission of Hope\, a local charity that provides assistance and resources to families in rural Appalachia. “Keyboards at Christmas” has become an annual event in East Tennessee. This year\, seven pianists from Knox and Blount Counties will perform holiday classics on grand pianos at the beautiful Clayton Center for the Arts on the campus of Maryville College. Musicians include Timothy Conner\, Rhonda Mayfield\, Donna McNeilly\, Trey Ogle\, Marilyn Peterson\, Gregg Randolph\, and Sabra Wright. This year\, the show will also include several pieces for vocalists\, cello\, and flute.\nAll proceeds from ticket sales support the efforts of Mission of Hope to provide our neighbors in Appalachia with much needed goods and resources\, college scholarships\, and help with basic education\, healthcare\, and home repair needs. Parking for this event is free. For groups of ten or more\, discounted tickets are available through the Clayton Center box office.
URL:https://www.maryvillecollege.edu/event/mission-of-hope-keyboards-at-christmas/
LOCATION:CCA – Ronald and Lynda Nutt Theatre\, 502 E Lamar Alexander Pkwy\, Maryville\, TN\, United States
CATEGORIES:Clayton Center for the Arts,Community Event
ATTACH;FMTTYPE=image/jpeg:https://www.maryvillecollege.edu/wp-content/uploads/Calendar/Keyboards-at-Xmas-e1757096075646-dYAz6b.jpg
GEO:35.754957;-83.965409
X-APPLE-STRUCTURED-LOCATION;VALUE=URI;X-ADDRESS=CCA – Ronald and Lynda Nutt Theatre 502 E Lamar Alexander Pkwy Maryville TN United States;X-APPLE-RADIUS=500;X-TITLE=502 E Lamar Alexander Pkwy:geo:-83.965409,35.754957
END:VEVENT
BEGIN:VEVENT
DTSTART;TZID=America/New_York:20251207T150000
DTEND;TZID=America/New_York:20251207T170000
DTSTAMP:20260421T223918
CREATED:20251028T223103Z
LAST-MODIFIED:20251202T224521Z
UID:10001388-1765119600-1765126800@www.maryvillecollege.edu
SUMMARY:Mission of Hope: Keyboards at Christmas
DESCRIPTION:For the last 13 years\, talented musicians from around East Tennessee have come together to produce and perform a holiday show to benefit Mission of Hope\, a local charity that provides assistance and resources to families in rural Appalachia. “Keyboards at Christmas” has become an annual event in East Tennessee. This year\, seven pianists from Knox and Blount Counties will perform holiday classics on grand pianos at the beautiful Clayton Center for the Arts on the campus of Maryville College. Musicians include Timothy Conner\, Rhonda Mayfield\, Donna McNeilly\, Trey Ogle\, Marilyn Peterson\, Gregg Randolph\, and Sabra Wright. This year\, the show will also include several pieces for vocalists\, cello\, and flute.\nAll proceeds from ticket sales support the efforts of Mission of Hope to provide our neighbors in Appalachia with much needed goods and resources\, college scholarships\, and help with basic education\, healthcare\, and home repair needs. Parking for this event is free. For groups of ten or more\, discounted tickets are available through the Clayton Center box office.
URL:https://www.maryvillecollege.edu/event/mission-of-hope-keyboards-at-christmas-2/
LOCATION:CCA – Ronald and Lynda Nutt Theatre\, 502 E Lamar Alexander Pkwy\, Maryville\, TN\, United States
CATEGORIES:Clayton Center for the Arts,Community Event
ATTACH;FMTTYPE=image/jpeg:https://www.maryvillecollege.edu/wp-content/uploads/Calendar/Keyboards-at-Xmas-e1757096075646-dYAz6b.jpg
GEO:35.754957;-83.965409
X-APPLE-STRUCTURED-LOCATION;VALUE=URI;X-ADDRESS=CCA – Ronald and Lynda Nutt Theatre 502 E Lamar Alexander Pkwy Maryville TN United States;X-APPLE-RADIUS=500;X-TITLE=502 E Lamar Alexander Pkwy:geo:-83.965409,35.754957
END:VEVENT
BEGIN:VEVENT
DTSTART;TZID=America/New_York:20251212T190000
DTEND;TZID=America/New_York:20251212T210000
DTSTAMP:20260421T223918
CREATED:20250730T211528Z
LAST-MODIFIED:20251124T212318Z
UID:10000604-1765566000-1765573200@www.maryvillecollege.edu
SUMMARY:The Nutcracker
DESCRIPTION:Appalachian Ballet Company 54th Season\nCome enjoy the magic of this holiday classic with the Appalachian Ballet Company and the Knoxville Symphony Orchestra. ABC celebrates 50 years of  live music with the Knoxville Symphony\, James Fellenbaum conducting.\nLavish sets\, scenery and costumes with over 100 dancers performing\, 45 musicians and 40 backstage crew and many volunteers create the magic. Act one features a colorful holiday party and a pristine crisp snow scene. Act two showcases dancers in the castle of The Land of the Sweets featuring the Sugarplum Fairy\, Laura Morton La Russa.\nThe popularity of The Nutcracker is immense so get your tickets today! This family friendly ballet provides an unforgettable spark to everyone’s holiday season.\nThe show runs approximately two hours including the 20 minute intermission.
URL:https://www.maryvillecollege.edu/event/the-nutcracker/
LOCATION:TN
CATEGORIES:Clayton Center for the Arts
ATTACH;FMTTYPE=image/jpeg:https://www.maryvillecollege.edu/wp-content/uploads/Calendar/Nutcracker-Abigail-Photos-zXT62O.jpg
END:VEVENT
BEGIN:VEVENT
DTSTART;TZID=America/New_York:20251213T150000
DTEND;TZID=America/New_York:20251213T210000
DTSTAMP:20260421T223918
CREATED:20250819T214521Z
LAST-MODIFIED:20251209T230021Z
UID:10000768-1765638000-1765659600@www.maryvillecollege.edu
SUMMARY:The Nutcracker
DESCRIPTION:Appalachian Ballet Company 54th Season\nCome enjoy the magic of this holiday classic with the Appalachian Ballet Company and the Knoxville Symphony Orchestra. ABC celebrates 50 years of  live music with the Knoxville Symphony\, James Fellenbaum conducting.\nLavish sets\, scenery and costumes with over 100 dancers performing\, 45 musicians and 40 backstage crew and many volunteers create the magic. Act one features a colorful holiday party and a pristine crisp snow scene. Act two showcases dancers in the castle of The Land of the Sweets featuring the Sugarplum Fairy\, Laura Morton La Russa.\nThe popularity of The Nutcracker is immense so get your tickets today! This family friendly ballet provides an unforgettable spark to everyone’s holiday season.\nThe show runs approximately two hours including the 20 minute intermission.
URL:https://www.maryvillecollege.edu/event/the-nutcracker-2/
LOCATION:TN
CATEGORIES:Clayton Center for the Arts
ATTACH;FMTTYPE=image/jpeg:https://www.maryvillecollege.edu/wp-content/uploads/Calendar/Nutcracker-Abigail-Photos-zXT62O.jpg
END:VEVENT
BEGIN:VEVENT
DTSTART;TZID=America/New_York:20251215T193000
DTEND;TZID=America/New_York:20251215T213000
DTSTAMP:20260421T223918
CREATED:20250604T203432Z
LAST-MODIFIED:20251209T230022Z
UID:10000116-1765827000-1765834200@www.maryvillecollege.edu
SUMMARY:CANCELED: Wheel of Fortune LIVE!
DESCRIPTION:Wheel of Fortune LIVE! brings America’s Game® to your hometown! The all-new live stage show with a well-known host is the one-and-only way you can have the chance to spin a replica of the wheel and win prizes outside of Sony Pictures Studios. At Wheel of Fortune LIVE!\, contestants are selected from the audience to go on stage and step into the game show itself. They’ll have a chance to spin\, solve puzzles\, and win fantastic prizes at every show\, including trips to Paris or Hawaii or up to $10\,000 cash. Everyone gets in on the fun and a chance to win at Wheel of Fortune LIVE!\nNO PURCHASE NECESSARY. Open to US & Canada legal residents\, 18+ (Residents of PR are ineligible to participate as contestants). For complete rules & regulations\, including eligibility requirements & free method of entry\, visit or call the box office or click HERE. Void where prohibited. © 2025 Califon Productions\, Inc. “Wheel of Fortune®” is a registered trademark of Califon Productions\, Inc. All Rights Reserved.\nWheel of Fortune offers three VIP Packages to enhance your experience:\nVIP ONE: Ultimate VIP Meet & Greet Experience $248 plus standard ticket pricing\nDescription of package: \nOne (1) Premium Reserved Seat\nMeet & Greet and Photo Opportunity with the Host of Wheel of Fortune Live\nSpin the Wheel!\nOfficial Photograph with The Wheel of Fortune Set\nVIP Exclusive Wheel of Fortune Merchandise Pack\nCommemorative Wheel of Fortune Laminate\nVIP TWO: Spin the Wheel VIP Experience $124 plus standard ticket pricing\nDescription of package:\nOne (1) Premium Reserved Seat\nSpin the Wheel!\nOfficial Photograph with The Wheel of Fortune Set\nVIP Exclusive Wheel of Fortune Merchandise Pack\nCommemorative Wheel of Fortune Laminate\nPLEASE NOTE: THIS VIP PACKAGE DOES NOT INCLUDE A MEET & GREET. THERE IS NO ARTIST INVOLVEMENT WITH THIS PACKAGE.\nVIP THREE: Wheel of Fortune VIP Merchandise Package $75 plus standard ticket pricing\nDescription of package:\nOne (1) Premium Reserved Seat\nVIP Exclusive Wheel of Fortune Merchandise Pack\nCommemorative Wheel of Fortune Laminate\nPLEASE NOTE: THIS VIP PACKAGE DOES NOT INCLUDE A MEET & GREET. THERE IS NO ARTIST INVOLVEMENT WITH THIS PACKAGE.\nAll package elements will be rendered invalid if resold. Name changes will be issued at the sole discretion of 237 Global. VIP instructions will be sent via email no later than three days (3) prior to the concert. If you do not receive this email three days (3) prior please email info@237global.com. All packages and contents are non-transferable; no refunds or exchanges; all sales are final. All VIP package items and experiences are subject to change. Please note that the information provided at the time of purchase (e-mail and mailing address) is the same information that will be utilized for individual contact requirements where applicable. 237 Global\, the artist\, tour\, promoter\, ticketing company\, venue or any other affiliated parties are not responsible for outdated or inaccurate information provided by the consumer at the time of purchase. If you have any questions regarding your VIP package elements\, or have not received your package information within three days (3) of the concert date\, please email info@237global.com.\nThis performance is proudly sponsored by DENSO Manufacturing Tennessee\, Inc.\, whose generous support helps bring outstanding live performances to our community.  \nhttps://claytonartscenter.com/wp-content/uploads/2025/06/WOFL-Promo-Video.mov
URL:https://www.maryvillecollege.edu/event/wheel-of-fortune-live/
LOCATION:CCA – Ronald and Lynda Nutt Theatre\, 502 E Lamar Alexander Pkwy\, Maryville\, TN\, United States
CATEGORIES:Clayton Center for the Arts
ATTACH;FMTTYPE=image/png:https://www.maryvillecollege.edu/wp-content/uploads/Calendar/WOFL_16x9-Asf5kV.png
ORGANIZER;CN="Clayton Center for the Arts":MAILTO:info@claytonartscenter.com
GEO:35.754957;-83.965409
X-APPLE-STRUCTURED-LOCATION;VALUE=URI;X-ADDRESS=CCA – Ronald and Lynda Nutt Theatre 502 E Lamar Alexander Pkwy Maryville TN United States;X-APPLE-RADIUS=500;X-TITLE=502 E Lamar Alexander Pkwy:geo:-83.965409,35.754957
END:VEVENT
BEGIN:VEVENT
DTSTART;TZID=America/New_York:20251216T190000
DTEND;TZID=America/New_York:20251216T203000
DTSTAMP:20260421T223918
CREATED:20251104T224548Z
LAST-MODIFIED:20251216T231519Z
UID:10001408-1765911600-1765917000@www.maryvillecollege.edu
SUMMARY:Maryville City Schools: Winter Holiday Concert
DESCRIPTION:Celebrate the season with the sounds of the Maryville City Schools Winter Holiday Concert! Featuring talented student musicians from across the district\, this joyful program will include holiday classics\, seasonal favorites\, and inspiring performances that capture the spirit of the season.
URL:https://www.maryvillecollege.edu/event/maryville-city-schools-winter-holiday-concert/
LOCATION:CCA – Ronald and Lynda Nutt Theatre\, 502 E Lamar Alexander Pkwy\, Maryville\, TN\, United States
CATEGORIES:Clayton Center for the Arts,Community Event
ATTACH;FMTTYPE=image/webp:https://www.maryvillecollege.edu/wp-content/uploads/Calendar/MCSLogo4-LsrQ1v.webp
GEO:35.754957;-83.965409
X-APPLE-STRUCTURED-LOCATION;VALUE=URI;X-ADDRESS=CCA – Ronald and Lynda Nutt Theatre 502 E Lamar Alexander Pkwy Maryville TN United States;X-APPLE-RADIUS=500;X-TITLE=502 E Lamar Alexander Pkwy:geo:-83.965409,35.754957
END:VEVENT
END:VCALENDAR