BEGIN:VCALENDAR
VERSION:2.0
PRODID:-//Maryville College - ECPv6.15.20//NONSGML v1.0//EN
CALSCALE:GREGORIAN
METHOD:PUBLISH
X-WR-CALNAME:Maryville College
X-ORIGINAL-URL:https://www.maryvillecollege.edu
X-WR-CALDESC:Events for Maryville College
REFRESH-INTERVAL;VALUE=DURATION:PT1H
X-Robots-Tag:noindex
X-PUBLISHED-TTL:PT1H
BEGIN:VTIMEZONE
TZID:America/New_York
BEGIN:DAYLIGHT
TZOFFSETFROM:-0500
TZOFFSETTO:-0400
TZNAME:EDT
DTSTART:20250309T070000
END:DAYLIGHT
BEGIN:STANDARD
TZOFFSETFROM:-0400
TZOFFSETTO:-0500
TZNAME:EST
DTSTART:20251102T060000
END:STANDARD
BEGIN:DAYLIGHT
TZOFFSETFROM:-0500
TZOFFSETTO:-0400
TZNAME:EDT
DTSTART:20260308T070000
END:DAYLIGHT
BEGIN:STANDARD
TZOFFSETFROM:-0400
TZOFFSETTO:-0500
TZNAME:EST
DTSTART:20261101T060000
END:STANDARD
BEGIN:DAYLIGHT
TZOFFSETFROM:-0500
TZOFFSETTO:-0400
TZNAME:EDT
DTSTART:20270314T070000
END:DAYLIGHT
BEGIN:STANDARD
TZOFFSETFROM:-0400
TZOFFSETTO:-0500
TZNAME:EST
DTSTART:20271107T060000
END:STANDARD
END:VTIMEZONE
BEGIN:VEVENT
DTSTART;VALUE=DATE:20260203
DTEND;VALUE=DATE:20260228
DTSTAMP:20260421T191831
CREATED:20260127T211521Z
LAST-MODIFIED:20260219T145019Z
UID:10001722-1770076800-1772236799@www.maryvillecollege.edu
SUMMARY:"Perennial Ties" Art Exhibition by Blackberry Farm & Blackberry Mountain
DESCRIPTION:Perennial Ties: A collective celebration of the creative spirit at Blackberry Farm & Blackberry Mountain \nThis year’s “Perennial Ties” exhibition is the third collective celebration of the arts representing Blackberry Farm and Blackberry Mountain. The excellent and rich variety of work chosen for this exhibition is evident of the individual creative spirit that happens from Blackberry team members\, visiting artists and friends of the extended Blackberry community. Selections in this exhibition have been chosen by the individual artists to showcase their range of artistic expression. We invite you to view the gallery from February 3-28 in the Clayton Center for the Arts’ Blackberry Farm Gallery at Maryville College and hope you’ll join us for our exhibition reception on February 28 from 6pm-8pm. \nGallery hours are Monday-Friday from 10:00 a.m. until 5:00 p.m.
URL:https://www.maryvillecollege.edu/event/perennial-ties-art-exhibition-by-blackberry-farm-blackberry-mountain/
LOCATION:CCA – Blackberry Farm Gallery
CATEGORIES:Clayton Center for the Arts,Fine Arts Division
END:VEVENT
BEGIN:VEVENT
DTSTART;TZID=America/New_York:20260206T190000
DTEND;TZID=America/New_York:20260209T100000
DTSTAMP:20260421T191831
CREATED:20260113T233027Z
LAST-MODIFIED:20260219T144318Z
UID:10001654-1770404400-1770631200@www.maryvillecollege.edu
SUMMARY:Primary Players: The Sound of Music (Youth Edition)
DESCRIPTION:The Sound of Music (Youth Edition) is presented by the Primary Players Children’s Theatre Group\, Feb. 6-8. This production is co-directed by John Cherry and Derrik Wright\, music direction by Dr. Ken Hawkins\, choreography by Katie Giebudowski.\nMusic by Richard Rodgers\nLyrics by Oscar Hammerstein II\nBook by Howard Lindsay & Russel Crouse \nThe Sound of Music is based on a true story. The 1965 movie version starring Julie Andrews earned five Academy Awards\, including Best Picture\, and stands as the most successful movie musical of all time. \nTickets:\n– Adults $25\n– Students $18\n– Children 5 and under are free \nThere will be a sensory-friendly performance on Thursday\, Feb. 5 at 10 a.m. and a School Show on Friday\, Feb. 6 at 10 a.m. Please contact traci@primaryplayers.org for ticket information. \nPlease visit Primary Players at www.PrimaryPlayers.org or find us on Facebook.
URL:https://www.maryvillecollege.edu/event/primary-players-the-sound-of-music-youth-edition-3/
LOCATION:Maryville College\, Maryville\, TN\, 37804\, United States
CATEGORIES:Clayton Center for the Arts,Community Event
ATTACH;FMTTYPE=image/png:https://www.maryvillecollege.edu/wp-content/uploads/Calendar/PP_Sound-of-Music-bwE9sV.png
END:VEVENT
BEGIN:VEVENT
DTSTART;TZID=America/New_York:20260212T190000
DTEND;TZID=America/New_York:20260215T170000
DTSTAMP:20260421T191831
CREATED:20260120T233025Z
LAST-MODIFIED:20260219T144310Z
UID:10001663-1770922800-1771174800@www.maryvillecollege.edu
SUMMARY:Maryville College Presents: Murder on the Orient Express
DESCRIPTION:Agatha Christie’s Murder on the Orient Express is a thrilling story following world-famous detective Hercule Poirot as he investigates an unexpected murder while traveling. With an unexpected crowd of suspects and only so much space on the Orient Express\, the unexplainable crime leads to some high stakes and even higher tensions. \nThursday\, February 12th\nPay What You Will / First Come First Seated\, Cash or App Payments in person night of show \nFriday\, February 13th – Sunday\, February 15\nTickets are $12.50 plus taxes and fees. MC Faculty\, Staff\, and Students are free with ID.
URL:https://www.maryvillecollege.edu/event/maryville-college-alpha-psi-omega-presents-murder-on-the-orient-express-2/
LOCATION:Maryville College\, Maryville\, TN\, 37804\, United States
CATEGORIES:Clayton Center for the Arts
ATTACH;FMTTYPE=image/jpeg:https://www.maryvillecollege.edu/wp-content/uploads/Calendar/IMG_8981-jJfTY9.jpg
END:VEVENT
BEGIN:VEVENT
DTSTART;TZID=America/New_York:20260217T180000
DTEND;TZID=America/New_York:20260217T200000
DTSTAMP:20260421T191831
CREATED:20260203T224406Z
LAST-MODIFIED:20260219T145019Z
UID:10001777-1771351200-1771358400@www.maryvillecollege.edu
SUMMARY:Blount County Band Festival & Concert
DESCRIPTION:The Blount County Band Festival will offer an impressive display from local high schools on Tuesday\, Feb. 17\, 2026.  The event will take place at 6 p.m. with performances every 30 minutes until 8 p.m. in the Clayton Center for the Arts’ Ronald and Lynda Nutt Theatre followed by a reception in the Clayton Center’s William Baxter Lee III Grand Foyer. The event is free and open to the public.
URL:https://www.maryvillecollege.edu/event/blount-count-band-festival-concert/
LOCATION:Maryville College\, Maryville\, TN\, 37804\, United States
CATEGORIES:Clayton Center for the Arts,Maryville College Event
ATTACH;FMTTYPE=image/png:https://www.maryvillecollege.edu/wp-content/uploads/Images/Main/global/MC_V1-Enclosed_RGB_FullColor-sm0hRd.png
END:VEVENT
BEGIN:VEVENT
DTSTART;TZID=America/New_York:20260219T190000
DTEND;TZID=America/New_York:20260219T210000
DTSTAMP:20260421T191831
CREATED:20250604T203439Z
LAST-MODIFIED:20260217T230026Z
UID:10000118-1771527600-1771534800@www.maryvillecollege.edu
SUMMARY:Vienna Boys Choir
DESCRIPTION:The Vienna Boys Choir is one of the most famous choirs in the world\, and one of the oldest. Boys have been singing at Vienna’s Imperial Chapel since at least 1296. In 1498 Holy Roman Emperor Maximilian I. established a Court Chapel in Vienna where he declared that there were to be boys among the singers\, thus laying the foundation for the Vienna Boys Choir. Today\, the former imperial ensemble is a private\, non-profit organization with a primary and grammar school for 330 boys and girls between the ages of six and nineteen with a focus on choral music and singing. The Vienna Boys Choir’s education\, listed by UNESCO as cultural heritage\, is open to all\, regardless of origin\, gender\, nationality\, or religion.\nThe four boys’ choirs perform almost 300 concerts per year\, with almost half a million people attending. Since 1924\, the choirs have completed more than 1000 tours in 100 different countries\, clocking up a staggering 29\,000 concerts.\nOn Sundays\, the choirs sing mass in Vienna’s Imperial Chapel with members of the Vienna Philharmonic Orchestra and the men’s chorus of the Vienna State Opera. They have performed with orchestras led by conductors such as Joana Mallwitz\, Zubin Mehta\, Riccardo Muti\, Christian Thielemann\, Simone Young\, and Franz Welser-Möst; and appear at the Salzburg Festival and at the New Year’s Concert of the Vienna Philharmonic.\nThe Vienna Boys Choir partners with UNICEF and several other charities. In 2023\, the Choir celebrated its 525th anniversary. To mark the occasion\, Deutsche Grammophon released a live album of the anniversary concert in Vienna’s Musikverein\, Decca Classics released a box set of 21 CDs\, and Böhlau released a book on the Choir’s history. In 2024\, the Vienna Boys Choir and the Vienna Girls Choir jointly received the European Culture Award.\nErasmus Baumgartner has been serving as Artistic Director of the Vienna Boys Choir and the entire Campus Augarten since 2023. The Choir’s President is Erich Arthold.\nwww.viennaboyschoir.net
URL:https://www.maryvillecollege.edu/event/vienna-boys-choir/
LOCATION:CCA – Ronald and Lynda Nutt Theatre\, 502 E Lamar Alexander Pkwy\, Maryville\, TN\, United States
CATEGORIES:Clayton Center for the Arts
ATTACH;FMTTYPE=image/png:https://www.maryvillecollege.edu/wp-content/uploads/Calendar/VBC_16x9-23M7S2.png
ORGANIZER;CN="Clayton Center for the Arts":MAILTO:info@claytonartscenter.com
GEO:35.754957;-83.965409
X-APPLE-STRUCTURED-LOCATION;VALUE=URI;X-ADDRESS=CCA – Ronald and Lynda Nutt Theatre 502 E Lamar Alexander Pkwy Maryville TN United States;X-APPLE-RADIUS=500;X-TITLE=502 E Lamar Alexander Pkwy:geo:-83.965409,35.754957
END:VEVENT
BEGIN:VEVENT
DTSTART;TZID=America/New_York:20260224T180000
DTEND;TZID=America/New_York:20260224T190000
DTSTAMP:20260421T191831
CREATED:20251215T160043Z
LAST-MODIFIED:20260224T230022Z
UID:10001504-1771956000-1771959600@www.maryvillecollege.edu
SUMMARY:Student Repertoire Recital
DESCRIPTION:Maryville College music majors and students who are taking applied music lessons will present a student repertoire recital on Tuesday\, February 24\, 2026\, at 6:00 p.m. in the Clayton Center for the Arts’ Harold and Jean Lambert Recital Hall. The event is free and open to the public.
URL:https://www.maryvillecollege.edu/event/student-repertoire-recital-3/
LOCATION:CCA – Harold and Jean Lambert Recital Hall
CATEGORIES:Clayton Center for the Arts,Fine Arts Division
END:VEVENT
BEGIN:VEVENT
DTSTART;TZID=America/New_York:20260226T190000
DTEND;TZID=America/New_York:20260226T210000
DTSTAMP:20260421T191831
CREATED:20251216T231520Z
LAST-MODIFIED:20260127T233041Z
UID:10001636-1772132400-1772139600@www.maryvillecollege.edu
SUMMARY:Small Choral Ensembles Concert
DESCRIPTION:Join us for an evening of harmony and fun as Off Kilter\, Lads and Lassies present a preview of the music\nthey’ll take on their upcoming Spring Choir Tour. This intimate concert showcases a vibrant mix of\nchoral favorites\, contemporary arrangements\, and tour highlights performed by some of the college’s\nmost talented and dedicated singers. Come celebrate the artistry\, community\, and spirit of our campus\nchoirs before they hit the road! \nThe concert will take place at 7 p.m. in the Clayton Center for the Arts’ Harold and Jean Lambert Recital\nHall. \nTicket prices are $12.50 plus tax for general admission. Free for MC Faculty\, Staff\, and Students with\nID\, although a printed ticket is required for admission. For more information\, please visit\nClaytonArtsCenter.com or call the Clayton Center box office at 865-981-8590.
URL:https://www.maryvillecollege.edu/event/small-choral-ensembles-concert-3/
LOCATION:Maryville College\, Maryville\, TN\, 37804\, United States
CATEGORIES:Clayton Center for the Arts,Fine Arts Division
ATTACH;FMTTYPE=image/jpeg:https://www.maryvillecollege.edu/wp-content/uploads/Calendar/Off-Kilter-Picture-scaled-zhzo64.jpg
END:VEVENT
BEGIN:VEVENT
DTSTART;TZID=America/New_York:20260227T193000
DTEND;TZID=America/New_York:20260227T213000
DTSTAMP:20260421T191831
CREATED:20250604T203442Z
LAST-MODIFIED:20260224T230056Z
UID:10000119-1772220600-1772227800@www.maryvillecollege.edu
SUMMARY:Red Hot Chilli Pipers
DESCRIPTION:It’s Bagpipes. It’s Rock. It’s Bagrock. AC/DC meets the poet Robert Burns. Where rock anthems sit comfortably alongside the great tunes from the glens and the mountains of Scotland.\nIt’s The Red Hot Chilli PIPERS – (NOT the Peppers!) — a 9-piece ensemble consisting of pipers\, guitarists\, keyboards\, and drummers — who have been rocking the world from New York to Beijing to Melbourne and everywhere in between with musicianship of the highest order and a passion for pipes that will leave you breathless. The band has four music degrees from the Royal Scottish Academy of Music and Drama and all the pipers and drummers have played at the top level in bagpiping.\nSince they walked away with the top prize on the primetime TV talent show\, “When Will I Be Famous” in the U.K. in 2007\, the Red Hot Chilli Pipers haven’t stopped for a breath\, other than to inflate their bagpipes! Formed in 2002\, The Chillis have fast become a global phenomenon\, taking their signature ‘Bagrock’ sound to the masses with their unique fusion of rocked up Bagpipes and clever covers of popular songs from all genres. Their trademarked sound is a unique fusion of traditional pipe tunes – like “The Flowers of Scotland”\, “The Hills of Argyll”\, and “Amazing Grace” (done Chilli-style\, of course!) — and contemporary anthems like Queen’s “We Will Rock You”\, “Clocks” by Coldplay\, “Chasing Cars” by Snow Patrol\, “Let Me Entertain You” by Robbie Williams\, and a fantastic rock medley of “Deep Purple”\, “Smoke on the Water”\, and AC/DC’s “Thunderstruck”.\n \nThis performance of Red Hot Chilli Pipers is proudly sponsored by Pinnacle Financial Partners\, whose generous support helps bring outstanding live performances to our community.  \n 
URL:https://www.maryvillecollege.edu/event/red-hot-chilli-pipers/
LOCATION:CCA – Ronald and Lynda Nutt Theatre\, 502 E Lamar Alexander Pkwy\, Maryville\, TN\, United States
CATEGORIES:Clayton Center for the Arts
ATTACH;FMTTYPE=image/png:https://www.maryvillecollege.edu/wp-content/uploads/Calendar/RHCP_16x9-vyymly.png
ORGANIZER;CN="Clayton Center for the Arts":MAILTO:info@claytonartscenter.com
GEO:35.754957;-83.965409
X-APPLE-STRUCTURED-LOCATION;VALUE=URI;X-ADDRESS=CCA – Ronald and Lynda Nutt Theatre 502 E Lamar Alexander Pkwy Maryville TN United States;X-APPLE-RADIUS=500;X-TITLE=502 E Lamar Alexander Pkwy:geo:-83.965409,35.754957
END:VEVENT
BEGIN:VEVENT
DTSTART;TZID=America/New_York:20260228T180000
DTEND;TZID=America/New_York:20260228T200000
DTSTAMP:20260421T191831
CREATED:20260203T224407Z
LAST-MODIFIED:20260224T230056Z
UID:10001780-1772301600-1772308800@www.maryvillecollege.edu
SUMMARY:Art Reception: “Perennial Ties” by Blackberry Farm & Blackberry Mountain
DESCRIPTION:Saturday\, February 28\, 2026\, from 6-8 p.m. in the Blackberry Farm Gallery and William “Ed” Harmon Gallery\nThis year’s “Perennial Ties” exhibition is the third collective celebration of the arts representing Blackberry Farm and Blackberry Mountain. The excellent and rich variety of work chosen for this exhibition is evident of the individual creative spirit that happens from Blackberry team members\, visiting artists and friends of the extended Blackberry community. Selections in this exhibition have been chosen by individual artists to showcase their range of artistic expression. We invite you to view the gallery from February 3-28\, 2026\, in the Clayton Center for the Arts’ Blackberry Farm Gallery at Maryville College and hope you’ll join us for our exhibition reception in the gallery on Saturday\, February 28\, 2026\, from 6 p.m.-8 p.m. \nGallery hours are Monday-Friday from 10:00 a.m. until 5:00 p.m.  The exhibit and reception are free and open to the public.
URL:https://www.maryvillecollege.edu/event/art-reception-perennial-ties-by-blackberry-farm-blackberry-mountain/
LOCATION:Blackberry Farm Gallery\, 502 E Lamar Alexander Pkwy\, Maryville\, TN\, United States
CATEGORIES:Clayton Center for the Arts,Fine Arts Division,Maryville College Event
ATTACH;FMTTYPE=image/jpeg:https://www.maryvillecollege.edu/wp-content/uploads/Calendar/2.28.26-Blackberry-Farm-Gallery-2-Rfddqw.jpg
GEO:35.754957;-83.965409
X-APPLE-STRUCTURED-LOCATION;VALUE=URI;X-ADDRESS=Blackberry Farm Gallery 502 E Lamar Alexander Pkwy Maryville TN United States;X-APPLE-RADIUS=500;X-TITLE=502 E Lamar Alexander Pkwy:geo:-83.965409,35.754957
END:VEVENT
END:VCALENDAR