BEGIN:VCALENDAR
VERSION:2.0
PRODID:-//Maryville College - ECPv6.15.20//NONSGML v1.0//EN
CALSCALE:GREGORIAN
METHOD:PUBLISH
X-ORIGINAL-URL:https://www.maryvillecollege.edu
X-WR-CALDESC:Events for Maryville College
REFRESH-INTERVAL;VALUE=DURATION:PT1H
X-Robots-Tag:noindex
X-PUBLISHED-TTL:PT1H
BEGIN:VTIMEZONE
TZID:America/New_York
BEGIN:DAYLIGHT
TZOFFSETFROM:-0500
TZOFFSETTO:-0400
TZNAME:EDT
DTSTART:20250309T070000
END:DAYLIGHT
BEGIN:STANDARD
TZOFFSETFROM:-0400
TZOFFSETTO:-0500
TZNAME:EST
DTSTART:20251102T060000
END:STANDARD
BEGIN:DAYLIGHT
TZOFFSETFROM:-0500
TZOFFSETTO:-0400
TZNAME:EDT
DTSTART:20260308T070000
END:DAYLIGHT
BEGIN:STANDARD
TZOFFSETFROM:-0400
TZOFFSETTO:-0500
TZNAME:EST
DTSTART:20261101T060000
END:STANDARD
BEGIN:DAYLIGHT
TZOFFSETFROM:-0500
TZOFFSETTO:-0400
TZNAME:EDT
DTSTART:20270314T070000
END:DAYLIGHT
BEGIN:STANDARD
TZOFFSETFROM:-0400
TZOFFSETTO:-0500
TZNAME:EST
DTSTART:20271107T060000
END:STANDARD
END:VTIMEZONE
BEGIN:VEVENT
DTSTART;VALUE=DATE:20260306
DTEND;VALUE=DATE:20260331
DTSTAMP:20260421T155845
CREATED:20260127T211551Z
LAST-MODIFIED:20260305T233023Z
UID:10001741-1772755200-1774915199@www.maryvillecollege.edu
SUMMARY:"Reflections of Reality: Exploring Perceptions in Art"
DESCRIPTION:“Reflections of Reality: Exploring Perceptions in Art” An exhibition of works by the Tennessee Artists Association\nThe exhibit uses all medias: acrylic\, oil\, photography\, watercolor\, pastel\, pencil\, 3-d\, and mixed media. The artists also use various subject matter to reflect\, be it an extraordinary use of color or not\, impressionistic\, abstract\, even traditional. \nThe exhibit will be on display in the Clayton Center for the Arts’ Blackberry Farm Gallery and William “Ed” Harmon Gallery from March 6-30\, 2026. Normal gallery hours are Monday-Friday from 10:00 a.m. until 5:00 p.m. \nA reception will be held in the galleries on Friday\, March 27\, 2026\, from 6-8 p.m. The reception is free and open to the public.
URL:https://www.maryvillecollege.edu/event/reflections-of-reality-exploring-perceptions-in-art-an-exhibition-of-works-by-the-tennessee-artists-association/
LOCATION:CCA – Blackberry Farm Gallery
CATEGORIES:Clayton Center for the Arts,Fine Arts Division
END:VEVENT
BEGIN:VEVENT
DTSTART;TZID=America/New_York:20260307T193000
DTEND;TZID=America/New_York:20260307T210000
DTSTAMP:20260421T155845
CREATED:20260203T224409Z
LAST-MODIFIED:20260303T230027Z
UID:10001781-1772911800-1772917200@www.maryvillecollege.edu
SUMMARY:Trillium and Friends Recital
DESCRIPTION:Trillium and Friends will present a spring recital at 7:30 p.m. on Saturday\, March 7\, 2026\, in the Clayton Center for the Arts’ Harold and Jean Lambert Recital Hall. The event is free and open to the public.
URL:https://www.maryvillecollege.edu/event/trillium-and-friends-recital/
LOCATION:CCA – Harold and Jean Lambert Recital Hall\, 502 E Lamar Alexander Pkwy\, Maryville\, TN\, United States
CATEGORIES:Clayton Center for the Arts,Maryville College Event
ATTACH;FMTTYPE=image/jpeg:https://www.maryvillecollege.edu/wp-content/uploads/Calendar/3.7.26.Trillium-and-Friends-Poster-JPEG-Version-scaled-VB17GQ.jpg
GEO:35.754957;-83.965409
X-APPLE-STRUCTURED-LOCATION;VALUE=URI;X-ADDRESS=CCA – Harold and Jean Lambert Recital Hall 502 E Lamar Alexander Pkwy Maryville TN United States;X-APPLE-RADIUS=500;X-TITLE=502 E Lamar Alexander Pkwy:geo:-83.965409,35.754957
END:VEVENT
BEGIN:VEVENT
DTSTART;TZID=America/New_York:20260310T123000
DTEND;TZID=America/New_York:20260310T130000
DTSTAMP:20260421T155845
CREATED:20260203T224411Z
LAST-MODIFIED:20260303T230028Z
UID:10001782-1773145800-1773147600@www.maryvillecollege.edu
SUMMARY:Choir Tour Send-Off Concert
DESCRIPTION:Come join the Maryville College Concert Choir as they depart for their spring tour\, “What Dreams May Come.”  The send-off concert will be held in the Clayton Center for the Arts’ Harold and Jean Lambert Recital Hall on Tuesday\, March 10\, 2026\, at 12:30 p.m.  The event is free and open to the public.
URL:https://www.maryvillecollege.edu/event/choir-tour-send-off-concert-2/
LOCATION:CCA – Harold and Jean Lambert Recital Hall\, 502 E Lamar Alexander Pkwy\, Maryville\, TN\, United States
CATEGORIES:Clayton Center for the Arts,Fine Arts Division,Maryville College Event
ATTACH;FMTTYPE=image/jpeg:https://www.maryvillecollege.edu/wp-content/uploads/Calendar/3.24.26.Concert-Choir-Poster-scaled-O0jgKE.jpg
GEO:35.754957;-83.965409
X-APPLE-STRUCTURED-LOCATION;VALUE=URI;X-ADDRESS=CCA – Harold and Jean Lambert Recital Hall 502 E Lamar Alexander Pkwy Maryville TN United States;X-APPLE-RADIUS=500;X-TITLE=502 E Lamar Alexander Pkwy:geo:-83.965409,35.754957
END:VEVENT
BEGIN:VEVENT
DTSTART;TZID=America/New_York:20260310T193000
DTEND;TZID=America/New_York:20260310T213000
DTSTAMP:20260421T155845
CREATED:20250604T203444Z
LAST-MODIFIED:20260224T155650Z
UID:10000120-1773171000-1773178200@www.maryvillecollege.edu
SUMMARY:BODYTRAFFIC
DESCRIPTION:BODYTRAFFIC\, a 501(c)3 nonprofit organization\, is an internationally-renowned dance company proudly hailing from Los Angeles. Since its founding in 2007 by Artistic Director Tina Finkelman Berkett\, the company has held fast to its mission of championing contemporary dance\, educating audiences\, and inciting positive change. Its goal is simple: get the world moving. \nA forward-thinking company\, BODYTRAFFIC is not one driven by a single choreographic voice. It aims to endorse established and new voices and be a home for an eclectic range of styles and perspectives that tell vital stories. By commissioning renowned choreographers\, including Kyle Abraham\, Ohad Naharin\, Hofesh Shechter\, Victor Quijada\, Arthur Pita\, Fernando Magadan\, and Micaela Taylor\, it cultivates opportunities for artists to fully embody their creative practice and conceive new\, contemporary pieces. Connecting individuals of vastly different life experiences through dance\, BODYTRAFFIC has toured the world and continues to deepen its investment in its home city of Los Angeles. \nBODYTRAFFIC inspires and uplifts its community and beyond through its education and outreach programs. Focusing on supporting the whole dancer\, it provides programs ranging from youth-focused intensive training and master classes to professional development for established artists that encourage their growth by nurturing their unique identities. Every year\, it mentors more than 500 students from diverse backgrounds. \nChallenge\, passion\, empathy\, inclusion\, and growth are at the heart of everything BODYTRAFFIC does. It seeks to elevate dance beyond an art form to a mode of exploration and celebration of ideas and spirit through movement. Because\, after all\, without movement\, nothing changes.
URL:https://www.maryvillecollege.edu/event/bodytraffic/
LOCATION:CCA – Ronald and Lynda Nutt Theatre\, 502 E Lamar Alexander Pkwy\, Maryville\, TN\, United States
CATEGORIES:Clayton Center for the Arts
ATTACH;FMTTYPE=image/png:https://www.maryvillecollege.edu/wp-content/uploads/Calendar/BodyTraffic_16x9-3RWegz.png
ORGANIZER;CN="Clayton Center for the Arts":MAILTO:info@claytonartscenter.com
GEO:35.754957;-83.965409
X-APPLE-STRUCTURED-LOCATION;VALUE=URI;X-ADDRESS=CCA – Ronald and Lynda Nutt Theatre 502 E Lamar Alexander Pkwy Maryville TN United States;X-APPLE-RADIUS=500;X-TITLE=502 E Lamar Alexander Pkwy:geo:-83.965409,35.754957
END:VEVENT
BEGIN:VEVENT
DTSTART;TZID=America/New_York:20260314T180000
DTEND;TZID=America/New_York:20260314T193000
DTSTAMP:20260421T155845
CREATED:20251125T224529Z
LAST-MODIFIED:20260310T230021Z
UID:10001434-1773511200-1773516600@www.maryvillecollege.edu
SUMMARY:Paul Belcher: The Original Battle of Songs
DESCRIPTION:Paul Belcher Concerts presents The Original Battle of Songs. Featuring Award winning Gold City QT\, The Mckamey’s Reunion featuring Ruben\, Carol\, Connie\, Sheryl \, Roger and Eli\, Jeff Tolbert and Primitive Road\, voted Band of the year in 2025\, and introducing Fan Favorite The Rogers Family to East Tennessee. \nPaul Belcher began promoting gospel music in 1972. His passion for music\, diligent work ethic and ability to connect the fans with the artists they love has made him one of the most successful concert promoters in the country. In 2022\, Paul (and the lovely\, Helen) celebrated 50 YEARS of success in promoting the best music Southern Gospel has to offer!  For some\, that may mean an end of an era… but not for Paul Belcher. Paul continues to be a premier promoter of Southern Gospel concerts and artists.
URL:https://www.maryvillecollege.edu/event/paul-belcher-the-original-battle-of-songs/
LOCATION:Maryville College\, Maryville\, TN\, 37804\, United States
CATEGORIES:Clayton Center for the Arts,Community Event
ATTACH;FMTTYPE=image/jpeg:https://www.maryvillecollege.edu/wp-content/uploads/Calendar/Paul-dkIB4r.jpg
END:VEVENT
BEGIN:VEVENT
DTSTART;TZID=America/New_York:20260315T150000
DTEND;TZID=America/New_York:20260315T170000
DTSTAMP:20260421T155845
CREATED:20260203T224415Z
LAST-MODIFIED:20260310T230022Z
UID:10001783-1773586800-1773594000@www.maryvillecollege.edu
SUMMARY:RESCHEDULED - The Coalminers Present Always Loretta: The Ultimate Loretta Lynn Tribute Show
DESCRIPTION: \nDue to inclement weather\, this performance originally scheduled for Saturday\, January 24 has been rescheduled for Sunday\, March 15 at 3PM. All tickets previously purchased will be honored for the new date—no exchange or action is necessary.\nThe Coalminers — the band who toured with Loretta Lynn for over 40 years in front of more than 25 million fans at 5000+ shows worldwide — continues to celebrate the Queen of Country with their amazing presentation of ALWAYS LORETTA featuring Emily Portman as Loretta. Emily portrayed Loretta in the Conway Twitty musical “It’s Only Make Believe\,” and during frequent trips to visit the country star at her ranch in Hurricane Mills Tennessee\, Emily traded stories and moments with Loretta that forged a strong bond and a real friendship between the two women. When Loretta died in October of 2022\, her family knew that Emily and The Coalminers were the way to keep Loretta’s legacy alive.\nTogether\, The Coalminers and Emily deliver the most authentic recreation of a Loretta Lynn concert to be found anywhere….presenting the songs of Loretta Lynn the way she performed them and first-hand stories of their on-the-road adventures from the band who backed her at premier venues from Carnegie to Albert Hall\, from Sydney Opera house to the Grand Ole Opry and shares a unique viewpoint of Loretta’s music that can’t be duplicated by anyone else. You will of course hear the biggest hits from Loretta’s legendary career\, and other fan favorites that only occasionally made it into the normal tour song list. One of the highlights of the show is the “Get to Know Loretta” section\, where The Coalminers take questions from the audience and share funny stories about life on the road with Loretta.\nThis 90 minute concert is a wonderfully authentic glimpse into the touring world of Loretta Lynn – an evening of music and memories honoring The Queen of Country and her legendary career by a good friend who sounds just like her and by the band who knew her best.\nThis performance of ALWAYS LORETTA is proudly sponsored by DENSO Manufacturing Tennessee\, Inc.\, whose generous support helps bring outstanding live performances to our community.\n 
URL:https://www.maryvillecollege.edu/event/rescheduled-the-coalminers-present-always-loretta-the-ultimate-loretta-lynn-tribute-show/
LOCATION:Maryville College\, Maryville\, TN\, 37804\, United States
CATEGORIES:Clayton Center Event,Clayton Center for the Arts,Clayton Center Season Event
ATTACH;FMTTYPE=image/jpeg:https://www.maryvillecollege.edu/wp-content/uploads/Calendar/Loretta-NEW-1x1-1-J4MW7z.jpg
ORGANIZER;CN="Clayton Center for the Arts":MAILTO:info@claytonartscenter.com
END:VEVENT
BEGIN:VEVENT
DTSTART;TZID=America/New_York:20260320T193000
DTEND;TZID=America/New_York:20260320T210000
DTSTAMP:20260421T155845
CREATED:20250604T203447Z
LAST-MODIFIED:20260317T230041Z
UID:10000121-1774035000-1774040400@www.maryvillecollege.edu
SUMMARY:Don McMillan Comedy
DESCRIPTION:Don McMillan was most recently featured on America’s Got Talent where he came in the TOP 12 and performed in the Finals! The Comedian/Engineer’s show features lots of graphs and charts earning rave reviews from America and ALL the judges – even Simon Cowell!\nA former engineer\, Don combined his comedy and technical skills to develop is unique act described as “THE Funniest PowerPoint Presentation you will ever see!” His act is filled with charts\, graphs and laughs. He won the San Francisco International Comedy Competition and has also appeared on The Tonight Show\, HBO\, Comedy Central\, and is one of DryBar’s Top Comedians. He’s the first Dry Bar comedian to surpass 1 million Instagram followers\, a milestone not yet reached by Brad Upton\, Leanne Morgan\, Jeff Allen\, Kellen Erskine\, Erica Rhodes\, Josh Blue\, or K-Von. His viral videos have made him a corporate favorite\, performing for companies like Apple\, IBM\, and Google. Creator of “Life After Death by PowerPoint\,” Don’s shows are both insightful and hilariously engaging.
URL:https://www.maryvillecollege.edu/event/don-mcmillan-comedy/
LOCATION:CCA – Ronald and Lynda Nutt Theatre\, 502 E Lamar Alexander Pkwy\, Maryville\, TN\, United States
CATEGORIES:Clayton Center for the Arts
ATTACH;FMTTYPE=image/png:https://www.maryvillecollege.edu/wp-content/uploads/Calendar/McMillan_16x9-PHHPQm.png
ORGANIZER;CN="Clayton Center for the Arts":MAILTO:info@claytonartscenter.com
GEO:35.754957;-83.965409
X-APPLE-STRUCTURED-LOCATION;VALUE=URI;X-ADDRESS=CCA – Ronald and Lynda Nutt Theatre 502 E Lamar Alexander Pkwy Maryville TN United States;X-APPLE-RADIUS=500;X-TITLE=502 E Lamar Alexander Pkwy:geo:-83.965409,35.754957
END:VEVENT
BEGIN:VEVENT
DTSTART;TZID=America/New_York:20260324T190000
DTEND;TZID=America/New_York:20260324T210000
DTSTAMP:20260421T155845
CREATED:20251216T231523Z
LAST-MODIFIED:20260324T230030Z
UID:10001637-1774378800-1774386000@www.maryvillecollege.edu
SUMMARY:The Maryville College Concert Choir Homecoming Concert: "What Dreams May Come"
DESCRIPTION:Experience the power of the Maryville College Concert Choir as they present their Homecoming Concert\, “What Dreams May Come\,” featuring selections from their annual Spring Tour. This performance explores the beauty\, mystery\, and emotion found in the contrasts between light and dark\, hope and fear\, dream and reality. From expressive choral works to moments of inspiration\, this program promises an unforgettable evening of music and reflection.\nTicket prices are $12.50 plus tax for general admission.  Free for MC Faculty\, Staff\, and Students with ID\, although a printed ticket is required for admission.  For more information\, please visit claytonartscenter.com or call the clayton center box office at 865-981-8590.
URL:https://www.maryvillecollege.edu/event/the-maryville-college-concert-choir-homecoming-concert-what-dreams-may-come/
LOCATION:Maryville College\, Maryville\, TN\, 37804\, United States
CATEGORIES:Clayton Center for the Arts,Fine Arts Division,Maryville College Event
ATTACH;FMTTYPE=image/jpeg:https://www.maryvillecollege.edu/wp-content/uploads/Calendar/3.24.26.Concert-Choir-Poster-scaled-O0jgKE.jpg
END:VEVENT
BEGIN:VEVENT
DTSTART;TZID=America/New_York:20260327T190000
DTEND;TZID=America/New_York:20260328T170000
DTSTAMP:20260421T155845
CREATED:20250730T211537Z
LAST-MODIFIED:20260324T230031Z
UID:10000605-1774638000-1774717200@www.maryvillecollege.edu
SUMMARY:The Little Mermaid
DESCRIPTION:The Little Mermaid\nThe Appalachian Ballet Company will present The Little Mermaid\, a Danish fairy tale written by Hans Christian Andersen\, which becomes a family-friendly ballet that will entertain and delight people of all ages!  This version is choreographed by ABC Director\, Amy Morton Vaughn.\nWith beautiful scenery and colorful costumes\, the ballet lighting will be designed by John Horner. There are over 90 dancers in the cast. \nPurchase Tickets >
URL:https://www.maryvillecollege.edu/event/the-little-mermaid/
LOCATION:CCA – Ronald and Lynda Nutt Theatre\, 502 E Lamar Alexander Pkwy\, Maryville\, TN\, United States
CATEGORIES:Clayton Center for the Arts
ATTACH;FMTTYPE=image/jpeg:https://www.maryvillecollege.edu/wp-content/uploads/Calendar/Little-Mermaid-Abigail-Photos-6enjTP.jpg
GEO:35.754957;-83.965409
X-APPLE-STRUCTURED-LOCATION;VALUE=URI;X-ADDRESS=CCA – Ronald and Lynda Nutt Theatre 502 E Lamar Alexander Pkwy Maryville TN United States;X-APPLE-RADIUS=500;X-TITLE=502 E Lamar Alexander Pkwy:geo:-83.965409,35.754957
END:VEVENT
BEGIN:VEVENT
DTSTART;TZID=America/New_York:20260331T100000
DTEND;TZID=America/New_York:20260331T110000
DTSTAMP:20260421T155845
CREATED:20260317T230026Z
LAST-MODIFIED:20260324T230032Z
UID:10001860-1774951200-1774954800@www.maryvillecollege.edu
SUMMARY:Marie Watt Artist Lecture
DESCRIPTION:An artist lecture from Turtle Clan of the Seneca Nation of Indians American Artist Marie Watt. Free and open to the public!\nReception catered by Vienna Coffee Company to follow in the lobby of the recital hall sponsored by the MC Environmental Studies program.\n \nAlso attend the Sarah Jane Hardrath Kramer Lecture at 6:00PM at the Knoxville Museum of Art (Free\, Open to the Public). More info here.\n \nIMAGES: Sky Dances Light (2024); Photograph by Blanton Museum of Art; (Top); Marie Watt in her southeast Portland studio (2025)\, photograph by Joshua Franzos (Right); Reprinted with permission by the artist;
URL:https://www.maryvillecollege.edu/event/marie-watt-artist-lecture/
LOCATION:Harold and Jean Lambert Recital Hall\, 502 E Lamar Alexander Pkwy\, Maryville\, TN\, United States
CATEGORIES:Clayton Center for the Arts,Maryville College Event
GEO:35.754957;-83.965409
X-APPLE-STRUCTURED-LOCATION;VALUE=URI;X-ADDRESS=Harold and Jean Lambert Recital Hall 502 E Lamar Alexander Pkwy Maryville TN United States;X-APPLE-RADIUS=500;X-TITLE=502 E Lamar Alexander Pkwy:geo:-83.965409,35.754957
END:VEVENT
END:VCALENDAR