BEGIN:VCALENDAR
VERSION:2.0
PRODID:-//Maryville College - ECPv6.15.20//NONSGML v1.0//EN
CALSCALE:GREGORIAN
METHOD:PUBLISH
X-WR-CALNAME:Maryville College
X-ORIGINAL-URL:https://www.maryvillecollege.edu
X-WR-CALDESC:Events for Maryville College
REFRESH-INTERVAL;VALUE=DURATION:PT1H
X-Robots-Tag:noindex
X-PUBLISHED-TTL:PT1H
BEGIN:VTIMEZONE
TZID:America/New_York
BEGIN:DAYLIGHT
TZOFFSETFROM:-0500
TZOFFSETTO:-0400
TZNAME:EDT
DTSTART:20240310T070000
END:DAYLIGHT
BEGIN:STANDARD
TZOFFSETFROM:-0400
TZOFFSETTO:-0500
TZNAME:EST
DTSTART:20241103T060000
END:STANDARD
BEGIN:DAYLIGHT
TZOFFSETFROM:-0500
TZOFFSETTO:-0400
TZNAME:EDT
DTSTART:20250309T070000
END:DAYLIGHT
BEGIN:STANDARD
TZOFFSETFROM:-0400
TZOFFSETTO:-0500
TZNAME:EST
DTSTART:20251102T060000
END:STANDARD
BEGIN:DAYLIGHT
TZOFFSETFROM:-0500
TZOFFSETTO:-0400
TZNAME:EDT
DTSTART:20260308T070000
END:DAYLIGHT
BEGIN:STANDARD
TZOFFSETFROM:-0400
TZOFFSETTO:-0500
TZNAME:EST
DTSTART:20261101T060000
END:STANDARD
END:VTIMEZONE
BEGIN:VEVENT
DTSTART;TZID=America/New_York:20251021T080000
DTEND;TZID=America/New_York:20251219T170000
DTSTAMP:20260422T001333
CREATED:20251021T223025Z
LAST-MODIFIED:20251216T231519Z
UID:10001369-1761033600-1766163600@www.maryvillecollege.edu
SUMMARY:Art Exhibition: Pinkie Mistry
DESCRIPTION:The Clayton Center for the Arts proudly presents a stunning new exhibition by celebrated East Tennessee artist Pinkie Mistry\, whose vibrant oil paintings and monumental public murals have captivated audiences throughout the Smokies region and beyond.\nMistry\, who has transformed the visual landscape of our community with three beloved murals right here in Maryville and thirteen throughout the greater Smokies region\, brings her mastery of oil and canvas to this remarkable gallery presentation. Known for her acclaimed “Wings of Wander” mural series and as the illustrator of five enchanting children’s books\, Mistry continues to build bridges between cultures\, communities\, and the natural world through her art.\nThis extraordinary exhibition showcases four distinct yet harmonious bodies of work that reflect the artist’s diverse inspirations and masterful technique. Visitors will be mesmerized by her evocative series capturing the fluid grace and cultural richness of Indian and Cuban dancers\, where each brushstroke pulses with rhythm and movement. Her collection of twenty luminous butterfly paintings celebrates transformation and migration—themes that resonate deeply with both the artist’s personal journey and our region’s natural heritage. Mistry’s mountain-inspired series pays homage to the majestic Smokies that have long served as both her home and creative muse\, while her deeply textured floral works reveal nature’s intricate beauty through layers of rich\, tactile oil paint.\nDrawing from her East Tennessee roots\, rich cultural heritage\, and extensive world travels\, Mistry creates art that speaks to universal experiences of movement\, beauty\, and belonging. Her bold colors and dynamic themes invite viewers to see their own stories reflected in each carefully crafted canvas.\nJoin us on Tuesday\, October 21 at 5pm to celebrate an artist who has made Maryville and the entire Smokies region more beautiful\, one brush stroke at a time.\n \nGrand Foyer open Monday-Friday 10:00am-4:00pm and during events.
URL:https://www.maryvillecollege.edu/event/art-exhibition-pinkie-mistry/
LOCATION:CCA – William Baxter Lee Grand Foyer\, 502 E Lamar Alexander Pkwy\, Maryville\, TN\, United States
CATEGORIES:Art Exhibit,Clayton Center for the Arts
ATTACH;FMTTYPE=image/jpeg:https://www.maryvillecollege.edu/wp-content/uploads/Calendar/CC-Artist-Recept-FB-Web-hAs5Bi.jpg
GEO:35.754957;-83.965409
X-APPLE-STRUCTURED-LOCATION;VALUE=URI;X-ADDRESS=CCA – William Baxter Lee Grand Foyer 502 E Lamar Alexander Pkwy Maryville TN United States;X-APPLE-RADIUS=500;X-TITLE=502 E Lamar Alexander Pkwy:geo:-83.965409,35.754957
END:VEVENT
BEGIN:VEVENT
DTSTART;TZID=America/New_York:20251030T100000
DTEND;TZID=America/New_York:20251216T160000
DTSTAMP:20260422T001333
CREATED:20251104T224539Z
LAST-MODIFIED:20251209T230019Z
UID:10001407-1761818400-1765900800@www.maryvillecollege.edu
SUMMARY:Canvas of Many Colors Group Exhibition
DESCRIPTION:Inspired by legends like Dolly Parton and the storytelling spirit of country music\, this group exhibition celebrates the heart and soul of the genre through the eyes of local and regional artists.\nCan’t get enough Dolly? Join us for Dolly Parton’s Smoky Mountain Christmas Carol on Saturday\, November 29!\n \nThis exhibition is an independent artistic tribute inspired by the music and legacy of Dolly Parton. It is not affiliated with\, endorsed by\, or sponsored by Dolly Parton\, Dollywood\, or any related entities.
URL:https://www.maryvillecollege.edu/event/canvas-of-many-colors-group-exhibition/
LOCATION:La Dolce Vita Gallery\, 502 E Lamar Alexander Pkwy\, Maryville\, TN\, United States
CATEGORIES:Art Exhibit,Clayton Center for the Arts
ATTACH;FMTTYPE=image/jpeg:https://www.maryvillecollege.edu/wp-content/uploads/Calendar/DOLLY-Show-16x9-1-8xm8EL.jpg
ORGANIZER;CN="Clayton Center for the Arts":MAILTO:info@claytonartscenter.com
GEO:35.754957;-83.965409
X-APPLE-STRUCTURED-LOCATION;VALUE=URI;X-ADDRESS=La Dolce Vita Gallery 502 E Lamar Alexander Pkwy Maryville TN United States;X-APPLE-RADIUS=500;X-TITLE=502 E Lamar Alexander Pkwy:geo:-83.965409,35.754957
END:VEVENT
END:VCALENDAR