BEGIN:VCALENDAR
VERSION:2.0
PRODID:-//Maryville College - ECPv6.15.20//NONSGML v1.0//EN
CALSCALE:GREGORIAN
METHOD:PUBLISH
X-WR-CALNAME:Maryville College
X-ORIGINAL-URL:https://www.maryvillecollege.edu
X-WR-CALDESC:Events for Maryville College
REFRESH-INTERVAL;VALUE=DURATION:PT1H
X-Robots-Tag:noindex
X-PUBLISHED-TTL:PT1H
BEGIN:VTIMEZONE
TZID:America/New_York
BEGIN:DAYLIGHT
TZOFFSETFROM:-0500
TZOFFSETTO:-0400
TZNAME:EDT
DTSTART:20250309T070000
END:DAYLIGHT
BEGIN:STANDARD
TZOFFSETFROM:-0400
TZOFFSETTO:-0500
TZNAME:EST
DTSTART:20251102T060000
END:STANDARD
BEGIN:DAYLIGHT
TZOFFSETFROM:-0500
TZOFFSETTO:-0400
TZNAME:EDT
DTSTART:20260308T070000
END:DAYLIGHT
BEGIN:STANDARD
TZOFFSETFROM:-0400
TZOFFSETTO:-0500
TZNAME:EST
DTSTART:20261101T060000
END:STANDARD
BEGIN:DAYLIGHT
TZOFFSETFROM:-0500
TZOFFSETTO:-0400
TZNAME:EDT
DTSTART:20270314T070000
END:DAYLIGHT
BEGIN:STANDARD
TZOFFSETFROM:-0400
TZOFFSETTO:-0500
TZNAME:EST
DTSTART:20271107T060000
END:STANDARD
END:VTIMEZONE
BEGIN:VEVENT
DTSTART;VALUE=DATE:20260203
DTEND;VALUE=DATE:20260228
DTSTAMP:20260422T001303
CREATED:20260127T211521Z
LAST-MODIFIED:20260219T145019Z
UID:10001722-1770076800-1772236799@www.maryvillecollege.edu
SUMMARY:"Perennial Ties" Art Exhibition by Blackberry Farm & Blackberry Mountain
DESCRIPTION:Perennial Ties: A collective celebration of the creative spirit at Blackberry Farm & Blackberry Mountain \nThis year’s “Perennial Ties” exhibition is the third collective celebration of the arts representing Blackberry Farm and Blackberry Mountain. The excellent and rich variety of work chosen for this exhibition is evident of the individual creative spirit that happens from Blackberry team members\, visiting artists and friends of the extended Blackberry community. Selections in this exhibition have been chosen by the individual artists to showcase their range of artistic expression. We invite you to view the gallery from February 3-28 in the Clayton Center for the Arts’ Blackberry Farm Gallery at Maryville College and hope you’ll join us for our exhibition reception on February 28 from 6pm-8pm. \nGallery hours are Monday-Friday from 10:00 a.m. until 5:00 p.m.
URL:https://www.maryvillecollege.edu/event/perennial-ties-art-exhibition-by-blackberry-farm-blackberry-mountain/
LOCATION:CCA – Blackberry Farm Gallery
CATEGORIES:Clayton Center for the Arts,Fine Arts Division
END:VEVENT
BEGIN:VEVENT
DTSTART;TZID=America/New_York:20260206T190000
DTEND;TZID=America/New_York:20260209T100000
DTSTAMP:20260422T001303
CREATED:20260113T233027Z
LAST-MODIFIED:20260219T144318Z
UID:10001654-1770404400-1770631200@www.maryvillecollege.edu
SUMMARY:Primary Players: The Sound of Music (Youth Edition)
DESCRIPTION:The Sound of Music (Youth Edition) is presented by the Primary Players Children’s Theatre Group\, Feb. 6-8. This production is co-directed by John Cherry and Derrik Wright\, music direction by Dr. Ken Hawkins\, choreography by Katie Giebudowski.\nMusic by Richard Rodgers\nLyrics by Oscar Hammerstein II\nBook by Howard Lindsay & Russel Crouse \nThe Sound of Music is based on a true story. The 1965 movie version starring Julie Andrews earned five Academy Awards\, including Best Picture\, and stands as the most successful movie musical of all time. \nTickets:\n– Adults $25\n– Students $18\n– Children 5 and under are free \nThere will be a sensory-friendly performance on Thursday\, Feb. 5 at 10 a.m. and a School Show on Friday\, Feb. 6 at 10 a.m. Please contact traci@primaryplayers.org for ticket information. \nPlease visit Primary Players at www.PrimaryPlayers.org or find us on Facebook.
URL:https://www.maryvillecollege.edu/event/primary-players-the-sound-of-music-youth-edition-3/
LOCATION:Maryville College\, Maryville\, TN\, 37804\, United States
CATEGORIES:Clayton Center for the Arts,Community Event
ATTACH;FMTTYPE=image/png:https://www.maryvillecollege.edu/wp-content/uploads/Calendar/PP_Sound-of-Music-bwE9sV.png
END:VEVENT
END:VCALENDAR