BEGIN:VCALENDAR
VERSION:2.0
PRODID:-//Maryville College - ECPv6.15.20//NONSGML v1.0//EN
CALSCALE:GREGORIAN
METHOD:PUBLISH
X-ORIGINAL-URL:https://www.maryvillecollege.edu
X-WR-CALDESC:Events for Maryville College
REFRESH-INTERVAL;VALUE=DURATION:PT1H
X-Robots-Tag:noindex
X-PUBLISHED-TTL:PT1H
BEGIN:VTIMEZONE
TZID:America/New_York
BEGIN:DAYLIGHT
TZOFFSETFROM:-0500
TZOFFSETTO:-0400
TZNAME:EDT
DTSTART:20250309T070000
END:DAYLIGHT
BEGIN:STANDARD
TZOFFSETFROM:-0400
TZOFFSETTO:-0500
TZNAME:EST
DTSTART:20251102T060000
END:STANDARD
BEGIN:DAYLIGHT
TZOFFSETFROM:-0500
TZOFFSETTO:-0400
TZNAME:EDT
DTSTART:20260308T070000
END:DAYLIGHT
BEGIN:STANDARD
TZOFFSETFROM:-0400
TZOFFSETTO:-0500
TZNAME:EST
DTSTART:20261101T060000
END:STANDARD
BEGIN:DAYLIGHT
TZOFFSETFROM:-0500
TZOFFSETTO:-0400
TZNAME:EDT
DTSTART:20270314T070000
END:DAYLIGHT
BEGIN:STANDARD
TZOFFSETFROM:-0400
TZOFFSETTO:-0500
TZNAME:EST
DTSTART:20271107T060000
END:STANDARD
END:VTIMEZONE
BEGIN:VEVENT
DTSTART;TZID=America/New_York:20260412T160000
DTEND;TZID=America/New_York:20260412T173000
DTSTAMP:20260421T155849
CREATED:20260203T224428Z
LAST-MODIFIED:20260407T231634Z
UID:10001790-1776009600-1776015000@www.maryvillecollege.edu
SUMMARY:Scottie Singers & Highlander Chorale Youth Choirs Concert
DESCRIPTION:The Scottie Singers\, under the direction of Katie Philips (MC ’03)\, and The Highlander Chorale\, under the direction of Jacob Parauka\, will present a spring concert on Sunday\, April 12\, 2026\, at 4:00 p.m. in the Clayton Center for the Arts’ Harold and Jean Lambert Recital Hall.  The concert is free and open to the public.
URL:https://www.maryvillecollege.edu/event/scottie-singers-highlander-chorale-youth-choirs-concert/
LOCATION:CCA – Harold and Jean Lambert Recital Hall\, 502 E Lamar Alexander Pkwy\, Maryville\, TN\, United States
CATEGORIES:Clayton Center for the Arts,Maryville College Event
ATTACH;FMTTYPE=image/jpeg:https://www.maryvillecollege.edu/wp-content/uploads/Calendar/Youth-Choirs-Current-Photo-2026-0FYEPf.jpg
GEO:35.754957;-83.965409
X-APPLE-STRUCTURED-LOCATION;VALUE=URI;X-ADDRESS=CCA – Harold and Jean Lambert Recital Hall 502 E Lamar Alexander Pkwy Maryville TN United States;X-APPLE-RADIUS=500;X-TITLE=502 E Lamar Alexander Pkwy:geo:-83.965409,35.754957
END:VEVENT
END:VCALENDAR