BEGIN:VCALENDAR
VERSION:2.0
PRODID:-//Maryville College - ECPv6.15.20//NONSGML v1.0//EN
CALSCALE:GREGORIAN
METHOD:PUBLISH
X-WR-CALNAME:Maryville College
X-ORIGINAL-URL:https://www.maryvillecollege.edu
X-WR-CALDESC:Events for Maryville College
REFRESH-INTERVAL;VALUE=DURATION:PT1H
X-Robots-Tag:noindex
X-PUBLISHED-TTL:PT1H
BEGIN:VTIMEZONE
TZID:America/New_York
BEGIN:DAYLIGHT
TZOFFSETFROM:-0500
TZOFFSETTO:-0400
TZNAME:EDT
DTSTART:20250309T070000
END:DAYLIGHT
BEGIN:STANDARD
TZOFFSETFROM:-0400
TZOFFSETTO:-0500
TZNAME:EST
DTSTART:20251102T060000
END:STANDARD
BEGIN:DAYLIGHT
TZOFFSETFROM:-0500
TZOFFSETTO:-0400
TZNAME:EDT
DTSTART:20260308T070000
END:DAYLIGHT
BEGIN:STANDARD
TZOFFSETFROM:-0400
TZOFFSETTO:-0500
TZNAME:EST
DTSTART:20261101T060000
END:STANDARD
BEGIN:DAYLIGHT
TZOFFSETFROM:-0500
TZOFFSETTO:-0400
TZNAME:EDT
DTSTART:20270314T070000
END:DAYLIGHT
BEGIN:STANDARD
TZOFFSETFROM:-0400
TZOFFSETTO:-0500
TZNAME:EST
DTSTART:20271107T060000
END:STANDARD
END:VTIMEZONE
BEGIN:VEVENT
DTSTART;TZID=America/New_York:20260421T190000
DTEND;TZID=America/New_York:20260421T210000
DTSTAMP:20260421T141959
CREATED:20251216T231532Z
LAST-MODIFIED:20260219T144429Z
UID:10001642-1776798000-1776805200@www.maryvillecollege.edu
SUMMARY:The Orchestra and Community Chorus at MC\, Spring Concert
DESCRIPTION:The Orchestra at Maryville College\, under the direction of Dr. Ace Edewards\, and the MC Community\nChorus\, under the direction of Dr. Dwight Dockery\, will present a spring concert at 7 p.m. in the Clayton\nCenter for the Arts’ Ronald and Lynda Nutt Theatre. \nTickets are $12.50 plus tax for general admission. Free for MC Faculty\, Staff\, and Students with\nID\, although a printed ticket is required for admission. For more information\, call the box office at 865-981-8590.
URL:https://www.maryvillecollege.edu/event/the-orchestra-at-mc-and-mc-community-chorus-spring-concert-2/
LOCATION:Maryville College\, Maryville\, TN\, 37804\, United States
CATEGORIES:Clayton Center for the Arts,Fine Arts Division,Maryville College Event
ATTACH;FMTTYPE=image/jpeg:https://www.maryvillecollege.edu/wp-content/uploads/Calendar/OMC-and-Chorus-g3RV0W.jpg
END:VEVENT
BEGIN:VEVENT
DTSTART;TZID=America/New_York:20260424T183000
DTEND;TZID=America/New_York:20260425T200000
DTSTAMP:20260421T141959
CREATED:20260324T230035Z
LAST-MODIFIED:20260414T231526Z
UID:10001885-1777055400-1777147200@www.maryvillecollege.edu
SUMMARY:Maryville Christian School: Newsies!
DESCRIPTION:Maryville Christian School’s Theater Arts Department proudly presents Newsies!\nSeize the day and join us for this high-energy musical full of courage\, friendship\, and unforgettable songs. Our talented students are ready to carry the banner and bring this inspiring story to life!\nNewsies is inspired by the real-life 1899 newsboy strike in New York City\, where charismatic leader Jack Kelly rallies young sellers to protest unfair pay. When powerful newspaper tycoons Joseph Pulitzer and William Randolph Hearst raise prices at the boys’ expense\, the kids form a union to fight for their rights. Through song\, dance\, and camaraderie\, the “newsies” overcome corporate greed\, inspiring a city-wide\, youth-led movement for fair treatment.
URL:https://www.maryvillecollege.edu/event/maryville-christian-school-newsies/
LOCATION:Ronald and Lynda Nutt Theatre\, 502 E Lamar Alexander Pkwy\, Maryville\, TN\, United States
CATEGORIES:Clayton Center for the Arts,Community Event
ATTACH;FMTTYPE=image/jpeg:https://www.maryvillecollege.edu/wp-content/uploads/Calendar/Untitled-design-lakfh5.jpg
GEO:35.754957;-83.965409
X-APPLE-STRUCTURED-LOCATION;VALUE=URI;X-ADDRESS=Ronald and Lynda Nutt Theatre 502 E Lamar Alexander Pkwy Maryville TN United States;X-APPLE-RADIUS=500;X-TITLE=502 E Lamar Alexander Pkwy:geo:-83.965409,35.754957
END:VEVENT
BEGIN:VEVENT
DTSTART;TZID=America/New_York:20260425T193000
DTEND;TZID=America/New_York:20260425T213000
DTSTAMP:20260421T141959
CREATED:20250604T203449Z
LAST-MODIFIED:20260127T233048Z
UID:10000122-1777145400-1777152600@www.maryvillecollege.edu
SUMMARY:The Magic of Rob Lake: Live from Broadway
DESCRIPTION:Rob Lake has dazzled millions on prime time network TV and streaming services worldwide. His appearances on NBC’s America’s Got Talent (2018) reached over 80-million YouTube and Facebook video views.\nHis astonishing original illusions are uniquely presented as awe-inspiring storytelling on the grandest scale. Named “The World’s Greatest Illusionist” by NBC and “One of the world’s top Illusionists” by ABC\, Rob is internationally renowned for his mesmerizing award-winning illusion spectacular. In 2008\, Rob Lake became the youngest magician in history to receive the holy grail of the magic world: The Merlin Award – as ‘International Stage Magician of the Year.’ This award is magic’s highest honor\, and the industry equivalent of an Oscar.\nRob performs at theatres\, casinos\, resorts\, and arenas in over 60 countries and across the US\, Europe\, Australia\, The Middle East\, Australia\, Africa\, and Asia\, with notable sold-out and return engagement performances in Times Square\, Atlantic City\, Hollywood\, Lake Tahoe\, The Las Vegas Strip\, South Africa\, The Dubai Opera\, Singapore\, multiple Japan tours\, and a 5-year\, multi-million-dollar residency at the iconic Atlantis Bahamas Resort.\nRob served as creative consultant and illusion designer for Grammy Award-winning artist Adele’s sold-out Las Vegas residency. Rob serves as magic consultant and illusion designer for TV series\, films\, Walt Disney Imagineering\, Broadway shows\, PR stunts and special events\, and has even created illusions for fellow famous magicians.
URL:https://www.maryvillecollege.edu/event/the-magic-of-rob-lake/
LOCATION:CCA – Ronald and Lynda Nutt Theatre\, 502 E Lamar Alexander Pkwy\, Maryville\, TN\, United States
CATEGORIES:Clayton Center for the Arts
ATTACH;FMTTYPE=image/png:https://www.maryvillecollege.edu/wp-content/uploads/Calendar/RobLake_16x9-ZhnW4j.png
ORGANIZER;CN="Clayton Center for the Arts":MAILTO:info@claytonartscenter.com
GEO:35.754957;-83.965409
X-APPLE-STRUCTURED-LOCATION;VALUE=URI;X-ADDRESS=CCA – Ronald and Lynda Nutt Theatre 502 E Lamar Alexander Pkwy Maryville TN United States;X-APPLE-RADIUS=500;X-TITLE=502 E Lamar Alexander Pkwy:geo:-83.965409,35.754957
END:VEVENT
BEGIN:VEVENT
DTSTART;TZID=America/New_York:20260428T190000
DTEND;TZID=America/New_York:20260428T203000
DTSTAMP:20260421T142000
CREATED:20260203T224437Z
LAST-MODIFIED:20260414T231527Z
UID:10001792-1777402800-1777408200@www.maryvillecollege.edu
SUMMARY:MC3 Band Spring Concert
DESCRIPTION:The MC3 Band\, under the direction of Jay Romines\, will present a spring concert at 7 p.m. on Tuesday\, April 28\, 2026\, in the Clayton Center for the Arts’ Ronald and Lynda Nutt Theatre. The event is free and open to the public.
URL:https://www.maryvillecollege.edu/event/mc3-band-spring-concert-2/
LOCATION:Maryville College\, Maryville\, TN\, 37804\, United States
CATEGORIES:Clayton Center for the Arts,Fine Arts Division,Maryville College Event
ATTACH;FMTTYPE=image/jpeg:https://www.maryvillecollege.edu/wp-content/uploads/Calendar/4.28.26.MC3-Band-Poster-JPEG-Version-scaled-gnaZus.jpg
END:VEVENT
END:VCALENDAR