BEGIN:VCALENDAR
VERSION:2.0
PRODID:-//Maryville College - ECPv6.15.20//NONSGML v1.0//EN
CALSCALE:GREGORIAN
METHOD:PUBLISH
X-ORIGINAL-URL:https://www.maryvillecollege.edu
X-WR-CALDESC:Events for Maryville College
REFRESH-INTERVAL;VALUE=DURATION:PT1H
X-Robots-Tag:noindex
X-PUBLISHED-TTL:PT1H
BEGIN:VTIMEZONE
TZID:America/New_York
BEGIN:DAYLIGHT
TZOFFSETFROM:-0500
TZOFFSETTO:-0400
TZNAME:EDT
DTSTART:20250309T070000
END:DAYLIGHT
BEGIN:STANDARD
TZOFFSETFROM:-0400
TZOFFSETTO:-0500
TZNAME:EST
DTSTART:20251102T060000
END:STANDARD
BEGIN:DAYLIGHT
TZOFFSETFROM:-0500
TZOFFSETTO:-0400
TZNAME:EDT
DTSTART:20260308T070000
END:DAYLIGHT
BEGIN:STANDARD
TZOFFSETFROM:-0400
TZOFFSETTO:-0500
TZNAME:EST
DTSTART:20261101T060000
END:STANDARD
BEGIN:DAYLIGHT
TZOFFSETFROM:-0500
TZOFFSETTO:-0400
TZNAME:EDT
DTSTART:20270314T070000
END:DAYLIGHT
BEGIN:STANDARD
TZOFFSETFROM:-0400
TZOFFSETTO:-0500
TZNAME:EST
DTSTART:20271107T060000
END:STANDARD
END:VTIMEZONE
BEGIN:VEVENT
DTSTART;TZID=America/New_York:20260331T163000
DTEND;TZID=America/New_York:20260331T183000
DTSTAMP:20260422T031224
CREATED:20250721T191210Z
LAST-MODIFIED:20260327T171520Z
UID:10000435-1774974600-1774981800@www.maryvillecollege.edu
SUMMARY:Welcome Table
DESCRIPTION:
URL:https://www.maryvillecollege.edu/event/welcome-table-73/
LOCATION:1st United Methodist Church (804 Montvale Station Rd\, Maryville\, TN 37803\, United States)
CATEGORIES:Community Engagement
END:VEVENT
BEGIN:VEVENT
DTSTART;VALUE=DATE:20260401
DTEND;VALUE=DATE:20260501
DTSTAMP:20260422T031224
CREATED:20260216T150844Z
LAST-MODIFIED:20260318T163902Z
UID:10001802-1775001600-1777593599@www.maryvillecollege.edu
SUMMARY:KT Global
DESCRIPTION:Scholarship. Respect. Integrity. Service. \nThe worldwide MC alumni service event is back for its sixth year this April! \nSince 2021\, more than 7\,000 hours of service have been given to communities around the world through KT Global. This year\, as we celebrate the 150th anniversary of the Maryville College Alumni Association and deep alumni commitment to their alma mater\, we are calling on alumni to spend 150 minutes (or at least 2 hours) in service during April 2026. Help make this the best year yet for KT Global \nStart thinking now about how will you do good on the largest possible scale by serving in your own community. More information will be available soon on becoming a project leader\, joining a project planned in your area\, and/or submitting independent service hours. \nCheck out projects happening around the world and sign up!
URL:https://www.maryvillecollege.edu/event/kt-global/
CATEGORIES:Alumni Office,Community Engagement
ATTACH;FMTTYPE=image/png:https://www.maryvillecollege.edu/wp-content/uploads/Alumni/KTGlobal/2026/KT-Global-2026-Cover.png
ORGANIZER;CN="Maryville College Alumni Association":MAILTO:alumni@maryvillecollege.edu
END:VEVENT
BEGIN:VEVENT
DTSTART;TZID=America/New_York:20260402T163000
DTEND;TZID=America/New_York:20260402T183000
DTSTAMP:20260422T031224
CREATED:20250721T191210Z
LAST-MODIFIED:20260327T171521Z
UID:10000436-1775147400-1775154600@www.maryvillecollege.edu
SUMMARY:Welcome Table
DESCRIPTION:
URL:https://www.maryvillecollege.edu/event/welcome-table-74/
LOCATION:New Providence Presbyterian Church
CATEGORIES:Community Engagement
END:VEVENT
BEGIN:VEVENT
DTSTART;TZID=America/New_York:20260403T100000
DTEND;TZID=America/New_York:20260403T123000
DTSTAMP:20260422T031224
CREATED:20250808T214300Z
LAST-MODIFIED:20260327T171521Z
UID:10000720-1775210400-1775219400@www.maryvillecollege.edu
SUMMARY:Free Food & Fellowship
DESCRIPTION:Salvation Army \nSign up BEFORE: https://volunteeretn.galaxydigital.com/need/detail/?need_id=974643
URL:https://www.maryvillecollege.edu/event/free-food-fellowship-salvation-army-88/
LOCATION:Broadway United Methodist Church (309 E Broadway Ave\, Maryville\, TN 37804\, United States)
CATEGORIES:Community Engagement
END:VEVENT
BEGIN:VEVENT
DTSTART;TZID=America/New_York:20260407T163000
DTEND;TZID=America/New_York:20260407T183000
DTSTAMP:20260422T031224
CREATED:20250721T191212Z
LAST-MODIFIED:20260403T171650Z
UID:10000438-1775579400-1775586600@www.maryvillecollege.edu
SUMMARY:Welcome Table
DESCRIPTION:
URL:https://www.maryvillecollege.edu/event/welcome-table-75/
LOCATION:1st United Methodist Church (804 Montvale Station Rd\, Maryville\, TN 37803\, United States)
CATEGORIES:Community Engagement
END:VEVENT
BEGIN:VEVENT
DTSTART;TZID=America/New_York:20260409T163000
DTEND;TZID=America/New_York:20260409T183000
DTSTAMP:20260422T031224
CREATED:20250721T191213Z
LAST-MODIFIED:20260403T171650Z
UID:10000439-1775752200-1775759400@www.maryvillecollege.edu
SUMMARY:Welcome Table
DESCRIPTION:
URL:https://www.maryvillecollege.edu/event/welcome-table-76/
LOCATION:New Providence Presbyterian Church
CATEGORIES:Community Engagement
END:VEVENT
BEGIN:VEVENT
DTSTART;TZID=America/New_York:20260410T100000
DTEND;TZID=America/New_York:20260410T123000
DTSTAMP:20260422T031224
CREATED:20250808T214302Z
LAST-MODIFIED:20260403T171650Z
UID:10000721-1775815200-1775824200@www.maryvillecollege.edu
SUMMARY:Free Food & Fellowship
DESCRIPTION:Salvation Army \nSign up BEFORE: https://volunteeretn.galaxydigital.com/need/detail/?need_id=974643
URL:https://www.maryvillecollege.edu/event/free-food-fellowship-salvation-army-89/
LOCATION:Broadway United Methodist Church (309 E Broadway Ave\, Maryville\, TN 37804\, United States)
CATEGORIES:Community Engagement
END:VEVENT
BEGIN:VEVENT
DTSTART;TZID=America/New_York:20260411T083000
DTEND;TZID=America/New_York:20260411T130000
DTSTAMP:20260422T031224
CREATED:20251028T153218Z
LAST-MODIFIED:20260313T143710Z
UID:10001384-1775896200-1775912400@www.maryvillecollege.edu
SUMMARY:KT Weekend
DESCRIPTION:The annual KT Weekend event brings together students and alumni in service of our campus! Projects could include painting\, light carpentry\, trash pickup & invasive species removal in the College Woods\, and other similar improvements to make a positive environmental impact. \nAfter all the work is done\, the day will end with an afternoon celebration and lunch around 12:00pm. \nSign up!
URL:https://www.maryvillecollege.edu/event/kt-weekend-2026/
LOCATION:McArthur Pavilion\, 502 E. Lamar Alexander Pkwy\, Maryville\, TN\, 37804\, United States
CATEGORIES:Activities, Clubs, and Orgs,Alumni Office,Community Engagement,KT Global
ATTACH;FMTTYPE=image/jpeg:https://www.maryvillecollege.edu/wp-content/uploads/Alumni/Events/2025/KT-Weekend.jpg
END:VEVENT
BEGIN:VEVENT
DTSTART;TZID=America/New_York:20260414T163000
DTEND;TZID=America/New_York:20260414T183000
DTSTAMP:20260422T031224
CREATED:20250721T191214Z
LAST-MODIFIED:20260410T173034Z
UID:10000441-1776184200-1776191400@www.maryvillecollege.edu
SUMMARY:Welcome Table
DESCRIPTION:
URL:https://www.maryvillecollege.edu/event/welcome-table-77/
LOCATION:1st United Methodist Church (804 Montvale Station Rd\, Maryville\, TN 37803\, United States)
CATEGORIES:Community Engagement
END:VEVENT
BEGIN:VEVENT
DTSTART;TZID=America/New_York:20260416T163000
DTEND;TZID=America/New_York:20260416T183000
DTSTAMP:20260422T031224
CREATED:20250721T191215Z
LAST-MODIFIED:20260410T173034Z
UID:10000442-1776357000-1776364200@www.maryvillecollege.edu
SUMMARY:Welcome Table
DESCRIPTION:
URL:https://www.maryvillecollege.edu/event/welcome-table-78/
LOCATION:New Providence Presbyterian Church
CATEGORIES:Community Engagement
END:VEVENT
BEGIN:VEVENT
DTSTART;TZID=America/New_York:20260417T100000
DTEND;TZID=America/New_York:20260417T123000
DTSTAMP:20260422T031224
CREATED:20250808T214303Z
LAST-MODIFIED:20260410T173034Z
UID:10000722-1776420000-1776429000@www.maryvillecollege.edu
SUMMARY:Free Food & Fellowship
DESCRIPTION:Salvation Army \nSign up BEFORE: https://volunteeretn.galaxydigital.com/need/detail/?need_id=974643
URL:https://www.maryvillecollege.edu/event/free-food-fellowship-salvation-army-90/
LOCATION:Broadway United Methodist Church (309 E Broadway Ave\, Maryville\, TN 37804\, United States)
CATEGORIES:Community Engagement
END:VEVENT
BEGIN:VEVENT
DTSTART;TZID=America/New_York:20260421T163000
DTEND;TZID=America/New_York:20260421T183000
DTSTAMP:20260422T031224
CREATED:20250721T191216Z
LAST-MODIFIED:20260417T173015Z
UID:10000444-1776789000-1776796200@www.maryvillecollege.edu
SUMMARY:Welcome Table
DESCRIPTION:
URL:https://www.maryvillecollege.edu/event/welcome-table-79/
LOCATION:1st United Methodist Church (804 Montvale Station Rd\, Maryville\, TN 37803\, United States)
CATEGORIES:Community Engagement
END:VEVENT
BEGIN:VEVENT
DTSTART;TZID=America/New_York:20260423T163000
DTEND;TZID=America/New_York:20260423T183000
DTSTAMP:20260422T031224
CREATED:20250721T191217Z
LAST-MODIFIED:20260417T173015Z
UID:10000445-1776961800-1776969000@www.maryvillecollege.edu
SUMMARY:Welcome Table
DESCRIPTION:
URL:https://www.maryvillecollege.edu/event/welcome-table-80/
LOCATION:New Providence Presbyterian Church
CATEGORIES:Community Engagement
END:VEVENT
BEGIN:VEVENT
DTSTART;TZID=America/New_York:20260424T100000
DTEND;TZID=America/New_York:20260424T123000
DTSTAMP:20260422T031224
CREATED:20250808T214305Z
LAST-MODIFIED:20260417T173016Z
UID:10000723-1777024800-1777033800@www.maryvillecollege.edu
SUMMARY:Free Food & Fellowship
DESCRIPTION:Salvation Army \nSign up BEFORE: https://volunteeretn.galaxydigital.com/need/detail/?need_id=974643
URL:https://www.maryvillecollege.edu/event/free-food-fellowship-salvation-army-91/
LOCATION:Broadway United Methodist Church (309 E Broadway Ave\, Maryville\, TN 37804\, United States)
CATEGORIES:Community Engagement
END:VEVENT
BEGIN:VEVENT
DTSTART;TZID=America/New_York:20260428T163000
DTEND;TZID=America/New_York:20260428T183000
DTSTAMP:20260422T031224
CREATED:20250721T191218Z
LAST-MODIFIED:20260417T173017Z
UID:10000447-1777393800-1777401000@www.maryvillecollege.edu
SUMMARY:Welcome Table
DESCRIPTION:
URL:https://www.maryvillecollege.edu/event/welcome-table-81/
LOCATION:1st United Methodist Church (804 Montvale Station Rd\, Maryville\, TN 37803\, United States)
CATEGORIES:Community Engagement
END:VEVENT
BEGIN:VEVENT
DTSTART;TZID=America/New_York:20260430T163000
DTEND;TZID=America/New_York:20260430T183000
DTSTAMP:20260422T031224
CREATED:20250721T191219Z
LAST-MODIFIED:20260417T173017Z
UID:10000448-1777566600-1777573800@www.maryvillecollege.edu
SUMMARY:Welcome Table
DESCRIPTION:
URL:https://www.maryvillecollege.edu/event/welcome-table-82/
LOCATION:New Providence Presbyterian Church
CATEGORIES:Community Engagement
END:VEVENT
BEGIN:VEVENT
DTSTART;TZID=America/New_York:20260501T100000
DTEND;TZID=America/New_York:20260501T123000
DTSTAMP:20260422T031224
CREATED:20250808T214307Z
LAST-MODIFIED:20260417T173018Z
UID:10000724-1777629600-1777638600@www.maryvillecollege.edu
SUMMARY:Free Food & Fellowship
DESCRIPTION:Salvation Army \nSign up BEFORE: https://volunteeretn.galaxydigital.com/need/detail/?need_id=974643
URL:https://www.maryvillecollege.edu/event/free-food-fellowship-salvation-army-92/
LOCATION:Broadway United Methodist Church (309 E Broadway Ave\, Maryville\, TN 37804\, United States)
CATEGORIES:Community Engagement
END:VEVENT
BEGIN:VEVENT
DTSTART;TZID=America/New_York:20260505T163000
DTEND;TZID=America/New_York:20260505T183000
DTSTAMP:20260422T031224
CREATED:20250721T191221Z
LAST-MODIFIED:20260417T173018Z
UID:10000450-1777998600-1778005800@www.maryvillecollege.edu
SUMMARY:Welcome Table
DESCRIPTION:
URL:https://www.maryvillecollege.edu/event/welcome-table-83/
LOCATION:1st United Methodist Church (804 Montvale Station Rd\, Maryville\, TN 37803\, United States)
CATEGORIES:Community Engagement
END:VEVENT
BEGIN:VEVENT
DTSTART;TZID=America/New_York:20260507T163000
DTEND;TZID=America/New_York:20260507T183000
DTSTAMP:20260422T031224
CREATED:20250721T191221Z
LAST-MODIFIED:20260417T173019Z
UID:10000451-1778171400-1778178600@www.maryvillecollege.edu
SUMMARY:Welcome Table
DESCRIPTION:
URL:https://www.maryvillecollege.edu/event/welcome-table-84/
LOCATION:New Providence Presbyterian Church
CATEGORIES:Community Engagement
END:VEVENT
BEGIN:VEVENT
DTSTART;TZID=America/New_York:20260508T100000
DTEND;TZID=America/New_York:20260508T123000
DTSTAMP:20260422T031224
CREATED:20250808T214309Z
LAST-MODIFIED:20260417T173020Z
UID:10000725-1778234400-1778243400@www.maryvillecollege.edu
SUMMARY:Free Food & Fellowship
DESCRIPTION:Salvation Army \nSign up BEFORE: https://volunteeretn.galaxydigital.com/need/detail/?need_id=974643
URL:https://www.maryvillecollege.edu/event/free-food-fellowship-salvation-army-93/
LOCATION:Broadway United Methodist Church (309 E Broadway Ave\, Maryville\, TN 37804\, United States)
CATEGORIES:Community Engagement
END:VEVENT
BEGIN:VEVENT
DTSTART;TZID=America/New_York:20260512T163000
DTEND;TZID=America/New_York:20260512T183000
DTSTAMP:20260422T031224
CREATED:20250721T191223Z
LAST-MODIFIED:20260417T173021Z
UID:10000453-1778603400-1778610600@www.maryvillecollege.edu
SUMMARY:Welcome Table
DESCRIPTION:
URL:https://www.maryvillecollege.edu/event/welcome-table-85/
LOCATION:1st United Methodist Church (804 Montvale Station Rd\, Maryville\, TN 37803\, United States)
CATEGORIES:Community Engagement
END:VEVENT
BEGIN:VEVENT
DTSTART;TZID=America/New_York:20260514T163000
DTEND;TZID=America/New_York:20260514T183000
DTSTAMP:20260422T031224
CREATED:20250721T191223Z
LAST-MODIFIED:20260417T173021Z
UID:10000454-1778776200-1778783400@www.maryvillecollege.edu
SUMMARY:Welcome Table
DESCRIPTION:
URL:https://www.maryvillecollege.edu/event/welcome-table-86/
LOCATION:New Providence Presbyterian Church
CATEGORIES:Community Engagement
END:VEVENT
BEGIN:VEVENT
DTSTART;TZID=America/New_York:20260515T100000
DTEND;TZID=America/New_York:20260515T123000
DTSTAMP:20260422T031224
CREATED:20250808T214310Z
LAST-MODIFIED:20260417T173022Z
UID:10000726-1778839200-1778848200@www.maryvillecollege.edu
SUMMARY:Free Food & Fellowship
DESCRIPTION:Salvation Army \nSign up BEFORE: https://volunteeretn.galaxydigital.com/need/detail/?need_id=974643
URL:https://www.maryvillecollege.edu/event/free-food-fellowship-salvation-army-94/
LOCATION:Broadway United Methodist Church (309 E Broadway Ave\, Maryville\, TN 37804\, United States)
CATEGORIES:Community Engagement
END:VEVENT
BEGIN:VEVENT
DTSTART;TZID=America/New_York:20260519T163000
DTEND;TZID=America/New_York:20260519T183000
DTSTAMP:20260422T031224
CREATED:20250721T191225Z
LAST-MODIFIED:20260417T173022Z
UID:10000456-1779208200-1779215400@www.maryvillecollege.edu
SUMMARY:Welcome Table
DESCRIPTION:
URL:https://www.maryvillecollege.edu/event/welcome-table-87/
LOCATION:1st United Methodist Church (804 Montvale Station Rd\, Maryville\, TN 37803\, United States)
CATEGORIES:Community Engagement
END:VEVENT
BEGIN:VEVENT
DTSTART;TZID=America/New_York:20260521T163000
DTEND;TZID=America/New_York:20260521T183000
DTSTAMP:20260422T031224
CREATED:20250721T191225Z
LAST-MODIFIED:20260417T173023Z
UID:10000457-1779381000-1779388200@www.maryvillecollege.edu
SUMMARY:Welcome Table
DESCRIPTION:
URL:https://www.maryvillecollege.edu/event/welcome-table-88/
LOCATION:New Providence Presbyterian Church
CATEGORIES:Community Engagement
END:VEVENT
BEGIN:VEVENT
DTSTART;TZID=America/New_York:20260522T100000
DTEND;TZID=America/New_York:20260522T123000
DTSTAMP:20260422T031224
CREATED:20250808T214312Z
LAST-MODIFIED:20260417T173024Z
UID:10000727-1779444000-1779453000@www.maryvillecollege.edu
SUMMARY:Free Food & Fellowship
DESCRIPTION:Salvation Army \nSign up BEFORE: https://volunteeretn.galaxydigital.com/need/detail/?need_id=974643
URL:https://www.maryvillecollege.edu/event/free-food-fellowship-salvation-army-95/
LOCATION:Broadway United Methodist Church (309 E Broadway Ave\, Maryville\, TN 37804\, United States)
CATEGORIES:Community Engagement
END:VEVENT
BEGIN:VEVENT
DTSTART;TZID=America/New_York:20260526T163000
DTEND;TZID=America/New_York:20260526T183000
DTSTAMP:20260422T031224
CREATED:20250721T191227Z
LAST-MODIFIED:20260417T173024Z
UID:10000459-1779813000-1779820200@www.maryvillecollege.edu
SUMMARY:Welcome Table
DESCRIPTION:
URL:https://www.maryvillecollege.edu/event/welcome-table-89/
LOCATION:1st United Methodist Church (804 Montvale Station Rd\, Maryville\, TN 37803\, United States)
CATEGORIES:Community Engagement
END:VEVENT
BEGIN:VEVENT
DTSTART;TZID=America/New_York:20260528T163000
DTEND;TZID=America/New_York:20260528T183000
DTSTAMP:20260422T031224
CREATED:20250721T191229Z
LAST-MODIFIED:20260417T173025Z
UID:10000460-1779985800-1779993000@www.maryvillecollege.edu
SUMMARY:Welcome Table
DESCRIPTION:
URL:https://www.maryvillecollege.edu/event/welcome-table-90/
LOCATION:New Providence Presbyterian Church
CATEGORIES:Community Engagement
END:VEVENT
BEGIN:VEVENT
DTSTART;TZID=America/New_York:20260529T100000
DTEND;TZID=America/New_York:20260529T123000
DTSTAMP:20260422T031224
CREATED:20250808T214314Z
LAST-MODIFIED:20260417T173025Z
UID:10000728-1780048800-1780057800@www.maryvillecollege.edu
SUMMARY:Free Food & Fellowship
DESCRIPTION:Salvation Army \nSign up BEFORE: https://volunteeretn.galaxydigital.com/need/detail/?need_id=974643
URL:https://www.maryvillecollege.edu/event/free-food-fellowship-salvation-army-96/
LOCATION:Broadway United Methodist Church (309 E Broadway Ave\, Maryville\, TN 37804\, United States)
CATEGORIES:Community Engagement
END:VEVENT
END:VCALENDAR