BEGIN:VCALENDAR
VERSION:2.0
PRODID:-//Maryville College - ECPv6.15.20//NONSGML v1.0//EN
CALSCALE:GREGORIAN
METHOD:PUBLISH
X-WR-CALNAME:Maryville College
X-ORIGINAL-URL:https://www.maryvillecollege.edu
X-WR-CALDESC:Events for Maryville College
REFRESH-INTERVAL;VALUE=DURATION:PT1H
X-Robots-Tag:noindex
X-PUBLISHED-TTL:PT1H
BEGIN:VTIMEZONE
TZID:America/New_York
BEGIN:DAYLIGHT
TZOFFSETFROM:-0500
TZOFFSETTO:-0400
TZNAME:EDT
DTSTART:20240310T070000
END:DAYLIGHT
BEGIN:STANDARD
TZOFFSETFROM:-0400
TZOFFSETTO:-0500
TZNAME:EST
DTSTART:20241103T060000
END:STANDARD
BEGIN:DAYLIGHT
TZOFFSETFROM:-0500
TZOFFSETTO:-0400
TZNAME:EDT
DTSTART:20250309T070000
END:DAYLIGHT
BEGIN:STANDARD
TZOFFSETFROM:-0400
TZOFFSETTO:-0500
TZNAME:EST
DTSTART:20251102T060000
END:STANDARD
BEGIN:DAYLIGHT
TZOFFSETFROM:-0500
TZOFFSETTO:-0400
TZNAME:EDT
DTSTART:20260308T070000
END:DAYLIGHT
BEGIN:STANDARD
TZOFFSETFROM:-0400
TZOFFSETTO:-0500
TZNAME:EST
DTSTART:20261101T060000
END:STANDARD
BEGIN:DAYLIGHT
TZOFFSETFROM:-0500
TZOFFSETTO:-0400
TZNAME:EDT
DTSTART:20270314T070000
END:DAYLIGHT
BEGIN:STANDARD
TZOFFSETFROM:-0400
TZOFFSETTO:-0500
TZNAME:EST
DTSTART:20271107T060000
END:STANDARD
END:VTIMEZONE
BEGIN:VEVENT
DTSTART;TZID=America/New_York:20260120T163000
DTEND;TZID=America/New_York:20260120T183000
DTSTAMP:20260421T201727
CREATED:20250721T191147Z
LAST-MODIFIED:20260116T164514Z
UID:10000405-1768926600-1768933800@www.maryvillecollege.edu
SUMMARY:Welcome Table
DESCRIPTION:
URL:https://www.maryvillecollege.edu/event/welcome-table-53/
LOCATION:1st United Methodist Church (804 Montvale Station Rd\, Maryville\, TN 37803\, United States)
CATEGORIES:Community Engagement
END:VEVENT
BEGIN:VEVENT
DTSTART;TZID=America/New_York:20260116T100000
DTEND;TZID=America/New_York:20260116T123000
DTSTAMP:20260421T201727
CREATED:20250808T214238Z
LAST-MODIFIED:20260116T164513Z
UID:10000709-1768557600-1768566600@www.maryvillecollege.edu
SUMMARY:Free Food & Fellowship
DESCRIPTION:Salvation Army \nSign up BEFORE: https://volunteeretn.galaxydigital.com/need/detail/?need_id=974643
URL:https://www.maryvillecollege.edu/event/free-food-fellowship-salvation-army-77/
LOCATION:Broadway United Methodist Church (309 E Broadway Ave\, Maryville\, TN 37804\, United States)
CATEGORIES:Community Engagement
END:VEVENT
BEGIN:VEVENT
DTSTART;TZID=America/New_York:20260115T163000
DTEND;TZID=America/New_York:20260115T183000
DTSTAMP:20260421T201727
CREATED:20250721T191146Z
LAST-MODIFIED:20260109T164555Z
UID:10000403-1768494600-1768501800@www.maryvillecollege.edu
SUMMARY:Welcome Table
DESCRIPTION:
URL:https://www.maryvillecollege.edu/event/welcome-table-52/
LOCATION:New Providence Presbyterian Church
CATEGORIES:Community Engagement
END:VEVENT
BEGIN:VEVENT
DTSTART;TZID=America/New_York:20260113T163000
DTEND;TZID=America/New_York:20260113T183000
DTSTAMP:20260421T201727
CREATED:20250721T191145Z
LAST-MODIFIED:20260109T164555Z
UID:10000402-1768321800-1768329000@www.maryvillecollege.edu
SUMMARY:Welcome Table
DESCRIPTION:
URL:https://www.maryvillecollege.edu/event/welcome-table-51/
LOCATION:1st United Methodist Church (804 Montvale Station Rd\, Maryville\, TN 37803\, United States)
CATEGORIES:Community Engagement
END:VEVENT
BEGIN:VEVENT
DTSTART;TZID=America/New_York:20260109T100000
DTEND;TZID=America/New_York:20260109T123000
DTSTAMP:20260421T201727
CREATED:20250808T214236Z
LAST-MODIFIED:20260109T164555Z
UID:10000708-1767952800-1767961800@www.maryvillecollege.edu
SUMMARY:Free Food & Fellowship
DESCRIPTION:Salvation Army \nSign up BEFORE: https://volunteeretn.galaxydigital.com/need/detail/?need_id=974643
URL:https://www.maryvillecollege.edu/event/free-food-fellowship-salvation-army-76/
LOCATION:Broadway United Methodist Church (309 E Broadway Ave\, Maryville\, TN 37804\, United States)
CATEGORIES:Community Engagement
END:VEVENT
BEGIN:VEVENT
DTSTART;TZID=America/New_York:20260108T163000
DTEND;TZID=America/New_York:20260108T183000
DTSTAMP:20260421T201727
CREATED:20250721T191143Z
LAST-MODIFIED:20260102T164516Z
UID:10000400-1767889800-1767897000@www.maryvillecollege.edu
SUMMARY:Welcome Table
DESCRIPTION:
URL:https://www.maryvillecollege.edu/event/welcome-table-50/
LOCATION:New Providence Presbyterian Church
CATEGORIES:Community Engagement
END:VEVENT
BEGIN:VEVENT
DTSTART;TZID=America/New_York:20260106T163000
DTEND;TZID=America/New_York:20260106T183000
DTSTAMP:20260421T201727
CREATED:20250721T191143Z
LAST-MODIFIED:20260102T164515Z
UID:10000399-1767717000-1767724200@www.maryvillecollege.edu
SUMMARY:Welcome Table
DESCRIPTION:
URL:https://www.maryvillecollege.edu/event/welcome-table-49/
LOCATION:1st United Methodist Church (804 Montvale Station Rd\, Maryville\, TN 37803\, United States)
CATEGORIES:Community Engagement
END:VEVENT
BEGIN:VEVENT
DTSTART;TZID=America/New_York:20260102T100000
DTEND;TZID=America/New_York:20260102T123000
DTSTAMP:20260421T201727
CREATED:20250808T214234Z
LAST-MODIFIED:20260102T164515Z
UID:10000707-1767348000-1767357000@www.maryvillecollege.edu
SUMMARY:Free Food & Fellowship
DESCRIPTION:Salvation Army \nSign up BEFORE: https://volunteeretn.galaxydigital.com/need/detail/?need_id=974643
URL:https://www.maryvillecollege.edu/event/free-food-fellowship-salvation-army-75/
LOCATION:Broadway United Methodist Church (309 E Broadway Ave\, Maryville\, TN 37804\, United States)
CATEGORIES:Community Engagement
END:VEVENT
BEGIN:VEVENT
DTSTART;TZID=America/New_York:20251230T163000
DTEND;TZID=America/New_York:20251230T183000
DTSTAMP:20260421T201727
CREATED:20250721T191141Z
LAST-MODIFIED:20251226T164610Z
UID:10000396-1767112200-1767119400@www.maryvillecollege.edu
SUMMARY:Welcome Table
DESCRIPTION:
URL:https://www.maryvillecollege.edu/event/welcome-table-47/
LOCATION:1st United Methodist Church (804 Montvale Station Rd\, Maryville\, TN 37803\, United States)
CATEGORIES:Community Engagement
END:VEVENT
BEGIN:VEVENT
DTSTART;TZID=America/New_York:20251226T100000
DTEND;TZID=America/New_York:20251226T123000
DTSTAMP:20260421T201727
CREATED:20250808T214232Z
LAST-MODIFIED:20251226T164610Z
UID:10000706-1766743200-1766752200@www.maryvillecollege.edu
SUMMARY:Free Food & Fellowship
DESCRIPTION:Salvation Army \nSign up BEFORE: https://volunteeretn.galaxydigital.com/need/detail/?need_id=974643
URL:https://www.maryvillecollege.edu/event/free-food-fellowship-salvation-army-74/
LOCATION:Broadway United Methodist Church (309 E Broadway Ave\, Maryville\, TN 37804\, United States)
CATEGORIES:Community Engagement
END:VEVENT
BEGIN:VEVENT
DTSTART;TZID=America/New_York:20251223T163000
DTEND;TZID=America/New_York:20251223T183000
DTSTAMP:20260421T201727
CREATED:20250721T191138Z
LAST-MODIFIED:20251219T164514Z
UID:10000393-1766507400-1766514600@www.maryvillecollege.edu
SUMMARY:Welcome Table
DESCRIPTION:
URL:https://www.maryvillecollege.edu/event/welcome-table-45/
LOCATION:1st United Methodist Church (804 Montvale Station Rd\, Maryville\, TN 37803\, United States)
CATEGORIES:Community Engagement
END:VEVENT
BEGIN:VEVENT
DTSTART;TZID=America/New_York:20251219T100000
DTEND;TZID=America/New_York:20251219T123000
DTSTAMP:20260421T201727
CREATED:20250808T214230Z
LAST-MODIFIED:20251219T164514Z
UID:10000705-1766138400-1766147400@www.maryvillecollege.edu
SUMMARY:Free Food & Fellowship
DESCRIPTION:Salvation Army \nSign up BEFORE: https://volunteeretn.galaxydigital.com/need/detail/?need_id=974643
URL:https://www.maryvillecollege.edu/event/free-food-fellowship-salvation-army-73/
LOCATION:Broadway United Methodist Church (309 E Broadway Ave\, Maryville\, TN 37804\, United States)
CATEGORIES:Community Engagement
END:VEVENT
BEGIN:VEVENT
DTSTART;TZID=America/New_York:20251218T163000
DTEND;TZID=America/New_York:20251218T183000
DTSTAMP:20260421T201727
CREATED:20250721T191137Z
LAST-MODIFIED:20251212T163017Z
UID:10000391-1766075400-1766082600@www.maryvillecollege.edu
SUMMARY:Welcome Table
DESCRIPTION:
URL:https://www.maryvillecollege.edu/event/welcome-table-44/
LOCATION:New Providence Presbyterian Church
CATEGORIES:Community Engagement
END:VEVENT
BEGIN:VEVENT
DTSTART;TZID=America/New_York:20251216T163000
DTEND;TZID=America/New_York:20251216T183000
DTSTAMP:20260421T201727
CREATED:20250721T191136Z
LAST-MODIFIED:20251212T163016Z
UID:10000390-1765902600-1765909800@www.maryvillecollege.edu
SUMMARY:Welcome Table
DESCRIPTION:
URL:https://www.maryvillecollege.edu/event/welcome-table-43/
LOCATION:1st United Methodist Church (804 Montvale Station Rd\, Maryville\, TN 37803\, United States)
CATEGORIES:Community Engagement
END:VEVENT
BEGIN:VEVENT
DTSTART;TZID=America/New_York:20251212T100000
DTEND;TZID=America/New_York:20251212T123000
DTSTAMP:20260421T201727
CREATED:20250808T214229Z
LAST-MODIFIED:20251212T163015Z
UID:10000704-1765533600-1765542600@www.maryvillecollege.edu
SUMMARY:Free Food & Fellowship
DESCRIPTION:Salvation Army \nSign up BEFORE: https://volunteeretn.galaxydigital.com/need/detail/?need_id=974643
URL:https://www.maryvillecollege.edu/event/free-food-fellowship-salvation-army-72/
LOCATION:Broadway United Methodist Church (309 E Broadway Ave\, Maryville\, TN 37804\, United States)
CATEGORIES:Community Engagement
END:VEVENT
BEGIN:VEVENT
DTSTART;TZID=America/New_York:20251211T163000
DTEND;TZID=America/New_York:20251211T183000
DTSTAMP:20260421T201727
CREATED:20250721T191135Z
LAST-MODIFIED:20251205T163020Z
UID:10000388-1765470600-1765477800@www.maryvillecollege.edu
SUMMARY:Welcome Table
DESCRIPTION:
URL:https://www.maryvillecollege.edu/event/welcome-table-42/
LOCATION:New Providence Presbyterian Church
CATEGORIES:Community Engagement
END:VEVENT
BEGIN:VEVENT
DTSTART;TZID=America/New_York:20251209T163000
DTEND;TZID=America/New_York:20251209T183000
DTSTAMP:20260421T201727
CREATED:20250721T191134Z
LAST-MODIFIED:20251205T163019Z
UID:10000387-1765297800-1765305000@www.maryvillecollege.edu
SUMMARY:Welcome Table
DESCRIPTION:
URL:https://www.maryvillecollege.edu/event/welcome-table-41/
LOCATION:1st United Methodist Church (804 Montvale Station Rd\, Maryville\, TN 37803\, United States)
CATEGORIES:Community Engagement
END:VEVENT
BEGIN:VEVENT
DTSTART;TZID=America/New_York:20251205T100000
DTEND;TZID=America/New_York:20251205T123000
DTSTAMP:20260421T201727
CREATED:20250808T214227Z
LAST-MODIFIED:20251205T163018Z
UID:10000703-1764928800-1764937800@www.maryvillecollege.edu
SUMMARY:Free Food & Fellowship
DESCRIPTION:Salvation Army \nSign up BEFORE: https://volunteeretn.galaxydigital.com/need/detail/?need_id=974643
URL:https://www.maryvillecollege.edu/event/free-food-fellowship-salvation-army-71/
LOCATION:Broadway United Methodist Church (309 E Broadway Ave\, Maryville\, TN 37804\, United States)
CATEGORIES:Community Engagement
END:VEVENT
BEGIN:VEVENT
DTSTART;TZID=America/New_York:20251204T163000
DTEND;TZID=America/New_York:20251204T183000
DTSTAMP:20260421T201727
CREATED:20250721T191133Z
LAST-MODIFIED:20251128T161514Z
UID:10000385-1764865800-1764873000@www.maryvillecollege.edu
SUMMARY:Welcome Table
DESCRIPTION:
URL:https://www.maryvillecollege.edu/event/welcome-table-40/
LOCATION:New Providence Presbyterian Church
CATEGORIES:Community Engagement
END:VEVENT
BEGIN:VEVENT
DTSTART;TZID=America/New_York:20251202T163000
DTEND;TZID=America/New_York:20251202T183000
DTSTAMP:20260421T201727
CREATED:20250721T191132Z
LAST-MODIFIED:20251128T161513Z
UID:10000384-1764693000-1764700200@www.maryvillecollege.edu
SUMMARY:Welcome Table
DESCRIPTION:
URL:https://www.maryvillecollege.edu/event/welcome-table-39/
LOCATION:1st United Methodist Church (804 Montvale Station Rd\, Maryville\, TN 37803\, United States)
CATEGORIES:Community Engagement
END:VEVENT
BEGIN:VEVENT
DTSTART;TZID=America/New_York:20251128T100000
DTEND;TZID=America/New_York:20251128T123000
DTSTAMP:20260421T201727
CREATED:20250808T214225Z
LAST-MODIFIED:20251128T161512Z
UID:10000702-1764324000-1764333000@www.maryvillecollege.edu
SUMMARY:Free Food & Fellowship
DESCRIPTION:Salvation Army \nSign up BEFORE: https://volunteeretn.galaxydigital.com/need/detail/?need_id=974643
URL:https://www.maryvillecollege.edu/event/free-food-fellowship-salvation-army-70/
LOCATION:Broadway United Methodist Church (309 E Broadway Ave\, Maryville\, TN 37804\, United States)
CATEGORIES:Community Engagement
END:VEVENT
BEGIN:VEVENT
DTSTART;TZID=America/New_York:20251127T163000
DTEND;TZID=America/New_York:20251127T183000
DTSTAMP:20260421T201727
CREATED:20250721T191131Z
LAST-MODIFIED:20251121T161515Z
UID:10000382-1764261000-1764268200@www.maryvillecollege.edu
SUMMARY:Welcome Table
DESCRIPTION:
URL:https://www.maryvillecollege.edu/event/welcome-table-38/
LOCATION:New Providence Presbyterian Church
CATEGORIES:Community Engagement
END:VEVENT
BEGIN:VEVENT
DTSTART;TZID=America/New_York:20251125T163000
DTEND;TZID=America/New_York:20251125T183000
DTSTAMP:20260421T201727
CREATED:20250721T191130Z
LAST-MODIFIED:20251121T161514Z
UID:10000381-1764088200-1764095400@www.maryvillecollege.edu
SUMMARY:Welcome Table
DESCRIPTION:
URL:https://www.maryvillecollege.edu/event/welcome-table-37/
LOCATION:1st United Methodist Church (804 Montvale Station Rd\, Maryville\, TN 37803\, United States)
CATEGORIES:Community Engagement
END:VEVENT
BEGIN:VEVENT
DTSTART;TZID=America/New_York:20251121T100000
DTEND;TZID=America/New_York:20251121T123000
DTSTAMP:20260421T201727
CREATED:20250808T214223Z
LAST-MODIFIED:20251121T161513Z
UID:10000701-1763719200-1763728200@www.maryvillecollege.edu
SUMMARY:Free Food & Fellowship
DESCRIPTION:Salvation Army \nSign up BEFORE: https://volunteeretn.galaxydigital.com/need/detail/?need_id=974643
URL:https://www.maryvillecollege.edu/event/free-food-fellowship-salvation-army-69/
LOCATION:Broadway United Methodist Church (309 E Broadway Ave\, Maryville\, TN 37804\, United States)
CATEGORIES:Community Engagement
END:VEVENT
BEGIN:VEVENT
DTSTART;TZID=America/New_York:20251120T163000
DTEND;TZID=America/New_York:20251120T183000
DTSTAMP:20260421T201727
CREATED:20250721T191128Z
LAST-MODIFIED:20251114T161515Z
UID:10000379-1763656200-1763663400@www.maryvillecollege.edu
SUMMARY:Welcome Table
DESCRIPTION:
URL:https://www.maryvillecollege.edu/event/welcome-table-36/
LOCATION:New Providence Presbyterian Church
CATEGORIES:Community Engagement
END:VEVENT
BEGIN:VEVENT
DTSTART;TZID=America/New_York:20251118T163000
DTEND;TZID=America/New_York:20251118T183000
DTSTAMP:20260421T201727
CREATED:20250721T191128Z
LAST-MODIFIED:20251114T161514Z
UID:10000378-1763483400-1763490600@www.maryvillecollege.edu
SUMMARY:Welcome Table
DESCRIPTION:
URL:https://www.maryvillecollege.edu/event/welcome-table-35/
LOCATION:1st United Methodist Church (804 Montvale Station Rd\, Maryville\, TN 37803\, United States)
CATEGORIES:Community Engagement
END:VEVENT
BEGIN:VEVENT
DTSTART;TZID=America/New_York:20251114T100000
DTEND;TZID=America/New_York:20251114T123000
DTSTAMP:20260421T201727
CREATED:20250808T214221Z
LAST-MODIFIED:20251114T161513Z
UID:10000700-1763114400-1763123400@www.maryvillecollege.edu
SUMMARY:Free Food & Fellowship
DESCRIPTION:Salvation Army \nSign up BEFORE: https://volunteeretn.galaxydigital.com/need/detail/?need_id=974643
URL:https://www.maryvillecollege.edu/event/free-food-fellowship-salvation-army-68/
LOCATION:Broadway United Methodist Church (309 E Broadway Ave\, Maryville\, TN 37804\, United States)
CATEGORIES:Community Engagement
END:VEVENT
BEGIN:VEVENT
DTSTART;TZID=America/New_York:20251113T163000
DTEND;TZID=America/New_York:20251113T183000
DTSTAMP:20260421T201727
CREATED:20250721T191125Z
LAST-MODIFIED:20251107T160024Z
UID:10000376-1763051400-1763058600@www.maryvillecollege.edu
SUMMARY:Welcome Table
DESCRIPTION:
URL:https://www.maryvillecollege.edu/event/welcome-table-34/
LOCATION:New Providence Presbyterian Church
CATEGORIES:Community Engagement
END:VEVENT
BEGIN:VEVENT
DTSTART;TZID=America/New_York:20251111T163000
DTEND;TZID=America/New_York:20251111T183000
DTSTAMP:20260421T201727
CREATED:20250721T191125Z
LAST-MODIFIED:20251107T160023Z
UID:10000375-1762878600-1762885800@www.maryvillecollege.edu
SUMMARY:Welcome Table
DESCRIPTION:
URL:https://www.maryvillecollege.edu/event/welcome-table-33/
LOCATION:1st United Methodist Church (804 Montvale Station Rd\, Maryville\, TN 37803\, United States)
CATEGORIES:Community Engagement
END:VEVENT
BEGIN:VEVENT
DTSTART;TZID=America/New_York:20251107T100000
DTEND;TZID=America/New_York:20251107T123000
DTSTAMP:20260421T201727
CREATED:20250808T214219Z
LAST-MODIFIED:20251107T160022Z
UID:10000699-1762509600-1762518600@www.maryvillecollege.edu
SUMMARY:Free Food & Fellowship
DESCRIPTION:Salvation Army \nSign up BEFORE: https://volunteeretn.galaxydigital.com/need/detail/?need_id=974643
URL:https://www.maryvillecollege.edu/event/free-food-fellowship-salvation-army-67/
LOCATION:Broadway United Methodist Church (309 E Broadway Ave\, Maryville\, TN 37804\, United States)
CATEGORIES:Community Engagement
END:VEVENT
END:VCALENDAR