BEGIN:VCALENDAR
VERSION:2.0
PRODID:-//Maryville College - ECPv6.15.20//NONSGML v1.0//EN
CALSCALE:GREGORIAN
METHOD:PUBLISH
X-WR-CALNAME:Maryville College
X-ORIGINAL-URL:https://www.maryvillecollege.edu
X-WR-CALDESC:Events for Maryville College
REFRESH-INTERVAL;VALUE=DURATION:PT1H
X-Robots-Tag:noindex
X-PUBLISHED-TTL:PT1H
BEGIN:VTIMEZONE
TZID:America/New_York
BEGIN:DAYLIGHT
TZOFFSETFROM:-0500
TZOFFSETTO:-0400
TZNAME:EDT
DTSTART:20250309T070000
END:DAYLIGHT
BEGIN:STANDARD
TZOFFSETFROM:-0400
TZOFFSETTO:-0500
TZNAME:EST
DTSTART:20251102T060000
END:STANDARD
BEGIN:DAYLIGHT
TZOFFSETFROM:-0500
TZOFFSETTO:-0400
TZNAME:EDT
DTSTART:20260308T070000
END:DAYLIGHT
BEGIN:STANDARD
TZOFFSETFROM:-0400
TZOFFSETTO:-0500
TZNAME:EST
DTSTART:20261101T060000
END:STANDARD
BEGIN:DAYLIGHT
TZOFFSETFROM:-0500
TZOFFSETTO:-0400
TZNAME:EDT
DTSTART:20270314T070000
END:DAYLIGHT
BEGIN:STANDARD
TZOFFSETFROM:-0400
TZOFFSETTO:-0500
TZNAME:EST
DTSTART:20271107T060000
END:STANDARD
END:VTIMEZONE
BEGIN:VEVENT
DTSTART;TZID=America/New_York:20260417T100000
DTEND;TZID=America/New_York:20260417T123000
DTSTAMP:20260421T173618
CREATED:20250808T214303Z
LAST-MODIFIED:20260410T173034Z
UID:10000722-1776420000-1776429000@www.maryvillecollege.edu
SUMMARY:Free Food & Fellowship
DESCRIPTION:Salvation Army \nSign up BEFORE: https://volunteeretn.galaxydigital.com/need/detail/?need_id=974643
URL:https://www.maryvillecollege.edu/event/free-food-fellowship-salvation-army-90/
LOCATION:Broadway United Methodist Church (309 E Broadway Ave\, Maryville\, TN 37804\, United States)
CATEGORIES:Community Engagement
END:VEVENT
BEGIN:VEVENT
DTSTART;TZID=America/New_York:20260416T163000
DTEND;TZID=America/New_York:20260416T183000
DTSTAMP:20260421T173618
CREATED:20250721T191215Z
LAST-MODIFIED:20260410T173034Z
UID:10000442-1776357000-1776364200@www.maryvillecollege.edu
SUMMARY:Welcome Table
DESCRIPTION:
URL:https://www.maryvillecollege.edu/event/welcome-table-78/
LOCATION:New Providence Presbyterian Church
CATEGORIES:Community Engagement
END:VEVENT
BEGIN:VEVENT
DTSTART;TZID=America/New_York:20260414T163000
DTEND;TZID=America/New_York:20260414T183000
DTSTAMP:20260421T173618
CREATED:20250721T191214Z
LAST-MODIFIED:20260410T173034Z
UID:10000441-1776184200-1776191400@www.maryvillecollege.edu
SUMMARY:Welcome Table
DESCRIPTION:
URL:https://www.maryvillecollege.edu/event/welcome-table-77/
LOCATION:1st United Methodist Church (804 Montvale Station Rd\, Maryville\, TN 37803\, United States)
CATEGORIES:Community Engagement
END:VEVENT
BEGIN:VEVENT
DTSTART;TZID=America/New_York:20260411T083000
DTEND;TZID=America/New_York:20260411T130000
DTSTAMP:20260421T173618
CREATED:20251028T153218Z
LAST-MODIFIED:20260313T143710Z
UID:10001384-1775896200-1775912400@www.maryvillecollege.edu
SUMMARY:KT Weekend
DESCRIPTION:The annual KT Weekend event brings together students and alumni in service of our campus! Projects could include painting\, light carpentry\, trash pickup & invasive species removal in the College Woods\, and other similar improvements to make a positive environmental impact. \nAfter all the work is done\, the day will end with an afternoon celebration and lunch around 12:00pm. \nSign up!
URL:https://www.maryvillecollege.edu/event/kt-weekend-2026/
LOCATION:McArthur Pavilion\, 502 E. Lamar Alexander Pkwy\, Maryville\, TN\, 37804\, United States
CATEGORIES:Activities, Clubs, and Orgs,Alumni Office,Community Engagement,KT Global
ATTACH;FMTTYPE=image/jpeg:https://www.maryvillecollege.edu/wp-content/uploads/Alumni/Events/2025/KT-Weekend.jpg
END:VEVENT
BEGIN:VEVENT
DTSTART;TZID=America/New_York:20260410T100000
DTEND;TZID=America/New_York:20260410T123000
DTSTAMP:20260421T173618
CREATED:20250808T214302Z
LAST-MODIFIED:20260403T171650Z
UID:10000721-1775815200-1775824200@www.maryvillecollege.edu
SUMMARY:Free Food & Fellowship
DESCRIPTION:Salvation Army \nSign up BEFORE: https://volunteeretn.galaxydigital.com/need/detail/?need_id=974643
URL:https://www.maryvillecollege.edu/event/free-food-fellowship-salvation-army-89/
LOCATION:Broadway United Methodist Church (309 E Broadway Ave\, Maryville\, TN 37804\, United States)
CATEGORIES:Community Engagement
END:VEVENT
BEGIN:VEVENT
DTSTART;TZID=America/New_York:20260409T163000
DTEND;TZID=America/New_York:20260409T183000
DTSTAMP:20260421T173618
CREATED:20250721T191213Z
LAST-MODIFIED:20260403T171650Z
UID:10000439-1775752200-1775759400@www.maryvillecollege.edu
SUMMARY:Welcome Table
DESCRIPTION:
URL:https://www.maryvillecollege.edu/event/welcome-table-76/
LOCATION:New Providence Presbyterian Church
CATEGORIES:Community Engagement
END:VEVENT
BEGIN:VEVENT
DTSTART;TZID=America/New_York:20260407T163000
DTEND;TZID=America/New_York:20260407T183000
DTSTAMP:20260421T173618
CREATED:20250721T191212Z
LAST-MODIFIED:20260403T171650Z
UID:10000438-1775579400-1775586600@www.maryvillecollege.edu
SUMMARY:Welcome Table
DESCRIPTION:
URL:https://www.maryvillecollege.edu/event/welcome-table-75/
LOCATION:1st United Methodist Church (804 Montvale Station Rd\, Maryville\, TN 37803\, United States)
CATEGORIES:Community Engagement
END:VEVENT
BEGIN:VEVENT
DTSTART;TZID=America/New_York:20260403T100000
DTEND;TZID=America/New_York:20260403T123000
DTSTAMP:20260421T173618
CREATED:20250808T214300Z
LAST-MODIFIED:20260327T171521Z
UID:10000720-1775210400-1775219400@www.maryvillecollege.edu
SUMMARY:Free Food & Fellowship
DESCRIPTION:Salvation Army \nSign up BEFORE: https://volunteeretn.galaxydigital.com/need/detail/?need_id=974643
URL:https://www.maryvillecollege.edu/event/free-food-fellowship-salvation-army-88/
LOCATION:Broadway United Methodist Church (309 E Broadway Ave\, Maryville\, TN 37804\, United States)
CATEGORIES:Community Engagement
END:VEVENT
BEGIN:VEVENT
DTSTART;TZID=America/New_York:20260402T163000
DTEND;TZID=America/New_York:20260402T183000
DTSTAMP:20260421T173618
CREATED:20250721T191210Z
LAST-MODIFIED:20260327T171521Z
UID:10000436-1775147400-1775154600@www.maryvillecollege.edu
SUMMARY:Welcome Table
DESCRIPTION:
URL:https://www.maryvillecollege.edu/event/welcome-table-74/
LOCATION:New Providence Presbyterian Church
CATEGORIES:Community Engagement
END:VEVENT
BEGIN:VEVENT
DTSTART;TZID=America/New_York:20260331T163000
DTEND;TZID=America/New_York:20260331T183000
DTSTAMP:20260421T173618
CREATED:20250721T191210Z
LAST-MODIFIED:20260327T171520Z
UID:10000435-1774974600-1774981800@www.maryvillecollege.edu
SUMMARY:Welcome Table
DESCRIPTION:
URL:https://www.maryvillecollege.edu/event/welcome-table-73/
LOCATION:1st United Methodist Church (804 Montvale Station Rd\, Maryville\, TN 37803\, United States)
CATEGORIES:Community Engagement
END:VEVENT
BEGIN:VEVENT
DTSTART;TZID=America/New_York:20260327T100000
DTEND;TZID=America/New_York:20260327T123000
DTSTAMP:20260421T173619
CREATED:20250808T214258Z
LAST-MODIFIED:20260320T171520Z
UID:10000719-1774605600-1774614600@www.maryvillecollege.edu
SUMMARY:Free Food & Fellowship
DESCRIPTION:Salvation Army \nSign up BEFORE: https://volunteeretn.galaxydigital.com/need/detail/?need_id=974643
URL:https://www.maryvillecollege.edu/event/free-food-fellowship-salvation-army-87/
LOCATION:Broadway United Methodist Church (309 E Broadway Ave\, Maryville\, TN 37804\, United States)
CATEGORIES:Community Engagement
END:VEVENT
BEGIN:VEVENT
DTSTART;TZID=America/New_York:20260326T163000
DTEND;TZID=America/New_York:20260326T183000
DTSTAMP:20260421T173619
CREATED:20250721T191208Z
LAST-MODIFIED:20260320T171520Z
UID:10000433-1774542600-1774549800@www.maryvillecollege.edu
SUMMARY:Welcome Table
DESCRIPTION:
URL:https://www.maryvillecollege.edu/event/welcome-table-72/
LOCATION:New Providence Presbyterian Church
CATEGORIES:Community Engagement
END:VEVENT
BEGIN:VEVENT
DTSTART;TZID=America/New_York:20260324T163000
DTEND;TZID=America/New_York:20260324T183000
DTSTAMP:20260421T173619
CREATED:20250721T191207Z
LAST-MODIFIED:20260320T171519Z
UID:10000432-1774369800-1774377000@www.maryvillecollege.edu
SUMMARY:Welcome Table
DESCRIPTION:
URL:https://www.maryvillecollege.edu/event/welcome-table-71/
LOCATION:1st United Methodist Church (804 Montvale Station Rd\, Maryville\, TN 37803\, United States)
CATEGORIES:Community Engagement
END:VEVENT
BEGIN:VEVENT
DTSTART;TZID=America/New_York:20260320T100000
DTEND;TZID=America/New_York:20260320T123000
DTSTAMP:20260421T173619
CREATED:20250808T214256Z
LAST-MODIFIED:20260313T171523Z
UID:10000718-1774000800-1774009800@www.maryvillecollege.edu
SUMMARY:Free Food & Fellowship
DESCRIPTION:Salvation Army \nSign up BEFORE: https://volunteeretn.galaxydigital.com/need/detail/?need_id=974643
URL:https://www.maryvillecollege.edu/event/free-food-fellowship-salvation-army-86/
LOCATION:Broadway United Methodist Church (309 E Broadway Ave\, Maryville\, TN 37804\, United States)
CATEGORIES:Community Engagement
END:VEVENT
BEGIN:VEVENT
DTSTART;TZID=America/New_York:20260319T163000
DTEND;TZID=America/New_York:20260319T183000
DTSTAMP:20260421T173619
CREATED:20250721T191205Z
LAST-MODIFIED:20260313T171522Z
UID:10000430-1773937800-1773945000@www.maryvillecollege.edu
SUMMARY:Welcome Table
DESCRIPTION:
URL:https://www.maryvillecollege.edu/event/welcome-table-70/
LOCATION:New Providence Presbyterian Church
CATEGORIES:Community Engagement
END:VEVENT
BEGIN:VEVENT
DTSTART;TZID=America/New_York:20260317T163000
DTEND;TZID=America/New_York:20260317T183000
DTSTAMP:20260421T173619
CREATED:20250721T191205Z
LAST-MODIFIED:20260313T171521Z
UID:10000429-1773765000-1773772200@www.maryvillecollege.edu
SUMMARY:Welcome Table
DESCRIPTION:
URL:https://www.maryvillecollege.edu/event/welcome-table-69/
LOCATION:1st United Methodist Church (804 Montvale Station Rd\, Maryville\, TN 37803\, United States)
CATEGORIES:Community Engagement
END:VEVENT
BEGIN:VEVENT
DTSTART;TZID=America/New_York:20260313T100000
DTEND;TZID=America/New_York:20260313T123000
DTSTAMP:20260421T173619
CREATED:20250808T214253Z
LAST-MODIFIED:20260306T171523Z
UID:10000717-1773396000-1773405000@www.maryvillecollege.edu
SUMMARY:Free Food & Fellowship
DESCRIPTION:Salvation Army \nSign up BEFORE: https://volunteeretn.galaxydigital.com/need/detail/?need_id=974643
URL:https://www.maryvillecollege.edu/event/free-food-fellowship-salvation-army-85/
LOCATION:Broadway United Methodist Church (309 E Broadway Ave\, Maryville\, TN 37804\, United States)
CATEGORIES:Community Engagement
END:VEVENT
BEGIN:VEVENT
DTSTART;TZID=America/New_York:20260312T163000
DTEND;TZID=America/New_York:20260312T183000
DTSTAMP:20260421T173619
CREATED:20250721T191203Z
LAST-MODIFIED:20260306T171522Z
UID:10000427-1773333000-1773340200@www.maryvillecollege.edu
SUMMARY:Welcome Table
DESCRIPTION:
URL:https://www.maryvillecollege.edu/event/welcome-table-68/
LOCATION:New Providence Presbyterian Church
CATEGORIES:Community Engagement
END:VEVENT
BEGIN:VEVENT
DTSTART;TZID=America/New_York:20260310T163000
DTEND;TZID=America/New_York:20260310T183000
DTSTAMP:20260421T173619
CREATED:20250721T191203Z
LAST-MODIFIED:20260306T171521Z
UID:10000426-1773160200-1773167400@www.maryvillecollege.edu
SUMMARY:Welcome Table
DESCRIPTION:
URL:https://www.maryvillecollege.edu/event/welcome-table-67/
LOCATION:1st United Methodist Church (804 Montvale Station Rd\, Maryville\, TN 37803\, United States)
CATEGORIES:Community Engagement
END:VEVENT
BEGIN:VEVENT
DTSTART;TZID=America/New_York:20260306T100000
DTEND;TZID=America/New_York:20260306T123000
DTSTAMP:20260421T173619
CREATED:20250808T214251Z
LAST-MODIFIED:20260306T171521Z
UID:10000716-1772791200-1772800200@www.maryvillecollege.edu
SUMMARY:Free Food & Fellowship
DESCRIPTION:Salvation Army \nSign up BEFORE: https://volunteeretn.galaxydigital.com/need/detail/?need_id=974643
URL:https://www.maryvillecollege.edu/event/free-food-fellowship-salvation-army-84/
LOCATION:Broadway United Methodist Church (309 E Broadway Ave\, Maryville\, TN 37804\, United States)
CATEGORIES:Community Engagement
END:VEVENT
BEGIN:VEVENT
DTSTART;TZID=America/New_York:20260305T163000
DTEND;TZID=America/New_York:20260305T183000
DTSTAMP:20260421T173619
CREATED:20250721T191201Z
LAST-MODIFIED:20260227T170018Z
UID:10000424-1772728200-1772735400@www.maryvillecollege.edu
SUMMARY:Welcome Table
DESCRIPTION:
URL:https://www.maryvillecollege.edu/event/welcome-table-66/
LOCATION:New Providence Presbyterian Church
CATEGORIES:Community Engagement
END:VEVENT
BEGIN:VEVENT
DTSTART;TZID=America/New_York:20260303T163000
DTEND;TZID=America/New_York:20260303T183000
DTSTAMP:20260421T173619
CREATED:20250721T191201Z
LAST-MODIFIED:20260227T170017Z
UID:10000423-1772555400-1772562600@www.maryvillecollege.edu
SUMMARY:Welcome Table
DESCRIPTION:
URL:https://www.maryvillecollege.edu/event/welcome-table-65/
LOCATION:1st United Methodist Church (804 Montvale Station Rd\, Maryville\, TN 37803\, United States)
CATEGORIES:Community Engagement
END:VEVENT
BEGIN:VEVENT
DTSTART;TZID=America/New_York:20260227T100000
DTEND;TZID=America/New_York:20260227T123000
DTSTAMP:20260421T173619
CREATED:20250808T214249Z
LAST-MODIFIED:20260227T170017Z
UID:10000715-1772186400-1772195400@www.maryvillecollege.edu
SUMMARY:Free Food & Fellowship
DESCRIPTION:Salvation Army \nSign up BEFORE: https://volunteeretn.galaxydigital.com/need/detail/?need_id=974643
URL:https://www.maryvillecollege.edu/event/free-food-fellowship-salvation-army-83/
LOCATION:Broadway United Methodist Church (309 E Broadway Ave\, Maryville\, TN 37804\, United States)
CATEGORIES:Community Engagement
END:VEVENT
BEGIN:VEVENT
DTSTART;TZID=America/New_York:20260226T163000
DTEND;TZID=America/New_York:20260226T183000
DTSTAMP:20260421T173619
CREATED:20250721T191159Z
LAST-MODIFIED:20260220T170049Z
UID:10000421-1772123400-1772130600@www.maryvillecollege.edu
SUMMARY:Welcome Table
DESCRIPTION:
URL:https://www.maryvillecollege.edu/event/welcome-table-64/
LOCATION:New Providence Presbyterian Church
CATEGORIES:Community Engagement
END:VEVENT
BEGIN:VEVENT
DTSTART;TZID=America/New_York:20260224T163000
DTEND;TZID=America/New_York:20260224T183000
DTSTAMP:20260421T173619
CREATED:20250721T191158Z
LAST-MODIFIED:20260220T170049Z
UID:10000420-1771950600-1771957800@www.maryvillecollege.edu
SUMMARY:Welcome Table
DESCRIPTION:
URL:https://www.maryvillecollege.edu/event/welcome-table-63/
LOCATION:1st United Methodist Church (804 Montvale Station Rd\, Maryville\, TN 37803\, United States)
CATEGORIES:Community Engagement
END:VEVENT
BEGIN:VEVENT
DTSTART;TZID=America/New_York:20260220T100000
DTEND;TZID=America/New_York:20260220T123000
DTSTAMP:20260421T173619
CREATED:20250808T214248Z
LAST-MODIFIED:20260220T170049Z
UID:10000714-1771581600-1771590600@www.maryvillecollege.edu
SUMMARY:Free Food & Fellowship
DESCRIPTION:Salvation Army \nSign up BEFORE: https://volunteeretn.galaxydigital.com/need/detail/?need_id=974643
URL:https://www.maryvillecollege.edu/event/free-food-fellowship-salvation-army-82/
LOCATION:Broadway United Methodist Church (309 E Broadway Ave\, Maryville\, TN 37804\, United States)
CATEGORIES:Community Engagement
END:VEVENT
BEGIN:VEVENT
DTSTART;TZID=America/New_York:20260219T163000
DTEND;TZID=America/New_York:20260219T183000
DTSTAMP:20260421T173619
CREATED:20250721T191157Z
LAST-MODIFIED:20260213T170018Z
UID:10000418-1771518600-1771525800@www.maryvillecollege.edu
SUMMARY:Welcome Table
DESCRIPTION:
URL:https://www.maryvillecollege.edu/event/welcome-table-62/
LOCATION:New Providence Presbyterian Church
CATEGORIES:Community Engagement
END:VEVENT
BEGIN:VEVENT
DTSTART;TZID=America/New_York:20260217T163000
DTEND;TZID=America/New_York:20260217T183000
DTSTAMP:20260421T173619
CREATED:20250721T191156Z
LAST-MODIFIED:20260213T170017Z
UID:10000417-1771345800-1771353000@www.maryvillecollege.edu
SUMMARY:Welcome Table
DESCRIPTION:
URL:https://www.maryvillecollege.edu/event/welcome-table-61/
LOCATION:1st United Methodist Church (804 Montvale Station Rd\, Maryville\, TN 37803\, United States)
CATEGORIES:Community Engagement
END:VEVENT
BEGIN:VEVENT
DTSTART;TZID=America/New_York:20260213T100000
DTEND;TZID=America/New_York:20260213T123000
DTSTAMP:20260421T173619
CREATED:20250808T214246Z
LAST-MODIFIED:20260213T170016Z
UID:10000713-1770976800-1770985800@www.maryvillecollege.edu
SUMMARY:Free Food & Fellowship
DESCRIPTION:Salvation Army \nSign up BEFORE: https://volunteeretn.galaxydigital.com/need/detail/?need_id=974643
URL:https://www.maryvillecollege.edu/event/free-food-fellowship-salvation-army-81/
LOCATION:Broadway United Methodist Church (309 E Broadway Ave\, Maryville\, TN 37804\, United States)
CATEGORIES:Community Engagement
END:VEVENT
BEGIN:VEVENT
DTSTART;TZID=America/New_York:20260212T163000
DTEND;TZID=America/New_York:20260212T183000
DTSTAMP:20260421T173619
CREATED:20250721T191155Z
LAST-MODIFIED:20260206T170018Z
UID:10000415-1770913800-1770921000@www.maryvillecollege.edu
SUMMARY:Welcome Table
DESCRIPTION:
URL:https://www.maryvillecollege.edu/event/welcome-table-60/
LOCATION:New Providence Presbyterian Church
CATEGORIES:Community Engagement
END:VEVENT
END:VCALENDAR