BEGIN:VCALENDAR
VERSION:2.0
PRODID:-//Maryville College - ECPv6.15.20//NONSGML v1.0//EN
CALSCALE:GREGORIAN
METHOD:PUBLISH
X-ORIGINAL-URL:https://www.maryvillecollege.edu
X-WR-CALDESC:Events for Maryville College
REFRESH-INTERVAL;VALUE=DURATION:PT1H
X-Robots-Tag:noindex
X-PUBLISHED-TTL:PT1H
BEGIN:VTIMEZONE
TZID:America/New_York
BEGIN:DAYLIGHT
TZOFFSETFROM:-0500
TZOFFSETTO:-0400
TZNAME:EDT
DTSTART:20250309T070000
END:DAYLIGHT
BEGIN:STANDARD
TZOFFSETFROM:-0400
TZOFFSETTO:-0500
TZNAME:EST
DTSTART:20251102T060000
END:STANDARD
BEGIN:DAYLIGHT
TZOFFSETFROM:-0500
TZOFFSETTO:-0400
TZNAME:EDT
DTSTART:20260308T070000
END:DAYLIGHT
BEGIN:STANDARD
TZOFFSETFROM:-0400
TZOFFSETTO:-0500
TZNAME:EST
DTSTART:20261101T060000
END:STANDARD
BEGIN:DAYLIGHT
TZOFFSETFROM:-0500
TZOFFSETTO:-0400
TZNAME:EDT
DTSTART:20270314T070000
END:DAYLIGHT
BEGIN:STANDARD
TZOFFSETFROM:-0400
TZOFFSETTO:-0500
TZNAME:EST
DTSTART:20271107T060000
END:STANDARD
END:VTIMEZONE
BEGIN:VEVENT
DTSTART;TZID=America/New_York:20260106T160000
DTEND;TZID=America/New_York:20260106T173000
DTSTAMP:20260421T190849
CREATED:20251215T160019Z
LAST-MODIFIED:20260105T214516Z
UID:10001472-1767715200-1767720600@www.maryvillecollege.edu
SUMMARY:Scottie Singers Rehearsal
DESCRIPTION:The Scottie Singers is a youth choir for students in grades 4th through 8th led by Katie (Wagner) Philips (‘03).   Rehearsal goals include vocal technique\, ensemble blend\, music theory\, literacy\, and overall musicianship.\nFor more information please visit: https://www.maryvillecollege.edu/academics/divisions/fine-arts/choral-programs/youth-choirs/
URL:https://www.maryvillecollege.edu/event/scottie-singers-rehearsal-15/
LOCATION:CCA – Harry H. Harter Choral Rehearsal Room
CATEGORIES:Fine Arts Division
END:VEVENT
BEGIN:VEVENT
DTSTART;TZID=America/New_York:20260108T160000
DTEND;TZID=America/New_York:20260108T173000
DTSTAMP:20260421T190849
CREATED:20251215T160019Z
LAST-MODIFIED:20260105T214517Z
UID:10001473-1767888000-1767893400@www.maryvillecollege.edu
SUMMARY:Highlander Chorale Rehearsal
DESCRIPTION:The Highlander Chorale\, a youth choir for students in grades nine through twelve\, will be led by Maryville College Choral Assistant\, Jacob Parauka.\nFor more information about the Highlander Chorale\, please visit: https://www.maryvillecollege.edu/academics/divisions/fine-arts/choral-programs/youth-choirs/
URL:https://www.maryvillecollege.edu/event/highlander-chorale-rehearsal-14/
LOCATION:CCA – Harry H. Harter Choral Rehearsal Room
CATEGORIES:Fine Arts Division
END:VEVENT
BEGIN:VEVENT
DTSTART;TZID=America/New_York:20260113T160000
DTEND;TZID=America/New_York:20260113T173000
DTSTAMP:20260421T190849
CREATED:20251215T160020Z
LAST-MODIFIED:20260112T220023Z
UID:10001474-1768320000-1768325400@www.maryvillecollege.edu
SUMMARY:Scottie Singers Rehearsal
DESCRIPTION:The Scottie Singers is a youth choir for students in grades 4th through 8th led by Katie (Wagner) Philips (‘03).   Rehearsal goals include vocal technique\, ensemble blend\, music theory\, literacy\, and overall musicianship.\nFor more information please visit: https://www.maryvillecollege.edu/academics/divisions/fine-arts/choral-programs/youth-choirs/
URL:https://www.maryvillecollege.edu/event/scottie-singers-rehearsal-16/
LOCATION:CCA – Harry H. Harter Choral Rehearsal Room
CATEGORIES:Fine Arts Division
END:VEVENT
BEGIN:VEVENT
DTSTART;TZID=America/New_York:20260115T160000
DTEND;TZID=America/New_York:20260115T173000
DTSTAMP:20260421T190849
CREATED:20251215T160021Z
LAST-MODIFIED:20260112T220024Z
UID:10001475-1768492800-1768498200@www.maryvillecollege.edu
SUMMARY:Highlander Chorale Rehearsal
DESCRIPTION:The Highlander Chorale\, a youth choir for students in grades nine through twelve\, will be led by Maryville College Choral Assistant\, Jacob Parauka.\nFor more information about the Highlander Chorale\, please visit: https://www.maryvillecollege.edu/academics/divisions/fine-arts/choral-programs/youth-choirs/
URL:https://www.maryvillecollege.edu/event/highlander-chorale-rehearsal-15/
LOCATION:CCA – Harry H. Harter Choral Rehearsal Room
CATEGORIES:Fine Arts Division
END:VEVENT
BEGIN:VEVENT
DTSTART;TZID=America/New_York:20260120T160000
DTEND;TZID=America/New_York:20260120T173000
DTSTAMP:20260421T190849
CREATED:20251215T160021Z
LAST-MODIFIED:20260119T220017Z
UID:10001476-1768924800-1768930200@www.maryvillecollege.edu
SUMMARY:Scottie Singers Rehearsal
DESCRIPTION:The Scottie Singers is a youth choir for students in grades 4th through 8th led by Katie (Wagner) Philips (‘03).   Rehearsal goals include vocal technique\, ensemble blend\, music theory\, literacy\, and overall musicianship.\nFor more information please visit: https://www.maryvillecollege.edu/academics/divisions/fine-arts/choral-programs/youth-choirs/
URL:https://www.maryvillecollege.edu/event/scottie-singers-rehearsal-17/
LOCATION:CCA – Harry H. Harter Choral Rehearsal Room
CATEGORIES:Fine Arts Division
END:VEVENT
BEGIN:VEVENT
DTSTART;TZID=America/New_York:20260120T190000
DTEND;TZID=America/New_York:20260120T210000
DTSTAMP:20260421T190849
CREATED:20251215T160022Z
LAST-MODIFIED:20260119T220018Z
UID:10001477-1768935600-1768942800@www.maryvillecollege.edu
SUMMARY:Community Chorus Rehearsal
DESCRIPTION:The Maryville College Community Chorus\, under the direction of Dr. Dwight Dockery ’05\, will begin spring rehearsals at 7 p.m. on Tuesday\, January 20\, 2026\, in the Harry H. Harter Choral Rehearsal Room of the Clayton Center for the Arts. Rehearsals are normally from 7 until 9 p.m. The chorus is open to all area singers of all talent levels above 16. Music reading experience is helpful but not required. Registration and music for the choir will be available at the first rehearsal.\nThis established chorus of over 50 singers has a strong tradition of presenting quality choral music and frequently joins other community ensembles\, such as the Maryville College youth choirs and the Orchestra at Maryville College. The chorus performs quality literature of various styles and genres of the highest caliber. It often features the music of area composers and arrangers\, as well as the classic gems of the masters.\nDr. Dwight Dockery ’05 earned his bachelor’s in music theory-composition from MC before obtaining his master’s in choral conducting from East Carolina University and his doctorate from the University of South Carolina. Today\, he serves as music director at Maryville First United Methodist Church.
URL:https://www.maryvillecollege.edu/event/the-maryville-college-community-chorus-rehearsal/
LOCATION:CCA – Harry H. Harter Choral Rehearsal Room
CATEGORIES:Fine Arts Division
END:VEVENT
BEGIN:VEVENT
DTSTART;TZID=America/New_York:20260121T190000
DTEND;TZID=America/New_York:20260121T210000
DTSTAMP:20260421T190849
CREATED:20251215T160023Z
LAST-MODIFIED:20260119T220019Z
UID:10001478-1769022000-1769029200@www.maryvillecollege.edu
SUMMARY:MC3 Band Rehearsal
DESCRIPTION:The Maryville College Community Band is led by Jay Romines and will have weekly rehearsals on Wednesdays from 7:00 pm—9:00 pm in the Clayton Center for the Arts’ Massey Family Rehearsal Hall.\nFor more information about joining the MC3 Band\, visit: https://www.maryvillecollege.edu/academics/divisions/fine-arts/mc3band/
URL:https://www.maryvillecollege.edu/event/mc3-band-rehearsal-14/
LOCATION:CCA – Massey Family Rehearsal Hall
CATEGORIES:Fine Arts Division
END:VEVENT
BEGIN:VEVENT
DTSTART;TZID=America/New_York:20260122T160000
DTEND;TZID=America/New_York:20260122T173000
DTSTAMP:20260421T190849
CREATED:20251215T160024Z
LAST-MODIFIED:20260119T220019Z
UID:10001479-1769097600-1769103000@www.maryvillecollege.edu
SUMMARY:Highlander Chorale Rehearsal
DESCRIPTION:The Highlander Chorale\, a youth choir for students in grades nine through twelve\, will be led by Maryville College Choral Assistant\, Jacob Parauka.\nFor more information about the Highlander Chorale\, please visit: https://www.maryvillecollege.edu/academics/divisions/fine-arts/choral-programs/youth-choirs/
URL:https://www.maryvillecollege.edu/event/highlander-chorale-rehearsal-16/
LOCATION:CCA – Harry H. Harter Choral Rehearsal Room
CATEGORIES:Fine Arts Division
END:VEVENT
BEGIN:VEVENT
DTSTART;TZID=America/New_York:20260126T190000
DTEND;TZID=America/New_York:20260126T210000
DTSTAMP:20260421T190849
CREATED:20251215T160025Z
LAST-MODIFIED:20260126T211703Z
UID:10001480-1769454000-1769461200@www.maryvillecollege.edu
SUMMARY:CANCELED: The Orchestra at MC Rehearsal
DESCRIPTION:The Orchestra at Maryville College is conducted by Dr. Ace Edewards and will hold weekly rehearsals on Mondays from 7 pm—9 pm in the Clayton Center for the Arts’ Massey Family Rehearsal Hall.\nFor more information about joining the Orchestra at Maryville College\, visit: https://www.maryvillecollege.edu/academics/divisions/fine-arts/instrumental-programs/
URL:https://www.maryvillecollege.edu/event/the-orchestra-at-maryville-college-rehearsal-13/
LOCATION:CCA – Massey Family Rehearsal Hall
CATEGORIES:Fine Arts Division
END:VEVENT
BEGIN:VEVENT
DTSTART;TZID=America/New_York:20260127T160000
DTEND;TZID=America/New_York:20260127T173000
DTSTAMP:20260421T190849
CREATED:20251215T160025Z
LAST-MODIFIED:20260126T211703Z
UID:10001481-1769529600-1769535000@www.maryvillecollege.edu
SUMMARY:CANCELED: Scottie Singers Rehearsal
DESCRIPTION:The Scottie Singers is a youth choir for students in grades 4th through 8th led by Katie (Wagner) Philips (‘03). Rehearsal goals include vocal technique\, ensemble blend\, music theory\, literacy\, and overall musicianship.\nFor more information please visit: https://www.maryvillecollege.edu/academics/divisions/fine-arts/choral-programs/youth-choirs/
URL:https://www.maryvillecollege.edu/event/scottie-singers-rehearsal-18/
LOCATION:CCA – Harry H. Harter Choral Rehearsal Room
CATEGORIES:Fine Arts Division
END:VEVENT
BEGIN:VEVENT
DTSTART;TZID=America/New_York:20260127T190000
DTEND;TZID=America/New_York:20260127T210000
DTSTAMP:20260421T190849
CREATED:20251215T160026Z
LAST-MODIFIED:20260127T211516Z
UID:10001482-1769540400-1769547600@www.maryvillecollege.edu
SUMMARY:CANCELED: Community Chorus Rehearsal
DESCRIPTION:The Maryville College Community Chorus\, under the direction of Dr. Dwight Dockery ’05\, will begin spring rehearsals at 7 p.m. on Tuesday\, January 20\, 2026\, in the Harry H. Harter Choral Rehearsal Room of the Clayton Center for the Arts. Rehearsals are normally from 7 until 9 p.m. The chorus is open to all area singers of all talent levels above 16. Music reading experience is helpful but not required. Registration and music for the choir will be available at the first rehearsal.\nThis established chorus of over 50 singers has a strong tradition of presenting quality choral music and frequently joins other community ensembles\, such as the Maryville College youth choirs and the Orchestra at Maryville College. The chorus performs quality literature of various styles and genres of the highest caliber. It often features the music of area composers and arrangers\, as well as the classic gems of the masters.\nDr. Dwight Dockery ’05 earned his bachelor’s in music theory-composition from MC before obtaining his master’s in choral conducting from East Carolina University and his doctorate from the University of South Carolina. Today\, he serves as music director at Maryville First United Methodist Church.
URL:https://www.maryvillecollege.edu/event/the-maryville-college-community-chorus-rehearsal-2/
LOCATION:CCA – Harry H. Harter Choral Rehearsal Room
CATEGORIES:Fine Arts Division
END:VEVENT
BEGIN:VEVENT
DTSTART;TZID=America/New_York:20260127T190000
DTEND;TZID=America/New_York:20260127T220000
DTSTAMP:20260421T190849
CREATED:20260126T211704Z
LAST-MODIFIED:20260127T211515Z
UID:10001664-1769540400-1769551200@www.maryvillecollege.edu
SUMMARY:The MC Theatre Department “Grease” Auditions
DESCRIPTION:Grease Auditions Set for Jan. 27-28\nThe Maryville College Department of Theatre is thrilled to announce auditions for the spring production of the musical Grease. These auditions are open to the public\, and any interested party regardless of race\, gender\, age\, or experience level is welcome to attend. \nAuditions will be held from 7-10 p.m. on Tuesday\, Jan. 27\, and Wednesday\, Jan. 28\, with callbacks on Thursday\, Jan. 29.\nAll interested auditioners should bring a 1-minute musical selection either from an existing stage musical (not Grease) or a song from the 1950’s. There will be an accompanist\, so please bring sheet music for them to play. If you do not have sheet music\, please bring a track to sing over. In addition to singing\, auditioners will be divided into groups and given sides for cold reading. Callbacks will be announced after auditions on Jan. 28. \nTo schedule an audition\, please email Andy Vaught\, Assistant Professor of Theatre: andy.vaught@maryvillecollege.edu.\nAuditions will be held in the Clayton Center for the Arts’ Harold and Jean Lambert Recital Hall.
URL:https://www.maryvillecollege.edu/event/the-mc-theatre-department-grease-auditions/
CATEGORIES:Fine Arts Division
END:VEVENT
BEGIN:VEVENT
DTSTART;TZID=America/New_York:20260128T190000
DTEND;TZID=America/New_York:20260128T210000
DTSTAMP:20260421T190849
CREATED:20251215T160027Z
LAST-MODIFIED:20260128T213132Z
UID:10001483-1769626800-1769634000@www.maryvillecollege.edu
SUMMARY:MC3 Band Rehearsal
DESCRIPTION:The Maryville College Community Band is led by Jay Romines and will have weekly rehearsals on Wednesdays from 7:00 pm—9:00 pm in the Clayton Center for the Arts’ Massey Family Rehearsal Hall.\nFor more information about joining the MC3 Band\, visit: https://www.maryvillecollege.edu/academics/divisions/fine-arts/mc3band/
URL:https://www.maryvillecollege.edu/event/mc3-band-rehearsal-15/
LOCATION:CCA – Massey Family Rehearsal Hall
CATEGORIES:Fine Arts Division
END:VEVENT
BEGIN:VEVENT
DTSTART;TZID=America/New_York:20260128T190000
DTEND;TZID=America/New_York:20260128T210000
DTSTAMP:20260421T190849
CREATED:20260126T211705Z
LAST-MODIFIED:20260128T213132Z
UID:10001665-1769626800-1769634000@www.maryvillecollege.edu
SUMMARY:The MC Theatre Department “Grease” Auditions
DESCRIPTION:Grease Auditions Set for Jan. 27-28\nThe Maryville College Department of Theatre is thrilled to announce auditions for the spring production of the musical Grease. These auditions are open to the public\, and any interested party regardless of race\, gender\, age\, or experience level is welcome to attend. \nAuditions will be held from 7-10 p.m. on Tuesday\, Jan. 27\, and Wednesday\, Jan. 28\, with callbacks on Thursday\, Jan. 29.\nAll interested auditioners should bring a 1-minute musical selection either from an existing stage musical (not Grease) or a song from the 1950’s. There will be an accompanist\, so please bring sheet music for them to play. If you do not have sheet music\, please bring a track to sing over. In addition to singing\, auditioners will be divided into groups and given sides for cold reading. Callbacks will be announced after auditions on Jan. 28. \nTo schedule an audition\, please email Andy Vaught\, Assistant Professor of Theatre: andy.vaught@maryvillecollege.edu.\nAuditions will be held in the Clayton Center for the Arts’ Harold and Jean Lambert Recital Hall.
URL:https://www.maryvillecollege.edu/event/the-mc-theatre-department-grease-auditions-2/
CATEGORIES:Fine Arts Division
END:VEVENT
BEGIN:VEVENT
DTSTART;TZID=America/New_York:20260129T160000
DTEND;TZID=America/New_York:20260129T173000
DTSTAMP:20260421T190849
CREATED:20251215T160027Z
LAST-MODIFIED:20260129T213019Z
UID:10001484-1769702400-1769707800@www.maryvillecollege.edu
SUMMARY:Highlander Chorale Rehearsal
DESCRIPTION:The Highlander Chorale\, a youth choir for students in grades nine through twelve\, will be led by Maryville College Choral Assistant\, Jacob Parauka.\nFor more information about the Highlander Chorale\, please visit: https://www.maryvillecollege.edu/academics/divisions/fine-arts/choral-programs/youth-choirs/
URL:https://www.maryvillecollege.edu/event/highlander-chorale-rehearsal-17/
LOCATION:CCA – Harry H. Harter Choral Rehearsal Room
CATEGORIES:Fine Arts Division
END:VEVENT
BEGIN:VEVENT
DTSTART;TZID=America/New_York:20260129T190000
DTEND;TZID=America/New_York:20260129T210000
DTSTAMP:20260421T190849
CREATED:20260126T211707Z
LAST-MODIFIED:20260126T214236Z
UID:10001666-1769713200-1769720400@www.maryvillecollege.edu
SUMMARY:The MC Theatre Department “Grease” Auditions
DESCRIPTION:Grease Auditions Set for Jan. 27-28\nThe Maryville College Department of Theatre is thrilled to announce auditions for the spring production of the musical Grease. These auditions are open to the public\, and any interested party regardless of race\, gender\, age\, or experience level is welcome to attend. \nAuditions will be held from 7-10 p.m. on Tuesday\, Jan. 27\, and Wednesday\, Jan. 28\, with callbacks on Thursday\, Jan. 29.\nAll interested auditioners should bring a 1-minute musical selection either from an existing stage musical (not Grease) or a song from the 1950’s. There will be an accompanist\, so please bring sheet music for them to play. If you do not have sheet music\, please bring a track to sing over. In addition to singing\, auditioners will be divided into groups and given sides for cold reading. Callbacks will be announced after auditions on Jan. 28. \nTo schedule an audition\, please email Andy Vaught\, Assistant Professor of Theatre: andy.vaught@maryvillecollege.edu.\nAuditions will be held in the Clayton Center for the Arts’ Harold and Jean Lambert Recital Hall.
URL:https://www.maryvillecollege.edu/event/the-mc-theatre-department-grease-auditions-3/
CATEGORIES:Fine Arts Division
END:VEVENT
END:VCALENDAR