BEGIN:VCALENDAR
VERSION:2.0
PRODID:-//Maryville College - ECPv6.15.20//NONSGML v1.0//EN
CALSCALE:GREGORIAN
METHOD:PUBLISH
X-WR-CALNAME:Maryville College
X-ORIGINAL-URL:https://www.maryvillecollege.edu
X-WR-CALDESC:Events for Maryville College
REFRESH-INTERVAL;VALUE=DURATION:PT1H
X-Robots-Tag:noindex
X-PUBLISHED-TTL:PT1H
BEGIN:VTIMEZONE
TZID:America/New_York
BEGIN:DAYLIGHT
TZOFFSETFROM:-0500
TZOFFSETTO:-0400
TZNAME:EDT
DTSTART:20250309T070000
END:DAYLIGHT
BEGIN:STANDARD
TZOFFSETFROM:-0400
TZOFFSETTO:-0500
TZNAME:EST
DTSTART:20251102T060000
END:STANDARD
BEGIN:DAYLIGHT
TZOFFSETFROM:-0500
TZOFFSETTO:-0400
TZNAME:EDT
DTSTART:20260308T070000
END:DAYLIGHT
BEGIN:STANDARD
TZOFFSETFROM:-0400
TZOFFSETTO:-0500
TZNAME:EST
DTSTART:20261101T060000
END:STANDARD
BEGIN:DAYLIGHT
TZOFFSETFROM:-0500
TZOFFSETTO:-0400
TZNAME:EDT
DTSTART:20270314T070000
END:DAYLIGHT
BEGIN:STANDARD
TZOFFSETFROM:-0400
TZOFFSETTO:-0500
TZNAME:EST
DTSTART:20271107T060000
END:STANDARD
END:VTIMEZONE
BEGIN:VEVENT
DTSTART;TZID=America/New_York:20260302T190000
DTEND;TZID=America/New_York:20260302T210000
DTSTAMP:20260421T155013
CREATED:20251215T160047Z
LAST-MODIFIED:20260302T231530Z
UID:10001509-1772478000-1772485200@www.maryvillecollege.edu
SUMMARY:The Orchestra at MC Rehearsal
DESCRIPTION:The Orchestra at Maryville College is conducted by Dr. Ace Edewards and will hold weekly rehearsals on Mondays from 7 pm—9 pm in the Clayton Center for the Arts’ Massey Family Rehearsal Hall.\nFor more information about joining the Orchestra at Maryville College\, visit: https://www.maryvillecollege.edu/academics/divisions/fine-arts/instrumental-programs/
URL:https://www.maryvillecollege.edu/event/the-orchestra-at-maryville-college-rehearsal-18/
LOCATION:CCA – Massey Family Rehearsal Hall
CATEGORIES:Fine Arts Division
END:VEVENT
BEGIN:VEVENT
DTSTART;TZID=America/New_York:20260303T160000
DTEND;TZID=America/New_York:20260303T173000
DTSTAMP:20260421T155013
CREATED:20251215T160047Z
LAST-MODIFIED:20260302T231531Z
UID:10001510-1772553600-1772559000@www.maryvillecollege.edu
SUMMARY:Scottie Singers Rehearsal
DESCRIPTION:The Scottie Singers is a youth choir for students in grades 4th through 8th led by Katie (Wagner) Philips (‘03).   Rehearsal goals include vocal technique\, ensemble blend\, music theory\, literacy\, and overall musicianship.\nFor more information please visit: https://www.maryvillecollege.edu/academics/divisions/fine-arts/choral-programs/youth-choirs/
URL:https://www.maryvillecollege.edu/event/scottie-singers-rehearsal-23/
LOCATION:CCA – Harry H. Harter Choral Rehearsal Room
CATEGORIES:Fine Arts Division
END:VEVENT
BEGIN:VEVENT
DTSTART;TZID=America/New_York:20260303T190000
DTEND;TZID=America/New_York:20260303T210000
DTSTAMP:20260421T155013
CREATED:20251215T160048Z
LAST-MODIFIED:20260303T231519Z
UID:10001511-1772564400-1772571600@www.maryvillecollege.edu
SUMMARY:Community Chorus Rehearsal
DESCRIPTION:The Maryville College Community Chorus\, under the direction of Dr. Dwight Dockery ’05\, will begin spring rehearsals at 7 p.m. on Tuesday\, January 20\, 2026\, in the Harry H. Harter Choral Rehearsal Room of the Clayton Center for the Arts. Rehearsals are normally from 7 until 9 p.m. The chorus is open to all area singers of all talent levels above 16. Music reading experience is helpful but not required. Registration and music for the choir will be available at the first rehearsal.\nThis established chorus of over 50 singers has a strong tradition of presenting quality choral music and frequently joins other community ensembles\, such as the Maryville College youth choirs and the Orchestra at Maryville College. The chorus performs quality literature of various styles and genres of the highest caliber. It often features the music of area composers and arrangers\, as well as the classic gems of the masters.\nDr. Dwight Dockery ’05 earned his bachelor’s in music theory-composition from MC before obtaining his master’s in choral conducting from East Carolina University and his doctorate from the University of South Carolina. Today\, he serves as music director at Maryville First United Methodist Church.
URL:https://www.maryvillecollege.edu/event/the-maryville-college-community-chorus-rehearsal-7/
LOCATION:CCA – Harry H. Harter Choral Rehearsal Room
CATEGORIES:Fine Arts Division
END:VEVENT
BEGIN:VEVENT
DTSTART;TZID=America/New_York:20260304T190000
DTEND;TZID=America/New_York:20260304T210000
DTSTAMP:20260421T155013
CREATED:20251215T160049Z
LAST-MODIFIED:20260304T233023Z
UID:10001512-1772650800-1772658000@www.maryvillecollege.edu
SUMMARY:MC3 Band Rehearsal
DESCRIPTION:The Maryville College Community Band is led by Jay Romines and will have weekly rehearsals on Wednesdays from 7:00 pm—9:00 pm in the Clayton Center for the Arts’ Massey Family Rehearsal Hall.\nFor more information about joining the MC3 Band\, visit: https://www.maryvillecollege.edu/academics/divisions/fine-arts/mc3band/
URL:https://www.maryvillecollege.edu/event/mc3-band-rehearsal-20/
LOCATION:CCA – Massey Family Rehearsal Hall
CATEGORIES:Fine Arts Division
END:VEVENT
BEGIN:VEVENT
DTSTART;TZID=America/New_York:20260305T160000
DTEND;TZID=America/New_York:20260305T173000
DTSTAMP:20260421T155013
CREATED:20251215T160049Z
LAST-MODIFIED:20260304T233023Z
UID:10001513-1772726400-1772731800@www.maryvillecollege.edu
SUMMARY:Highlander Chorale Rehearsal
DESCRIPTION:The Highlander Chorale\, a youth choir for students in grades nine through twelve\, will be led by Maryville College Choral Assistant\, Jacob Parauka.\nFor more information about the Highlander Chorale\, please visit: https://www.maryvillecollege.edu/academics/divisions/fine-arts/choral-programs/youth-choirs/
URL:https://www.maryvillecollege.edu/event/highlander-chorale-rehearsal-22/
LOCATION:CCA – Harry H. Harter Choral Rehearsal Room
CATEGORIES:Fine Arts Division
END:VEVENT
BEGIN:VEVENT
DTSTART;VALUE=DATE:20260306
DTEND;VALUE=DATE:20260331
DTSTAMP:20260421T155013
CREATED:20260127T211551Z
LAST-MODIFIED:20260305T233023Z
UID:10001741-1772755200-1774915199@www.maryvillecollege.edu
SUMMARY:"Reflections of Reality: Exploring Perceptions in Art"
DESCRIPTION:“Reflections of Reality: Exploring Perceptions in Art” An exhibition of works by the Tennessee Artists Association\nThe exhibit uses all medias: acrylic\, oil\, photography\, watercolor\, pastel\, pencil\, 3-d\, and mixed media. The artists also use various subject matter to reflect\, be it an extraordinary use of color or not\, impressionistic\, abstract\, even traditional. \nThe exhibit will be on display in the Clayton Center for the Arts’ Blackberry Farm Gallery and William “Ed” Harmon Gallery from March 6-30\, 2026. Normal gallery hours are Monday-Friday from 10:00 a.m. until 5:00 p.m. \nA reception will be held in the galleries on Friday\, March 27\, 2026\, from 6-8 p.m. The reception is free and open to the public.
URL:https://www.maryvillecollege.edu/event/reflections-of-reality-exploring-perceptions-in-art-an-exhibition-of-works-by-the-tennessee-artists-association/
LOCATION:CCA – Blackberry Farm Gallery
CATEGORIES:Clayton Center for the Arts,Fine Arts Division
END:VEVENT
BEGIN:VEVENT
DTSTART;TZID=America/New_York:20260307T193000
DTEND;TZID=America/New_York:20260307T210000
DTSTAMP:20260421T155013
CREATED:20251215T160050Z
LAST-MODIFIED:20260307T233023Z
UID:10001514-1772911800-1772917200@www.maryvillecollege.edu
SUMMARY:Trillium and Friends Spring Recital
DESCRIPTION:Trillium and Friends will present a spring recital at 7:30 p.m. on Saturday\, March 7\, 2026\, in the Clayton Center for the Arts’ Harold and Jean Lambert Recital Hall. The event is free and open to the public.
URL:https://www.maryvillecollege.edu/event/trillium-spring-recital/
LOCATION:CCA – Harold and Jean Lambert Recital Hall
CATEGORIES:Fine Arts Division
END:VEVENT
BEGIN:VEVENT
DTSTART;TZID=America/New_York:20260309T190000
DTEND;TZID=America/New_York:20260309T210000
DTSTAMP:20260421T155013
CREATED:20251215T160051Z
LAST-MODIFIED:20260309T233023Z
UID:10001515-1773082800-1773090000@www.maryvillecollege.edu
SUMMARY:The Orchestra at MC Rehearsal
DESCRIPTION:The Orchestra at Maryville College is conducted by Dr. Ace Edewards and will hold weekly rehearsals on Mondays from 7 pm—9 pm in the Clayton Center for the Arts’ Massey Family Rehearsal Hall.\nFor more information about joining the Orchestra at Maryville College\, visit: https://www.maryvillecollege.edu/academics/divisions/fine-arts/instrumental-programs/
URL:https://www.maryvillecollege.edu/event/the-orchestra-at-maryville-college-rehearsal-19/
LOCATION:CCA – Massey Family Rehearsal Hall
CATEGORIES:Fine Arts Division
END:VEVENT
BEGIN:VEVENT
DTSTART;TZID=America/New_York:20260310T123000
DTEND;TZID=America/New_York:20260310T130000
DTSTAMP:20260421T155013
CREATED:20260203T224411Z
LAST-MODIFIED:20260303T230028Z
UID:10001782-1773145800-1773147600@www.maryvillecollege.edu
SUMMARY:Choir Tour Send-Off Concert
DESCRIPTION:Come join the Maryville College Concert Choir as they depart for their spring tour\, “What Dreams May Come.”  The send-off concert will be held in the Clayton Center for the Arts’ Harold and Jean Lambert Recital Hall on Tuesday\, March 10\, 2026\, at 12:30 p.m.  The event is free and open to the public.
URL:https://www.maryvillecollege.edu/event/choir-tour-send-off-concert-2/
LOCATION:CCA – Harold and Jean Lambert Recital Hall\, 502 E Lamar Alexander Pkwy\, Maryville\, TN\, United States
CATEGORIES:Clayton Center for the Arts,Fine Arts Division,Maryville College Event
ATTACH;FMTTYPE=image/jpeg:https://www.maryvillecollege.edu/wp-content/uploads/Calendar/3.24.26.Concert-Choir-Poster-scaled-O0jgKE.jpg
GEO:35.754957;-83.965409
X-APPLE-STRUCTURED-LOCATION;VALUE=URI;X-ADDRESS=CCA – Harold and Jean Lambert Recital Hall 502 E Lamar Alexander Pkwy Maryville TN United States;X-APPLE-RADIUS=500;X-TITLE=502 E Lamar Alexander Pkwy:geo:-83.965409,35.754957
END:VEVENT
BEGIN:VEVENT
DTSTART;TZID=America/New_York:20260310T160000
DTEND;TZID=America/New_York:20260310T173000
DTSTAMP:20260421T155013
CREATED:20251215T160052Z
LAST-MODIFIED:20260309T233024Z
UID:10001517-1773158400-1773163800@www.maryvillecollege.edu
SUMMARY:Scottie Singers Rehearsal
DESCRIPTION:The Scottie Singers is a youth choir for students in grades 4th through 8th led by Katie (Wagner) Philips (‘03).   Rehearsal goals include vocal technique\, ensemble blend\, music theory\, literacy\, and overall musicianship.\nFor more information please visit: https://www.maryvillecollege.edu/academics/divisions/fine-arts/choral-programs/youth-choirs/
URL:https://www.maryvillecollege.edu/event/scottie-singers-rehearsal-24/
LOCATION:CCA – Harry H. Harter Choral Rehearsal Room
CATEGORIES:Fine Arts Division
END:VEVENT
BEGIN:VEVENT
DTSTART;TZID=America/New_York:20260310T190000
DTEND;TZID=America/New_York:20260310T210000
DTSTAMP:20260421T155013
CREATED:20251215T160052Z
LAST-MODIFIED:20260310T233034Z
UID:10001518-1773169200-1773176400@www.maryvillecollege.edu
SUMMARY:Community Chorus Rehearsal
DESCRIPTION:The Maryville College Community Chorus\, under the direction of Dr. Dwight Dockery ’05\, will begin spring rehearsals at 7 p.m. on Tuesday\, January 20\, 2026\, in the Harry H. Harter Choral Rehearsal Room of the Clayton Center for the Arts. Rehearsals are normally from 7 until 9 p.m. The chorus is open to all area singers of all talent levels above 16. Music reading experience is helpful but not required. Registration and music for the choir will be available at the first rehearsal.\nThis established chorus of over 50 singers has a strong tradition of presenting quality choral music and frequently joins other community ensembles\, such as the Maryville College youth choirs and the Orchestra at Maryville College. The chorus performs quality literature of various styles and genres of the highest caliber. It often features the music of area composers and arrangers\, as well as the classic gems of the masters.\nDr. Dwight Dockery ’05 earned his bachelor’s in music theory-composition from MC before obtaining his master’s in choral conducting from East Carolina University and his doctorate from the University of South Carolina. Today\, he serves as music director at Maryville First United Methodist Church.
URL:https://www.maryvillecollege.edu/event/the-maryville-college-community-chorus-rehearsal-8/
LOCATION:CCA – Harry H. Harter Choral Rehearsal Room
CATEGORIES:Fine Arts Division
END:VEVENT
BEGIN:VEVENT
DTSTART;TZID=America/New_York:20260311T190000
DTEND;TZID=America/New_York:20260311T210000
DTSTAMP:20260421T155013
CREATED:20251215T160053Z
LAST-MODIFIED:20260311T234530Z
UID:10001519-1773255600-1773262800@www.maryvillecollege.edu
SUMMARY:MC3 Band Rehearsal
DESCRIPTION:The Maryville College Community Band is led by Jay Romines and will have weekly rehearsals on Wednesdays from 7:00 pm—9:00 pm in the Clayton Center for the Arts’ Massey Family Rehearsal Hall.\nFor more information about joining the MC3 Band\, visit: https://www.maryvillecollege.edu/academics/divisions/fine-arts/mc3band/
URL:https://www.maryvillecollege.edu/event/mc3-band-rehearsal-21/
LOCATION:CCA – Massey Family Rehearsal Hall
CATEGORIES:Fine Arts Division
END:VEVENT
BEGIN:VEVENT
DTSTART;TZID=America/New_York:20260312T160000
DTEND;TZID=America/New_York:20260312T173000
DTSTAMP:20260421T155013
CREATED:20251215T160054Z
LAST-MODIFIED:20260311T234530Z
UID:10001520-1773331200-1773336600@www.maryvillecollege.edu
SUMMARY:Highlander Chorale Rehearsal
DESCRIPTION:The Highlander Chorale\, a youth choir for students in grades nine through twelve\, will be led by Maryville College Choral Assistant\, Jacob Parauka.\nFor more information about the Highlander Chorale\, please visit: https://www.maryvillecollege.edu/academics/divisions/fine-arts/choral-programs/youth-choirs/
URL:https://www.maryvillecollege.edu/event/highlander-chorale-rehearsal-23/
LOCATION:CCA – Harry H. Harter Choral Rehearsal Room
CATEGORIES:Fine Arts Division
END:VEVENT
BEGIN:VEVENT
DTSTART;TZID=America/New_York:20260319T160000
DTEND;TZID=America/New_York:20260319T173000
DTSTAMP:20260421T155013
CREATED:20251215T160054Z
LAST-MODIFIED:20260319T161526Z
UID:10001521-1773936000-1773941400@www.maryvillecollege.edu
SUMMARY:Highlander Chorale Rehearsal
DESCRIPTION:The Highlander Chorale\, a youth choir for students in grades nine through twelve\, will be led by Maryville College Choral Assistant\, Jacob Parauka.\nFor more information about the Highlander Chorale\, please visit: https://www.maryvillecollege.edu/academics/divisions/fine-arts/choral-programs/youth-choirs/
URL:https://www.maryvillecollege.edu/event/highlander-chorale-rehearsal-24/
LOCATION:CCA – Harry H. Harter Choral Rehearsal Room
CATEGORIES:Fine Arts Division
END:VEVENT
BEGIN:VEVENT
DTSTART;TZID=America/New_York:20260323T190000
DTEND;TZID=America/New_York:20260323T210000
DTSTAMP:20260421T155013
CREATED:20251215T160055Z
LAST-MODIFIED:20260323T161519Z
UID:10001522-1774292400-1774299600@www.maryvillecollege.edu
SUMMARY:The Orchestra at MC Rehearsal
DESCRIPTION:The Orchestra at Maryville College is conducted by Dr. Ace Edewards and will hold weekly rehearsals on Mondays from 7 pm—9 pm in the Clayton Center for the Arts’ Massey Family Rehearsal Hall.\nFor more information about joining the Orchestra at Maryville College\, visit: https://www.maryvillecollege.edu/academics/divisions/fine-arts/instrumental-programs/
URL:https://www.maryvillecollege.edu/event/the-orchestra-at-maryville-college-rehearsal-20/
LOCATION:CCA – Massey Family Rehearsal Hall
CATEGORIES:Fine Arts Division
END:VEVENT
BEGIN:VEVENT
DTSTART;TZID=America/New_York:20260324T160000
DTEND;TZID=America/New_York:20260324T173000
DTSTAMP:20260421T155013
CREATED:20251215T160056Z
LAST-MODIFIED:20260324T161527Z
UID:10001523-1774368000-1774373400@www.maryvillecollege.edu
SUMMARY:Scottie Singers Rehearsal
DESCRIPTION:The Scottie Singers is a youth choir for students in grades 4th through 8th led by Katie (Wagner) Philips (‘03).   Rehearsal goals include vocal technique\, ensemble blend\, music theory\, literacy\, and overall musicianship.\nFor more information please visit: https://www.maryvillecollege.edu/academics/divisions/fine-arts/choral-programs/youth-choirs/
URL:https://www.maryvillecollege.edu/event/scottie-singers-rehearsal-25/
LOCATION:CCA – Harry H. Harter Choral Rehearsal Room
CATEGORIES:Fine Arts Division
END:VEVENT
BEGIN:VEVENT
DTSTART;TZID=America/New_York:20260324T190000
DTEND;TZID=America/New_York:20260324T210000
DTSTAMP:20260421T155013
CREATED:20251215T160056Z
LAST-MODIFIED:20260324T161528Z
UID:10001524-1774378800-1774386000@www.maryvillecollege.edu
SUMMARY:Community Chorus Rehearsal
DESCRIPTION:The Maryville College Community Chorus\, under the direction of Dr. Dwight Dockery ’05\, will begin spring rehearsals at 7 p.m. on Tuesday\, January 20\, 2026\, in the Harry H. Harter Choral Rehearsal Room of the Clayton Center for the Arts. Rehearsals are normally from 7 until 9 p.m. The chorus is open to all area singers of all talent levels above 16. Music reading experience is helpful but not required. Registration and music for the choir will be available at the first rehearsal.\nThis established chorus of over 50 singers has a strong tradition of presenting quality choral music and frequently joins other community ensembles\, such as the Maryville College youth choirs and the Orchestra at Maryville College. The chorus performs quality literature of various styles and genres of the highest caliber. It often features the music of area composers and arrangers\, as well as the classic gems of the masters.\nDr. Dwight Dockery ’05 earned his bachelor’s in music theory-composition from MC before obtaining his master’s in choral conducting from East Carolina University and his doctorate from the University of South Carolina. Today\, he serves as music director at Maryville First United Methodist Church.
URL:https://www.maryvillecollege.edu/event/the-maryville-college-community-chorus-rehearsal-9/
LOCATION:CCA – Harry H. Harter Choral Rehearsal Room
CATEGORIES:Fine Arts Division
END:VEVENT
BEGIN:VEVENT
DTSTART;TZID=America/New_York:20260324T190000
DTEND;TZID=America/New_York:20260324T210000
DTSTAMP:20260421T155013
CREATED:20251216T231523Z
LAST-MODIFIED:20260324T230030Z
UID:10001637-1774378800-1774386000@www.maryvillecollege.edu
SUMMARY:The Maryville College Concert Choir Homecoming Concert: "What Dreams May Come"
DESCRIPTION:Experience the power of the Maryville College Concert Choir as they present their Homecoming Concert\, “What Dreams May Come\,” featuring selections from their annual Spring Tour. This performance explores the beauty\, mystery\, and emotion found in the contrasts between light and dark\, hope and fear\, dream and reality. From expressive choral works to moments of inspiration\, this program promises an unforgettable evening of music and reflection.\nTicket prices are $12.50 plus tax for general admission.  Free for MC Faculty\, Staff\, and Students with ID\, although a printed ticket is required for admission.  For more information\, please visit claytonartscenter.com or call the clayton center box office at 865-981-8590.
URL:https://www.maryvillecollege.edu/event/the-maryville-college-concert-choir-homecoming-concert-what-dreams-may-come/
LOCATION:Maryville College\, Maryville\, 37804\, United States
CATEGORIES:Clayton Center for the Arts,Fine Arts Division,Maryville College Event
ATTACH;FMTTYPE=image/jpeg:https://www.maryvillecollege.edu/wp-content/uploads/Calendar/3.24.26.Concert-Choir-Poster-scaled-O0jgKE.jpg
END:VEVENT
BEGIN:VEVENT
DTSTART;TZID=America/New_York:20260325T190000
DTEND;TZID=America/New_York:20260325T210000
DTSTAMP:20260421T155013
CREATED:20251215T160100Z
LAST-MODIFIED:20260325T161522Z
UID:10001526-1774465200-1774472400@www.maryvillecollege.edu
SUMMARY:MC3 Band Rehearsal
DESCRIPTION:The Maryville College Community Band is led by Jay Romines and will have weekly rehearsals on Wednesdays from 7:00 pm—9:00 pm in the Clayton Center for the Arts’ Massey Family Rehearsal Hall.\nFor more information about joining the MC3 Band\, visit: https://www.maryvillecollege.edu/academics/divisions/fine-arts/mc3band/
URL:https://www.maryvillecollege.edu/event/mc3-band-rehearsal-22/
LOCATION:CCA – Massey Family Rehearsal Hall
CATEGORIES:Fine Arts Division
END:VEVENT
BEGIN:VEVENT
DTSTART;TZID=America/New_York:20260326T160000
DTEND;TZID=America/New_York:20260326T173000
DTSTAMP:20260421T155013
CREATED:20251215T160100Z
LAST-MODIFIED:20260326T163017Z
UID:10001527-1774540800-1774546200@www.maryvillecollege.edu
SUMMARY:Highlander Chorale Rehearsal
DESCRIPTION:The Highlander Chorale\, a youth choir for students in grades nine through twelve\, will be led by Maryville College Choral Assistant\, Jacob Parauka.\nFor more information about the Highlander Chorale\, please visit: https://www.maryvillecollege.edu/academics/divisions/fine-arts/choral-programs/youth-choirs/
URL:https://www.maryvillecollege.edu/event/highlander-chorale-rehearsal-25/
LOCATION:CCA – Harry H. Harter Choral Rehearsal Room
CATEGORIES:Fine Arts Division
END:VEVENT
BEGIN:VEVENT
DTSTART;TZID=America/New_York:20260327T180000
DTEND;TZID=America/New_York:20260327T200000
DTSTAMP:20260421T155013
CREATED:20251215T160102Z
LAST-MODIFIED:20260327T163018Z
UID:10001528-1774634400-1774641600@www.maryvillecollege.edu
SUMMARY:Art Reception: "Reflections of Reality: Exploring Perceptions in Art"
DESCRIPTION:“Reflections of Reality: Exploring Perceptions in Art” An exhibition of works by the Tennessee Artists Association\nA reception for the TN Artist’s Association will be held on Friday\, March 27\, 2026\, from 6-8 p.m. in the Clayton Center for the Arts’ Blackberry Farm Gallery and William “Ed” Harmon Gallery. The reception is free and open to the public.
URL:https://www.maryvillecollege.edu/event/art-reception-tn-artists-association/
LOCATION:Maryville College\, Maryville\, 37804\, United States
CATEGORIES:Fine Arts Division
END:VEVENT
BEGIN:VEVENT
DTSTART;TZID=America/New_York:20260330T180000
DTEND;TZID=America/New_York:20260330T190000
DTSTAMP:20260421T155013
CREATED:20251215T160102Z
LAST-MODIFIED:20260330T163014Z
UID:10001529-1774893600-1774897200@www.maryvillecollege.edu
SUMMARY:Keyboard Night
DESCRIPTION:Students who are taking Keyboard\, Piano\, and Organ lessons under instructors Rachel Acuff\, Ashley Burell\, and Gina Milligan\, will perform at 6:00 p.m. in the Clayton Center for the Arts’ Harold and Jean Lambert Recital Hall.\n*This event is free and open to the MC Community.*
URL:https://www.maryvillecollege.edu/event/keyboard-night-2/
LOCATION:CCA – Harold and Jean Lambert Recital Hall
CATEGORIES:Fine Arts Division
END:VEVENT
BEGIN:VEVENT
DTSTART;TZID=America/New_York:20260330T190000
DTEND;TZID=America/New_York:20260330T210000
DTSTAMP:20260421T155013
CREATED:20251215T160103Z
LAST-MODIFIED:20260330T163015Z
UID:10001530-1774897200-1774904400@www.maryvillecollege.edu
SUMMARY:The Orchestra at MC Rehearsal
DESCRIPTION:The Orchestra at Maryville College is conducted by Dr. Ace Edewards and will hold weekly rehearsals on Mondays from 7 pm—9 pm in the Clayton Center for the Arts’ Massey Family Rehearsal Hall.\nFor more information about joining the Orchestra at Maryville College\, visit: https://www.maryvillecollege.edu/academics/divisions/fine-arts/instrumental-programs/
URL:https://www.maryvillecollege.edu/event/the-orchestra-at-maryville-college-rehearsal-21/
LOCATION:CCA – Massey Family Rehearsal Hall
CATEGORIES:Fine Arts Division
END:VEVENT
BEGIN:VEVENT
DTSTART;TZID=America/New_York:20260331T100000
DTEND;TZID=America/New_York:20260331T113000
DTSTAMP:20260421T155013
CREATED:20260218T224541Z
LAST-MODIFIED:20260330T163015Z
UID:10001830-1774951200-1774956600@www.maryvillecollege.edu
SUMMARY:Guest Artist Lecture & Reception: Marie Watt
DESCRIPTION:Tuesday\, March 31\, 2026\n10am-11am\nHarold and Jean Lambert Recital Hall\nReception catered by Vienna Coffee Company to follow in the lobby of the recital hall\nsponsored by the MC Environmental Studies program\nFREE\, OPEN TO THE PUBLIC!\nABOUT MARIE WATT—\nMarie Watt (she/her\, b. 1967\, Seattle\, WA) is a member of the Turtle Clan of the Seneca Nation of Indians whose work draws on images and ideas from Haudenosaunee (Iroquois) protofeminism and Indigenous teachings. Her practice is interdisciplinary\, incorporating printmaking\, painting\, textiles\, and sculpture. Watt conducts both solo and collaborative projects\, but in all of them she explores how history\, community\, and storytelling intersect. (mariewattstudio.com)
URL:https://www.maryvillecollege.edu/event/guest-artist-lecture-reception-marie-watt/
LOCATION:CCA – Harold and Jean Lambert Recital Hall
CATEGORIES:Fine Arts Division
END:VEVENT
BEGIN:VEVENT
DTSTART;TZID=America/New_York:20260331T160000
DTEND;TZID=America/New_York:20260331T173000
DTSTAMP:20260421T155013
CREATED:20251215T160104Z
LAST-MODIFIED:20260331T163031Z
UID:10001531-1774972800-1774978200@www.maryvillecollege.edu
SUMMARY:Scottie Singers Rehearsal
DESCRIPTION:The Scottie Singers is a youth choir for students in grades 4th through 8th led by Katie (Wagner) Philips (‘03).   Rehearsal goals include vocal technique\, ensemble blend\, music theory\, literacy\, and overall musicianship.\nFor more information please visit: https://www.maryvillecollege.edu/academics/divisions/fine-arts/choral-programs/youth-choirs/
URL:https://www.maryvillecollege.edu/event/scottie-singers-rehearsal-26/
LOCATION:CCA – Harry H. Harter Choral Rehearsal Room
CATEGORIES:Fine Arts Division
END:VEVENT
BEGIN:VEVENT
DTSTART;TZID=America/New_York:20260331T180000
DTEND;TZID=America/New_York:20260331T190000
DTSTAMP:20260421T155013
CREATED:20251215T160105Z
LAST-MODIFIED:20260331T163031Z
UID:10001533-1774980000-1774983600@www.maryvillecollege.edu
SUMMARY:Student Repertoire Recital
DESCRIPTION:Maryville College music majors and students who are taking applied music lessons will present a student repertoire recital on Tuesday\, March 31\, 2026\, at 6:00 p.m. in the Clayton Center for the Arts’ Harold and Jean Lambert Recital Hall.  The event is free and open to the public.
URL:https://www.maryvillecollege.edu/event/student-repertoire-recital-4/
LOCATION:CCA – Harold and Jean Lambert Recital Hall
CATEGORIES:Fine Arts Division
END:VEVENT
BEGIN:VEVENT
DTSTART;TZID=America/New_York:20260331T190000
DTEND;TZID=America/New_York:20260331T210000
DTSTAMP:20260421T155013
CREATED:20251215T160104Z
LAST-MODIFIED:20260331T163032Z
UID:10001532-1774983600-1774990800@www.maryvillecollege.edu
SUMMARY:Community Chorus Rehearsal
DESCRIPTION:The Maryville College Community Chorus\, under the direction of Dr. Dwight Dockery ’05\, will begin spring rehearsals at 7 p.m. on Tuesday\, January 20\, 2026\, in the Harry H. Harter Choral Rehearsal Room of the Clayton Center for the Arts. Rehearsals are normally from 7 until 9 p.m. The chorus is open to all area singers of all talent levels above 16. Music reading experience is helpful but not required. Registration and music for the choir will be available at the first rehearsal.\nThis established chorus of over 50 singers has a strong tradition of presenting quality choral music and frequently joins other community ensembles\, such as the Maryville College youth choirs and the Orchestra at Maryville College. The chorus performs quality literature of various styles and genres of the highest caliber. It often features the music of area composers and arrangers\, as well as the classic gems of the masters.\nDr. Dwight Dockery ’05 earned his bachelor’s in music theory-composition from MC before obtaining his master’s in choral conducting from East Carolina University and his doctorate from the University of South Carolina. Today\, he serves as music director at Maryville First United Methodist Church.
URL:https://www.maryvillecollege.edu/event/the-maryville-college-community-chorus-rehearsal-10/
LOCATION:CCA – Harry H. Harter Choral Rehearsal Room
CATEGORIES:Fine Arts Division
END:VEVENT
END:VCALENDAR