BEGIN:VCALENDAR
VERSION:2.0
PRODID:-//Maryville College - ECPv6.15.20//NONSGML v1.0//EN
CALSCALE:GREGORIAN
METHOD:PUBLISH
X-WR-CALNAME:Maryville College
X-ORIGINAL-URL:https://www.maryvillecollege.edu
X-WR-CALDESC:Events for Maryville College
REFRESH-INTERVAL;VALUE=DURATION:PT1H
X-Robots-Tag:noindex
X-PUBLISHED-TTL:PT1H
BEGIN:VTIMEZONE
TZID:America/New_York
BEGIN:DAYLIGHT
TZOFFSETFROM:-0500
TZOFFSETTO:-0400
TZNAME:EDT
DTSTART:20250309T070000
END:DAYLIGHT
BEGIN:STANDARD
TZOFFSETFROM:-0400
TZOFFSETTO:-0500
TZNAME:EST
DTSTART:20251102T060000
END:STANDARD
BEGIN:DAYLIGHT
TZOFFSETFROM:-0500
TZOFFSETTO:-0400
TZNAME:EDT
DTSTART:20260308T070000
END:DAYLIGHT
BEGIN:STANDARD
TZOFFSETFROM:-0400
TZOFFSETTO:-0500
TZNAME:EST
DTSTART:20261101T060000
END:STANDARD
BEGIN:DAYLIGHT
TZOFFSETFROM:-0500
TZOFFSETTO:-0400
TZNAME:EDT
DTSTART:20270314T070000
END:DAYLIGHT
BEGIN:STANDARD
TZOFFSETFROM:-0400
TZOFFSETTO:-0500
TZNAME:EST
DTSTART:20271107T060000
END:STANDARD
END:VTIMEZONE
BEGIN:VEVENT
DTSTART;TZID=America/New_York:20260128T190000
DTEND;TZID=America/New_York:20260128T210000
DTSTAMP:20260422T012236
CREATED:20251215T160027Z
LAST-MODIFIED:20260128T213132Z
UID:10001483-1769626800-1769634000@www.maryvillecollege.edu
SUMMARY:MC3 Band Rehearsal
DESCRIPTION:The Maryville College Community Band is led by Jay Romines and will have weekly rehearsals on Wednesdays from 7:00 pm—9:00 pm in the Clayton Center for the Arts’ Massey Family Rehearsal Hall.\nFor more information about joining the MC3 Band\, visit: https://www.maryvillecollege.edu/academics/divisions/fine-arts/mc3band/
URL:https://www.maryvillecollege.edu/event/mc3-band-rehearsal-15/
LOCATION:CCA – Massey Family Rehearsal Hall
CATEGORIES:Fine Arts Division
END:VEVENT
BEGIN:VEVENT
DTSTART;TZID=America/New_York:20260128T190000
DTEND;TZID=America/New_York:20260128T210000
DTSTAMP:20260422T012236
CREATED:20260126T211705Z
LAST-MODIFIED:20260128T213132Z
UID:10001665-1769626800-1769634000@www.maryvillecollege.edu
SUMMARY:The MC Theatre Department “Grease” Auditions
DESCRIPTION:Grease Auditions Set for Jan. 27-28\nThe Maryville College Department of Theatre is thrilled to announce auditions for the spring production of the musical Grease. These auditions are open to the public\, and any interested party regardless of race\, gender\, age\, or experience level is welcome to attend. \nAuditions will be held from 7-10 p.m. on Tuesday\, Jan. 27\, and Wednesday\, Jan. 28\, with callbacks on Thursday\, Jan. 29.\nAll interested auditioners should bring a 1-minute musical selection either from an existing stage musical (not Grease) or a song from the 1950’s. There will be an accompanist\, so please bring sheet music for them to play. If you do not have sheet music\, please bring a track to sing over. In addition to singing\, auditioners will be divided into groups and given sides for cold reading. Callbacks will be announced after auditions on Jan. 28. \nTo schedule an audition\, please email Andy Vaught\, Assistant Professor of Theatre: andy.vaught@maryvillecollege.edu.\nAuditions will be held in the Clayton Center for the Arts’ Harold and Jean Lambert Recital Hall.
URL:https://www.maryvillecollege.edu/event/the-mc-theatre-department-grease-auditions-2/
CATEGORIES:Fine Arts Division
END:VEVENT
END:VCALENDAR