BEGIN:VCALENDAR
VERSION:2.0
PRODID:-//Maryville College - ECPv6.15.20//NONSGML v1.0//EN
CALSCALE:GREGORIAN
METHOD:PUBLISH
X-WR-CALNAME:Maryville College
X-ORIGINAL-URL:https://www.maryvillecollege.edu
X-WR-CALDESC:Events for Maryville College
REFRESH-INTERVAL;VALUE=DURATION:PT1H
X-Robots-Tag:noindex
X-PUBLISHED-TTL:PT1H
BEGIN:VTIMEZONE
TZID:America/New_York
BEGIN:DAYLIGHT
TZOFFSETFROM:-0500
TZOFFSETTO:-0400
TZNAME:EDT
DTSTART:20250309T070000
END:DAYLIGHT
BEGIN:STANDARD
TZOFFSETFROM:-0400
TZOFFSETTO:-0500
TZNAME:EST
DTSTART:20251102T060000
END:STANDARD
BEGIN:DAYLIGHT
TZOFFSETFROM:-0500
TZOFFSETTO:-0400
TZNAME:EDT
DTSTART:20260308T070000
END:DAYLIGHT
BEGIN:STANDARD
TZOFFSETFROM:-0400
TZOFFSETTO:-0500
TZNAME:EST
DTSTART:20261101T060000
END:STANDARD
BEGIN:DAYLIGHT
TZOFFSETFROM:-0500
TZOFFSETTO:-0400
TZNAME:EDT
DTSTART:20270314T070000
END:DAYLIGHT
BEGIN:STANDARD
TZOFFSETFROM:-0400
TZOFFSETTO:-0500
TZNAME:EST
DTSTART:20271107T060000
END:STANDARD
END:VTIMEZONE
BEGIN:VEVENT
DTSTART;VALUE=DATE:20260203
DTEND;VALUE=DATE:20260228
DTSTAMP:20260421T190920
CREATED:20260127T211521Z
LAST-MODIFIED:20260219T145019Z
UID:10001722-1770076800-1772236799@www.maryvillecollege.edu
SUMMARY:"Perennial Ties" Art Exhibition by Blackberry Farm & Blackberry Mountain
DESCRIPTION:Perennial Ties: A collective celebration of the creative spirit at Blackberry Farm & Blackberry Mountain \nThis year’s “Perennial Ties” exhibition is the third collective celebration of the arts representing Blackberry Farm and Blackberry Mountain. The excellent and rich variety of work chosen for this exhibition is evident of the individual creative spirit that happens from Blackberry team members\, visiting artists and friends of the extended Blackberry community. Selections in this exhibition have been chosen by the individual artists to showcase their range of artistic expression. We invite you to view the gallery from February 3-28 in the Clayton Center for the Arts’ Blackberry Farm Gallery at Maryville College and hope you’ll join us for our exhibition reception on February 28 from 6pm-8pm. \nGallery hours are Monday-Friday from 10:00 a.m. until 5:00 p.m.
URL:https://www.maryvillecollege.edu/event/perennial-ties-art-exhibition-by-blackberry-farm-blackberry-mountain/
LOCATION:CCA – Blackberry Farm Gallery
CATEGORIES:Clayton Center for the Arts,Fine Arts Division
END:VEVENT
BEGIN:VEVENT
DTSTART;TZID=America/New_York:20260203T160000
DTEND;TZID=America/New_York:20260203T173000
DTSTAMP:20260421T190920
CREATED:20251215T160029Z
LAST-MODIFIED:20260203T221516Z
UID:10001486-1770134400-1770139800@www.maryvillecollege.edu
SUMMARY:Scottie Singers Rehearsal
DESCRIPTION:The Scottie Singers is a youth choir for students in grades 4th through 8th led by Katie (Wagner) Philips (‘03).   Rehearsal goals include vocal technique\, ensemble blend\, music theory\, literacy\, and overall musicianship.\nFor more information please visit: https://www.maryvillecollege.edu/academics/divisions/fine-arts/choral-programs/youth-choirs/
URL:https://www.maryvillecollege.edu/event/scottie-singers-rehearsal-19/
LOCATION:CCA – Harry H. Harter Choral Rehearsal Room
CATEGORIES:Fine Arts Division
END:VEVENT
BEGIN:VEVENT
DTSTART;TZID=America/New_York:20260203T190000
DTEND;TZID=America/New_York:20260203T210000
DTSTAMP:20260421T190920
CREATED:20251215T160030Z
LAST-MODIFIED:20260203T221517Z
UID:10001487-1770145200-1770152400@www.maryvillecollege.edu
SUMMARY:Community Chorus Rehearsal
DESCRIPTION:The Maryville College Community Chorus\, under the direction of Dr. Dwight Dockery ’05\, will begin spring rehearsals at 7 p.m. on Tuesday\, January 20\, 2026\, in the Harry H. Harter Choral Rehearsal Room of the Clayton Center for the Arts. Rehearsals are normally from 7 until 9 p.m. The chorus is open to all area singers of all talent levels above 16. Music reading experience is helpful but not required. Registration and music for the choir will be available at the first rehearsal.\nThis established chorus of over 50 singers has a strong tradition of presenting quality choral music and frequently joins other community ensembles\, such as the Maryville College youth choirs and the Orchestra at Maryville College. The chorus performs quality literature of various styles and genres of the highest caliber. It often features the music of area composers and arrangers\, as well as the classic gems of the masters.\nDr. Dwight Dockery ’05 earned his bachelor’s in music theory-composition from MC before obtaining his master’s in choral conducting from East Carolina University and his doctorate from the University of South Carolina. Today\, he serves as music director at Maryville First United Methodist Church.
URL:https://www.maryvillecollege.edu/event/the-maryville-college-community-chorus-rehearsal-3/
LOCATION:CCA – Harry H. Harter Choral Rehearsal Room
CATEGORIES:Fine Arts Division
END:VEVENT
END:VCALENDAR