BEGIN:VCALENDAR
VERSION:2.0
PRODID:-//Maryville College - ECPv6.15.20//NONSGML v1.0//EN
CALSCALE:GREGORIAN
METHOD:PUBLISH
X-WR-CALNAME:Maryville College
X-ORIGINAL-URL:https://www.maryvillecollege.edu
X-WR-CALDESC:Events for Maryville College
REFRESH-INTERVAL;VALUE=DURATION:PT1H
X-Robots-Tag:noindex
X-PUBLISHED-TTL:PT1H
BEGIN:VTIMEZONE
TZID:America/New_York
BEGIN:DAYLIGHT
TZOFFSETFROM:-0500
TZOFFSETTO:-0400
TZNAME:EDT
DTSTART:20250309T070000
END:DAYLIGHT
BEGIN:STANDARD
TZOFFSETFROM:-0400
TZOFFSETTO:-0500
TZNAME:EST
DTSTART:20251102T060000
END:STANDARD
BEGIN:DAYLIGHT
TZOFFSETFROM:-0500
TZOFFSETTO:-0400
TZNAME:EDT
DTSTART:20260308T070000
END:DAYLIGHT
BEGIN:STANDARD
TZOFFSETFROM:-0400
TZOFFSETTO:-0500
TZNAME:EST
DTSTART:20261101T060000
END:STANDARD
BEGIN:DAYLIGHT
TZOFFSETFROM:-0500
TZOFFSETTO:-0400
TZNAME:EDT
DTSTART:20270314T070000
END:DAYLIGHT
BEGIN:STANDARD
TZOFFSETFROM:-0400
TZOFFSETTO:-0500
TZNAME:EST
DTSTART:20271107T060000
END:STANDARD
END:VTIMEZONE
BEGIN:VEVENT
DTSTART;VALUE=DATE:20260306
DTEND;VALUE=DATE:20260331
DTSTAMP:20260421T173622
CREATED:20260127T211551Z
LAST-MODIFIED:20260305T233023Z
UID:10001741-1772755200-1774915199@www.maryvillecollege.edu
SUMMARY:"Reflections of Reality: Exploring Perceptions in Art"
DESCRIPTION:“Reflections of Reality: Exploring Perceptions in Art” An exhibition of works by the Tennessee Artists Association\nThe exhibit uses all medias: acrylic\, oil\, photography\, watercolor\, pastel\, pencil\, 3-d\, and mixed media. The artists also use various subject matter to reflect\, be it an extraordinary use of color or not\, impressionistic\, abstract\, even traditional. \nThe exhibit will be on display in the Clayton Center for the Arts’ Blackberry Farm Gallery and William “Ed” Harmon Gallery from March 6-30\, 2026. Normal gallery hours are Monday-Friday from 10:00 a.m. until 5:00 p.m. \nA reception will be held in the galleries on Friday\, March 27\, 2026\, from 6-8 p.m. The reception is free and open to the public.
URL:https://www.maryvillecollege.edu/event/reflections-of-reality-exploring-perceptions-in-art-an-exhibition-of-works-by-the-tennessee-artists-association/
LOCATION:CCA – Blackberry Farm Gallery
CATEGORIES:Clayton Center for the Arts,Fine Arts Division
END:VEVENT
BEGIN:VEVENT
DTSTART;TZID=America/New_York:20260324T160000
DTEND;TZID=America/New_York:20260324T173000
DTSTAMP:20260421T173622
CREATED:20251215T160056Z
LAST-MODIFIED:20260324T161527Z
UID:10001523-1774368000-1774373400@www.maryvillecollege.edu
SUMMARY:Scottie Singers Rehearsal
DESCRIPTION:The Scottie Singers is a youth choir for students in grades 4th through 8th led by Katie (Wagner) Philips (‘03).   Rehearsal goals include vocal technique\, ensemble blend\, music theory\, literacy\, and overall musicianship.\nFor more information please visit: https://www.maryvillecollege.edu/academics/divisions/fine-arts/choral-programs/youth-choirs/
URL:https://www.maryvillecollege.edu/event/scottie-singers-rehearsal-25/
LOCATION:CCA – Harry H. Harter Choral Rehearsal Room
CATEGORIES:Fine Arts Division
END:VEVENT
BEGIN:VEVENT
DTSTART;TZID=America/New_York:20260324T190000
DTEND;TZID=America/New_York:20260324T210000
DTSTAMP:20260421T173622
CREATED:20251215T160056Z
LAST-MODIFIED:20260324T161528Z
UID:10001524-1774378800-1774386000@www.maryvillecollege.edu
SUMMARY:Community Chorus Rehearsal
DESCRIPTION:The Maryville College Community Chorus\, under the direction of Dr. Dwight Dockery ’05\, will begin spring rehearsals at 7 p.m. on Tuesday\, January 20\, 2026\, in the Harry H. Harter Choral Rehearsal Room of the Clayton Center for the Arts. Rehearsals are normally from 7 until 9 p.m. The chorus is open to all area singers of all talent levels above 16. Music reading experience is helpful but not required. Registration and music for the choir will be available at the first rehearsal.\nThis established chorus of over 50 singers has a strong tradition of presenting quality choral music and frequently joins other community ensembles\, such as the Maryville College youth choirs and the Orchestra at Maryville College. The chorus performs quality literature of various styles and genres of the highest caliber. It often features the music of area composers and arrangers\, as well as the classic gems of the masters.\nDr. Dwight Dockery ’05 earned his bachelor’s in music theory-composition from MC before obtaining his master’s in choral conducting from East Carolina University and his doctorate from the University of South Carolina. Today\, he serves as music director at Maryville First United Methodist Church.
URL:https://www.maryvillecollege.edu/event/the-maryville-college-community-chorus-rehearsal-9/
LOCATION:CCA – Harry H. Harter Choral Rehearsal Room
CATEGORIES:Fine Arts Division
END:VEVENT
BEGIN:VEVENT
DTSTART;TZID=America/New_York:20260324T190000
DTEND;TZID=America/New_York:20260324T210000
DTSTAMP:20260421T173622
CREATED:20251216T231523Z
LAST-MODIFIED:20260324T230030Z
UID:10001637-1774378800-1774386000@www.maryvillecollege.edu
SUMMARY:The Maryville College Concert Choir Homecoming Concert: "What Dreams May Come"
DESCRIPTION:Experience the power of the Maryville College Concert Choir as they present their Homecoming Concert\, “What Dreams May Come\,” featuring selections from their annual Spring Tour. This performance explores the beauty\, mystery\, and emotion found in the contrasts between light and dark\, hope and fear\, dream and reality. From expressive choral works to moments of inspiration\, this program promises an unforgettable evening of music and reflection.\nTicket prices are $12.50 plus tax for general admission.  Free for MC Faculty\, Staff\, and Students with ID\, although a printed ticket is required for admission.  For more information\, please visit claytonartscenter.com or call the clayton center box office at 865-981-8590.
URL:https://www.maryvillecollege.edu/event/the-maryville-college-concert-choir-homecoming-concert-what-dreams-may-come/
LOCATION:Maryville College\, Maryville\, 37804\, United States
CATEGORIES:Clayton Center for the Arts,Fine Arts Division,Maryville College Event
ATTACH;FMTTYPE=image/jpeg:https://www.maryvillecollege.edu/wp-content/uploads/Calendar/3.24.26.Concert-Choir-Poster-scaled-O0jgKE.jpg
END:VEVENT
END:VCALENDAR