BEGIN:VCALENDAR
VERSION:2.0
PRODID:-//Maryville College - ECPv6.15.20//NONSGML v1.0//EN
CALSCALE:GREGORIAN
METHOD:PUBLISH
X-ORIGINAL-URL:https://www.maryvillecollege.edu
X-WR-CALDESC:Events for Maryville College
REFRESH-INTERVAL;VALUE=DURATION:PT1H
X-Robots-Tag:noindex
X-PUBLISHED-TTL:PT1H
BEGIN:VTIMEZONE
TZID:America/New_York
BEGIN:DAYLIGHT
TZOFFSETFROM:-0500
TZOFFSETTO:-0400
TZNAME:EDT
DTSTART:20250309T070000
END:DAYLIGHT
BEGIN:STANDARD
TZOFFSETFROM:-0400
TZOFFSETTO:-0500
TZNAME:EST
DTSTART:20251102T060000
END:STANDARD
BEGIN:DAYLIGHT
TZOFFSETFROM:-0500
TZOFFSETTO:-0400
TZNAME:EDT
DTSTART:20260308T070000
END:DAYLIGHT
BEGIN:STANDARD
TZOFFSETFROM:-0400
TZOFFSETTO:-0500
TZNAME:EST
DTSTART:20261101T060000
END:STANDARD
BEGIN:DAYLIGHT
TZOFFSETFROM:-0500
TZOFFSETTO:-0400
TZNAME:EDT
DTSTART:20270314T070000
END:DAYLIGHT
BEGIN:STANDARD
TZOFFSETFROM:-0400
TZOFFSETTO:-0500
TZNAME:EST
DTSTART:20271107T060000
END:STANDARD
END:VTIMEZONE
BEGIN:VEVENT
DTSTART;VALUE=DATE:20260306
DTEND;VALUE=DATE:20260331
DTSTAMP:20260421T155542
CREATED:20260127T211551Z
LAST-MODIFIED:20260305T233023Z
UID:10001741-1772755200-1774915199@www.maryvillecollege.edu
SUMMARY:"Reflections of Reality: Exploring Perceptions in Art"
DESCRIPTION:“Reflections of Reality: Exploring Perceptions in Art” An exhibition of works by the Tennessee Artists Association\nThe exhibit uses all medias: acrylic\, oil\, photography\, watercolor\, pastel\, pencil\, 3-d\, and mixed media. The artists also use various subject matter to reflect\, be it an extraordinary use of color or not\, impressionistic\, abstract\, even traditional. \nThe exhibit will be on display in the Clayton Center for the Arts’ Blackberry Farm Gallery and William “Ed” Harmon Gallery from March 6-30\, 2026. Normal gallery hours are Monday-Friday from 10:00 a.m. until 5:00 p.m. \nA reception will be held in the galleries on Friday\, March 27\, 2026\, from 6-8 p.m. The reception is free and open to the public.
URL:https://www.maryvillecollege.edu/event/reflections-of-reality-exploring-perceptions-in-art-an-exhibition-of-works-by-the-tennessee-artists-association/
LOCATION:CCA – Blackberry Farm Gallery
CATEGORIES:Clayton Center for the Arts,Fine Arts Division
END:VEVENT
END:VCALENDAR