BEGIN:VCALENDAR
VERSION:2.0
PRODID:-//Maryville College - ECPv6.15.20//NONSGML v1.0//EN
CALSCALE:GREGORIAN
METHOD:PUBLISH
X-WR-CALNAME:Maryville College
X-ORIGINAL-URL:https://www.maryvillecollege.edu
X-WR-CALDESC:Events for Maryville College
REFRESH-INTERVAL;VALUE=DURATION:PT1H
X-Robots-Tag:noindex
X-PUBLISHED-TTL:PT1H
BEGIN:VTIMEZONE
TZID:America/New_York
BEGIN:DAYLIGHT
TZOFFSETFROM:-0500
TZOFFSETTO:-0400
TZNAME:EDT
DTSTART:20250309T070000
END:DAYLIGHT
BEGIN:STANDARD
TZOFFSETFROM:-0400
TZOFFSETTO:-0500
TZNAME:EST
DTSTART:20251102T060000
END:STANDARD
BEGIN:DAYLIGHT
TZOFFSETFROM:-0500
TZOFFSETTO:-0400
TZNAME:EDT
DTSTART:20260308T070000
END:DAYLIGHT
BEGIN:STANDARD
TZOFFSETFROM:-0400
TZOFFSETTO:-0500
TZNAME:EST
DTSTART:20261101T060000
END:STANDARD
BEGIN:DAYLIGHT
TZOFFSETFROM:-0500
TZOFFSETTO:-0400
TZNAME:EDT
DTSTART:20270314T070000
END:DAYLIGHT
BEGIN:STANDARD
TZOFFSETFROM:-0400
TZOFFSETTO:-0500
TZNAME:EST
DTSTART:20271107T060000
END:STANDARD
END:VTIMEZONE
BEGIN:VEVENT
DTSTART;TZID=America/New_York:20260413T190000
DTEND;TZID=America/New_York:20260413T210000
DTSTAMP:20260421T155251
CREATED:20251215T160112Z
LAST-MODIFIED:20260411T220017Z
UID:10001544-1776106800-1776114000@www.maryvillecollege.edu
SUMMARY:The Orchestra at MC Rehearsal
DESCRIPTION:The Orchestra at Maryville College is conducted by Dr. Ace Edewards and will hold weekly rehearsals on Mondays from 7 pm—9 pm in the Clayton Center for the Arts’ Massey Family Rehearsal Hall.\nFor more information about joining the Orchestra at Maryville College\, visit: https://www.maryvillecollege.edu/academics/divisions/fine-arts/instrumental-programs/
URL:https://www.maryvillecollege.edu/event/the-orchestra-at-maryville-college-rehearsal-23/
LOCATION:CCA – Massey Family Rehearsal Hall
CATEGORIES:Fine Arts Division
END:VEVENT
END:VCALENDAR