BEGIN:VCALENDAR
VERSION:2.0
PRODID:-//Maryville College - ECPv6.15.20//NONSGML v1.0//EN
CALSCALE:GREGORIAN
METHOD:PUBLISH
X-ORIGINAL-URL:https://www.maryvillecollege.edu
X-WR-CALDESC:Events for Maryville College
REFRESH-INTERVAL;VALUE=DURATION:PT1H
X-Robots-Tag:noindex
X-PUBLISHED-TTL:PT1H
BEGIN:VTIMEZONE
TZID:America/New_York
BEGIN:DAYLIGHT
TZOFFSETFROM:-0500
TZOFFSETTO:-0400
TZNAME:EDT
DTSTART:20250309T070000
END:DAYLIGHT
BEGIN:STANDARD
TZOFFSETFROM:-0400
TZOFFSETTO:-0500
TZNAME:EST
DTSTART:20251102T060000
END:STANDARD
BEGIN:DAYLIGHT
TZOFFSETFROM:-0500
TZOFFSETTO:-0400
TZNAME:EDT
DTSTART:20260308T070000
END:DAYLIGHT
BEGIN:STANDARD
TZOFFSETFROM:-0400
TZOFFSETTO:-0500
TZNAME:EST
DTSTART:20261101T060000
END:STANDARD
BEGIN:DAYLIGHT
TZOFFSETFROM:-0500
TZOFFSETTO:-0400
TZNAME:EDT
DTSTART:20270314T070000
END:DAYLIGHT
BEGIN:STANDARD
TZOFFSETFROM:-0400
TZOFFSETTO:-0500
TZNAME:EST
DTSTART:20271107T060000
END:STANDARD
END:VTIMEZONE
BEGIN:VEVENT
DTSTART;TZID=America/New_York:20260414T123000
DTEND;TZID=America/New_York:20260414T130000
DTSTAMP:20260421T155503
CREATED:20260130T213124Z
LAST-MODIFIED:20260411T220017Z
UID:10001760-1776169800-1776171600@www.maryvillecollege.edu
SUMMARY:Choir Conducting Class Concert
DESCRIPTION:Students in the advanced conducting class this semester will conduct a choir concert on Tuesday\, April 14\, 2026\, at 12:30 p.m. in the Clayton Center for the Arts’ Harold and Jean Lambert Recital Hall.  The concert is free and open to the public.
URL:https://www.maryvillecollege.edu/event/choir-conducting-class-concert/
LOCATION:CCA – Harold and Jean Lambert Recital Hall
CATEGORIES:Fine Arts Division
END:VEVENT
BEGIN:VEVENT
DTSTART;TZID=America/New_York:20260414T180000
DTEND;TZID=America/New_York:20260414T190000
DTSTAMP:20260421T155503
CREATED:20260210T224531Z
LAST-MODIFIED:20260407T231634Z
UID:10001797-1776189600-1776193200@www.maryvillecollege.edu
SUMMARY:Maryville College Jazz Band Concert
DESCRIPTION:The MC Jazz Band\, directed by Dr. Bill Swann\, Professor of Music\, will present a spring concert on Tuesday\, April 14\, 2026\, at 6 p.m. in the Clayton Center for the Arts’ Harold and Jean Lambert Recital Hall.  The event is free and open to the public.
URL:https://www.maryvillecollege.edu/event/maryville-college-jazz-band-concert-2/
LOCATION:CCA – Harold and Jean Lambert Recital Hall\, 502 E Lamar Alexander Pkwy\, Maryville\, TN\, United States
CATEGORIES:Clayton Center for the Arts,Fine Arts Division,Maryville College Event
ATTACH;FMTTYPE=image/jpeg:https://www.maryvillecollege.edu/wp-content/uploads/Calendar/4.14.26.Jazz-Band-Poster-scaled-l3eJmr.jpg
GEO:35.754957;-83.965409
X-APPLE-STRUCTURED-LOCATION;VALUE=URI;X-ADDRESS=CCA – Harold and Jean Lambert Recital Hall 502 E Lamar Alexander Pkwy Maryville TN United States;X-APPLE-RADIUS=500;X-TITLE=502 E Lamar Alexander Pkwy:geo:-83.965409,35.754957
END:VEVENT
BEGIN:VEVENT
DTSTART;TZID=America/New_York:20260414T190000
DTEND;TZID=America/New_York:20260414T210000
DTSTAMP:20260421T155504
CREATED:20251215T160113Z
LAST-MODIFIED:20260414T231522Z
UID:10001546-1776193200-1776200400@www.maryvillecollege.edu
SUMMARY:Community Chorus Rehearsal
DESCRIPTION:The Maryville College Community Chorus\, under the direction of Dr. Dwight Dockery ’05\, will begin spring rehearsals at 7 p.m. on Tuesday\, January 20\, 2026\, in the Harry H. Harter Choral Rehearsal Room of the Clayton Center for the Arts. Rehearsals are normally from 7 until 9 p.m. The chorus is open to all area singers of all talent levels above 16. Music reading experience is helpful but not required. Registration and music for the choir will be available at the first rehearsal.\nThis established chorus of over 50 singers has a strong tradition of presenting quality choral music and frequently joins other community ensembles\, such as the Maryville College youth choirs and the Orchestra at Maryville College. The chorus performs quality literature of various styles and genres of the highest caliber. It often features the music of area composers and arrangers\, as well as the classic gems of the masters.\nDr. Dwight Dockery ’05 earned his bachelor’s in music theory-composition from MC before obtaining his master’s in choral conducting from East Carolina University and his doctorate from the University of South Carolina. Today\, he serves as music director at Maryville First United Methodist Church.
URL:https://www.maryvillecollege.edu/event/the-maryville-college-community-chorus-rehearsal-12/
LOCATION:CCA – Harry H. Harter Choral Rehearsal Room
CATEGORIES:Fine Arts Division
END:VEVENT
END:VCALENDAR