BEGIN:VCALENDAR
VERSION:2.0
PRODID:-//Maryville College - ECPv6.15.20//NONSGML v1.0//EN
CALSCALE:GREGORIAN
METHOD:PUBLISH
X-WR-CALNAME:Maryville College
X-ORIGINAL-URL:https://www.maryvillecollege.edu
X-WR-CALDESC:Events for Maryville College
REFRESH-INTERVAL;VALUE=DURATION:PT1H
X-Robots-Tag:noindex
X-PUBLISHED-TTL:PT1H
BEGIN:VTIMEZONE
TZID:America/New_York
BEGIN:DAYLIGHT
TZOFFSETFROM:-0500
TZOFFSETTO:-0400
TZNAME:EDT
DTSTART:20250309T070000
END:DAYLIGHT
BEGIN:STANDARD
TZOFFSETFROM:-0400
TZOFFSETTO:-0500
TZNAME:EST
DTSTART:20251102T060000
END:STANDARD
BEGIN:DAYLIGHT
TZOFFSETFROM:-0500
TZOFFSETTO:-0400
TZNAME:EDT
DTSTART:20260308T070000
END:DAYLIGHT
BEGIN:STANDARD
TZOFFSETFROM:-0400
TZOFFSETTO:-0500
TZNAME:EST
DTSTART:20261101T060000
END:STANDARD
BEGIN:DAYLIGHT
TZOFFSETFROM:-0500
TZOFFSETTO:-0400
TZNAME:EDT
DTSTART:20270314T070000
END:DAYLIGHT
BEGIN:STANDARD
TZOFFSETFROM:-0400
TZOFFSETTO:-0500
TZNAME:EST
DTSTART:20271107T060000
END:STANDARD
END:VTIMEZONE
BEGIN:VEVENT
DTSTART;TZID=America/New_York:20260416T190000
DTEND;TZID=America/New_York:20260419T140000
DTSTAMP:20260421T155217
CREATED:20260113T233033Z
LAST-MODIFIED:20260414T231525Z
UID:10001655-1776366000-1776607200@www.maryvillecollege.edu
SUMMARY:MC Theatre Presents: Grease
DESCRIPTION:Grease is the word for young people exploring lust\, loss\, the realities of growing up\, cosmetology and\nhot-rod repair. The timeless musical will be brought to vivid life by the students\, staff\, faculty\, and\ncommunity of Maryville College. A celebration of freedom\, falling in love\, and the friendships that form\nus\, do not miss out on Grease! \n“Grease” will be presented at 7 p.m. Thursday\, April 16 through Saturday\, April 18\, and at 2 p.m. on\nSunday\, April 19 in the Clayton Center for the Arts’ Ronald and Lynda Nutt Theatre. \nTickets are $25 plus tax for general admission. MC Faculty\, Staff\, and Students may obtain ONE free\nprinted ticket to ONE show\, by showing their ID in person and obtaining a printed ticket at the Clayton\nCenter for the Arts Box Office during normal business hours only. For more information\, please visit\nclaytonartscenter.com or contact the Clayton center box office at 865-981-8590.
URL:https://www.maryvillecollege.edu/event/the-maryville-college-theatre-department-presents-grease-by-jim-jacobs-and-warren-casey-5/
LOCATION:Maryville College\, Maryville\, 37804\, United States
CATEGORIES:Clayton Center for the Arts,Fine Arts Division,Maryville College Event
ATTACH;FMTTYPE=image/jpeg:https://www.maryvillecollege.edu/wp-content/uploads/Calendar/4.16.26.Grease-Poster-11-x-17-JPEG-Version-scaled-PE0DHi.jpg
END:VEVENT
END:VCALENDAR