BEGIN:VCALENDAR
VERSION:2.0
PRODID:-//Maryville College - ECPv6.15.20//NONSGML v1.0//EN
CALSCALE:GREGORIAN
METHOD:PUBLISH
X-WR-CALNAME:Maryville College
X-ORIGINAL-URL:https://www.maryvillecollege.edu
X-WR-CALDESC:Events for Maryville College
REFRESH-INTERVAL;VALUE=DURATION:PT1H
X-Robots-Tag:noindex
X-PUBLISHED-TTL:PT1H
BEGIN:VTIMEZONE
TZID:America/New_York
BEGIN:DAYLIGHT
TZOFFSETFROM:-0500
TZOFFSETTO:-0400
TZNAME:EDT
DTSTART:20250309T070000
END:DAYLIGHT
BEGIN:STANDARD
TZOFFSETFROM:-0400
TZOFFSETTO:-0500
TZNAME:EST
DTSTART:20251102T060000
END:STANDARD
BEGIN:DAYLIGHT
TZOFFSETFROM:-0500
TZOFFSETTO:-0400
TZNAME:EDT
DTSTART:20260308T070000
END:DAYLIGHT
BEGIN:STANDARD
TZOFFSETFROM:-0400
TZOFFSETTO:-0500
TZNAME:EST
DTSTART:20261101T060000
END:STANDARD
BEGIN:DAYLIGHT
TZOFFSETFROM:-0500
TZOFFSETTO:-0400
TZNAME:EDT
DTSTART:20270314T070000
END:DAYLIGHT
BEGIN:STANDARD
TZOFFSETFROM:-0400
TZOFFSETTO:-0500
TZNAME:EST
DTSTART:20271107T060000
END:STANDARD
END:VTIMEZONE
BEGIN:VEVENT
DTSTART;TZID=America/New_York:20260421T190000
DTEND;TZID=America/New_York:20260421T210000
DTSTAMP:20260421T214331
CREATED:20251216T231532Z
LAST-MODIFIED:20260219T144429Z
UID:10001642-1776798000-1776805200@www.maryvillecollege.edu
SUMMARY:The Orchestra and Community Chorus at MC\, Spring Concert
DESCRIPTION:The Orchestra at Maryville College\, under the direction of Dr. Ace Edewards\, and the MC Community\nChorus\, under the direction of Dr. Dwight Dockery\, will present a spring concert at 7 p.m. in the Clayton\nCenter for the Arts’ Ronald and Lynda Nutt Theatre. \nTickets are $12.50 plus tax for general admission. Free for MC Faculty\, Staff\, and Students with\nID\, although a printed ticket is required for admission. For more information\, call the box office at 865-981-8590.
URL:https://www.maryvillecollege.edu/event/the-orchestra-at-mc-and-mc-community-chorus-spring-concert-2/
LOCATION:Maryville College\, Maryville\, TN\, 37804\, United States
CATEGORIES:Clayton Center for the Arts,Fine Arts Division,Maryville College Event
ATTACH;FMTTYPE=image/jpeg:https://www.maryvillecollege.edu/wp-content/uploads/Calendar/OMC-and-Chorus-g3RV0W.jpg
END:VEVENT
END:VCALENDAR