BEGIN:VCALENDAR
VERSION:2.0
PRODID:-//Maryville College - ECPv6.15.20//NONSGML v1.0//EN
CALSCALE:GREGORIAN
METHOD:PUBLISH
X-ORIGINAL-URL:https://www.maryvillecollege.edu
X-WR-CALDESC:Events for Maryville College
REFRESH-INTERVAL;VALUE=DURATION:PT1H
X-Robots-Tag:noindex
X-PUBLISHED-TTL:PT1H
BEGIN:VTIMEZONE
TZID:America/New_York
BEGIN:DAYLIGHT
TZOFFSETFROM:-0500
TZOFFSETTO:-0400
TZNAME:EDT
DTSTART:20240310T070000
END:DAYLIGHT
BEGIN:STANDARD
TZOFFSETFROM:-0400
TZOFFSETTO:-0500
TZNAME:EST
DTSTART:20241103T060000
END:STANDARD
BEGIN:DAYLIGHT
TZOFFSETFROM:-0500
TZOFFSETTO:-0400
TZNAME:EDT
DTSTART:20250309T070000
END:DAYLIGHT
BEGIN:STANDARD
TZOFFSETFROM:-0400
TZOFFSETTO:-0500
TZNAME:EST
DTSTART:20251102T060000
END:STANDARD
BEGIN:DAYLIGHT
TZOFFSETFROM:-0500
TZOFFSETTO:-0400
TZNAME:EDT
DTSTART:20260308T070000
END:DAYLIGHT
BEGIN:STANDARD
TZOFFSETFROM:-0400
TZOFFSETTO:-0500
TZNAME:EST
DTSTART:20261101T060000
END:STANDARD
BEGIN:DAYLIGHT
TZOFFSETFROM:-0500
TZOFFSETTO:-0400
TZNAME:EDT
DTSTART:20270314T070000
END:DAYLIGHT
BEGIN:STANDARD
TZOFFSETFROM:-0400
TZOFFSETTO:-0500
TZNAME:EST
DTSTART:20271107T060000
END:STANDARD
END:VTIMEZONE
BEGIN:VEVENT
DTSTART;VALUE=DATE:20260406
DTEND;VALUE=DATE:20260411
DTSTAMP:20260421T231711
CREATED:20250827T191647Z
LAST-MODIFIED:20260408T224543Z
UID:10001074-1775433600-1775865599@www.maryvillecollege.edu
SUMMARY:Returning Student Housing Selection Week
DESCRIPTION:Housing Selection is the process where current students choose housing for the next academic year.\nView the Housing Selection Guide > 
URL:https://www.maryvillecollege.edu/event/returning-student-housing-selection-week/
CATEGORIES:Residence Life
END:VEVENT
BEGIN:VEVENT
DTSTART;VALUE=DATE:20260323
DTEND;VALUE=DATE:20260328
DTSTAMP:20260421T231711
CREATED:20260218T214534Z
LAST-MODIFIED:20260325T223029Z
UID:10001827-1774224000-1774655999@www.maryvillecollege.edu
SUMMARY:March Floor Meeting Week
DESCRIPTION:Floor meetings are required gatherings led by your Resident Assistant to review community expectations\, hall policies\, important procedures\, and upcoming dates or deadlines. These meetings help ensure everyone stays informed and understands what’s happening within the residential community.
URL:https://www.maryvillecollege.edu/event/march-floor-meeting-week/
CATEGORIES:Maryville College Event,Residence Life
END:VEVENT
BEGIN:VEVENT
DTSTART;TZID=America/New_York:20260322T090000
DTEND;TZID=America/New_York:20260322T090000
DTSTAMP:20260421T231711
CREATED:20250827T191646Z
LAST-MODIFIED:20260318T221540Z
UID:10001073-1774170000-1774170000@www.maryvillecollege.edu
SUMMARY:Residence Halls Re-Open from Spring Break
DESCRIPTION:ID/swipe access into the halls will reactive at the time listed above.
URL:https://www.maryvillecollege.edu/event/all-residence-halls-re-open-from-spring-break/
CATEGORIES:Residence Life
END:VEVENT
BEGIN:VEVENT
DTSTART;TZID=America/New_York:20260313T210000
DTEND;TZID=America/New_York:20260313T210000
DTSTAMP:20260421T231711
CREATED:20250827T190300Z
LAST-MODIFIED:20260311T220024Z
UID:10001072-1773435600-1773435600@www.maryvillecollege.edu
SUMMARY:Residence Halls Close for Spring Break
DESCRIPTION:Please see the information on the procedures for residence hall breaks. Students may request arrangements to stay during the Thanksgiving\, Winter\, and Spring Break for a fee. Approval is not guaranteed. Fees are assessed to Student Accounts upon approval and conclusion of stay.
URL:https://www.maryvillecollege.edu/event/residence-halls-close-for-spring-break/
CATEGORIES:Residence Life
END:VEVENT
BEGIN:VEVENT
DTSTART;TZID=America/New_York:20260111T090000
DTEND;TZID=America/New_York:20260111T090000
DTSTAMP:20260421T231711
CREATED:20250827T174646Z
LAST-MODIFIED:20260107T213015Z
UID:10001057-1768122000-1768122000@www.maryvillecollege.edu
SUMMARY:Residence Halls Re-Open for Spring Semester
DESCRIPTION:ID/swipe access into the halls will not reactive until the time listed above.\nNew incoming students & transfers will move in the following Monday.
URL:https://www.maryvillecollege.edu/event/residence-halls-re-open-for-spring-semester/
CATEGORIES:Residence Life
END:VEVENT
BEGIN:VEVENT
DTSTART;TZID=America/New_York:20251210T210000
DTEND;TZID=America/New_York:20251210T210000
DTSTAMP:20260421T231711
CREATED:20250827T174645Z
LAST-MODIFIED:20251210T211553Z
UID:10001056-1765400400-1765400400@www.maryvillecollege.edu
SUMMARY:Residence Halls Close for Winter Break
DESCRIPTION:Please see the information on the procedures for residence hall breaks. Students may request arrangements to stay during the Thanksgiving\, Winter\, and Spring Break for a fee. Approval is not guaranteed. Fees are assessed to Student Accounts upon approval and conclusion of stay.
URL:https://www.maryvillecollege.edu/event/residence-halls-close-for-winter-break/
CATEGORIES:Residence Life
END:VEVENT
BEGIN:VEVENT
DTSTART;TZID=America/New_York:20251130T090000
DTEND;TZID=America/New_York:20251130T090000
DTSTAMP:20260421T231711
CREATED:20250827T174645Z
LAST-MODIFIED:20251126T211523Z
UID:10001055-1764493200-1764493200@www.maryvillecollege.edu
SUMMARY:Residence Halls Re-Open from Thanksgiving Break
DESCRIPTION:ID/swipe access into the halls will not reactive until the time listed above.
URL:https://www.maryvillecollege.edu/event/residence-halls-re-open-from-thanksgiving-break/
CATEGORIES:Residence Life
END:VEVENT
BEGIN:VEVENT
DTSTART;TZID=America/New_York:20251125T210000
DTEND;TZID=America/New_York:20251125T210000
DTSTAMP:20260421T231711
CREATED:20250827T174644Z
LAST-MODIFIED:20251119T211513Z
UID:10001054-1764104400-1764104400@www.maryvillecollege.edu
SUMMARY:Residence Halls Close for Thanksgiving Break
DESCRIPTION:Please see the information on the procedures for residence hall breaks. Students may request arrangements to stay during the Thanksgiving\, Winter\, and Spring Break for a fee. Approval is not guaranteed. Fees are assessed to Student Accounts upon approval and conclusion of stay.
URL:https://www.maryvillecollege.edu/event/residence-halls-close-for-thanksgiving-break/
CATEGORIES:Residence Life
END:VEVENT
BEGIN:VEVENT
DTSTART;VALUE=DATE:20251002
DTEND;VALUE=DATE:20251006
DTSTAMP:20260421T231711
CREATED:20250526T211522Z
LAST-MODIFIED:20251201T175258Z
UID:10000037-1759363200-1759708799@www.maryvillecollege.edu
SUMMARY:Fall Break  (no dining service)
DESCRIPTION:
URL:https://www.maryvillecollege.edu/event/fall-break-begins/
CATEGORIES:Academic Events,Residence Life
END:VEVENT
BEGIN:VEVENT
DTSTART;TZID=America/New_York:20250817T130000
DTEND;TZID=America/New_York:20250817T160000
DTSTAMP:20260421T231711
CREATED:20250721T191800Z
LAST-MODIFIED:20250812T164514Z
UID:10000488-1755435600-1755446400@www.maryvillecollege.edu
SUMMARY:Returning Student Move In
DESCRIPTION:
URL:https://www.maryvillecollege.edu/event/returning-student-move-in/
CATEGORIES:Residence Life
END:VEVENT
END:VCALENDAR