BEGIN:VCALENDAR
VERSION:2.0
PRODID:-//Maryville College - ECPv6.15.20//NONSGML v1.0//EN
CALSCALE:GREGORIAN
METHOD:PUBLISH
X-WR-CALNAME:Maryville College
X-ORIGINAL-URL:https://www.maryvillecollege.edu
X-WR-CALDESC:Events for Maryville College
REFRESH-INTERVAL;VALUE=DURATION:PT1H
X-Robots-Tag:noindex
X-PUBLISHED-TTL:PT1H
BEGIN:VTIMEZONE
TZID:America/New_York
BEGIN:DAYLIGHT
TZOFFSETFROM:-0500
TZOFFSETTO:-0400
TZNAME:EDT
DTSTART:20240310T070000
END:DAYLIGHT
BEGIN:STANDARD
TZOFFSETFROM:-0400
TZOFFSETTO:-0500
TZNAME:EST
DTSTART:20241103T060000
END:STANDARD
BEGIN:DAYLIGHT
TZOFFSETFROM:-0500
TZOFFSETTO:-0400
TZNAME:EDT
DTSTART:20250309T070000
END:DAYLIGHT
BEGIN:STANDARD
TZOFFSETFROM:-0400
TZOFFSETTO:-0500
TZNAME:EST
DTSTART:20251102T060000
END:STANDARD
BEGIN:DAYLIGHT
TZOFFSETFROM:-0500
TZOFFSETTO:-0400
TZNAME:EDT
DTSTART:20260308T070000
END:DAYLIGHT
BEGIN:STANDARD
TZOFFSETFROM:-0400
TZOFFSETTO:-0500
TZNAME:EST
DTSTART:20261101T060000
END:STANDARD
END:VTIMEZONE
BEGIN:VEVENT
DTSTART;TZID=America/New_York:20251108T143000
DTEND;TZID=America/New_York:20251108T170000
DTSTAMP:20260421T061008
CREATED:20250821T152152Z
LAST-MODIFIED:20251105T201531Z
UID:10001006-1762612200-1762621200@www.maryvillecollege.edu
SUMMARY:Choir Festival Concert
DESCRIPTION:The Invitational Choir Festival Concert is an annual event hosted by the Maryville College Concert Choir in which high school and college choral ensembles from the region are invited to perform together. The festival also includes performances by Off Kilter\, Lads and Lassies. The concert takes place on Saturday\, November 8th at 2:30 p.m. in the Clayton Center for the Arts’ Ronald & Lynda Nutt Theatre.\nTickets are $12.50 plus tax for general admission. Free for MC faculty\, staff\, and students\, although a printed ticket from the Clayton Center box office is required for admission. For more information\, call the box office at 865-981-8590.
URL:https://www.maryvillecollege.edu/event/choir-festival-concert/
LOCATION:CCA – Ronald and Lynda Nutt Theatre
CATEGORIES:Fine Arts Division
END:VEVENT
BEGIN:VEVENT
DTSTART;TZID=America/New_York:20251108T140000
DTEND;TZID=America/New_York:20251108T160000
DTSTAMP:20260421T061008
CREATED:20250721T164529Z
LAST-MODIFIED:20251124T211937Z
UID:10000276-1762610400-1762617600@www.maryvillecollege.edu
SUMMARY:Women's Volleyball
DESCRIPTION:Maryville College Women’s Volleyball vs Mississippi Women
URL:https://www.maryvillecollege.edu/event/maryville-college-womens-volleyball-vs-mississippi-university-for-women/
LOCATION:Lookout Mountain\, GA
CATEGORIES:Athletic Events
END:VEVENT
BEGIN:VEVENT
DTSTART;TZID=America/New_York:20251108T130000
DTEND;TZID=America/New_York:20251108T160000
DTSTAMP:20260421T061008
CREATED:20250503T211128Z
LAST-MODIFIED:20251124T202955Z
UID:10000024-1762606800-1762617600@www.maryvillecollege.edu
SUMMARY:Football
DESCRIPTION:Maryville College Football at Berry\nStreaming Video: https://www.berryvikings.com/watch/?Live=731&type=Live
URL:https://www.maryvillecollege.edu/event/maryville-college-football-at-berry/
CATEGORIES:Athletic Events
END:VEVENT
BEGIN:VEVENT
DTSTART;TZID=America/New_York:20251108T090000
DTEND;TZID=America/New_York:20251108T130000
DTSTAMP:20260421T061008
CREATED:20251009T203022Z
LAST-MODIFIED:20251106T203018Z
UID:10001363-1762592400-1762606800@www.maryvillecollege.edu
SUMMARY:Hike
DESCRIPTION:
URL:https://www.maryvillecollege.edu/event/hike-2/
CATEGORIES:Mtn. Challenge / Fit.Green.Happy.
END:VEVENT
BEGIN:VEVENT
DTSTART;VALUE=DATE:20251107
DTEND;VALUE=DATE:20251109
DTSTAMP:20260421T061008
CREATED:20251022T163017Z
LAST-MODIFIED:20260126T212421Z
UID:10001378-1762542000-1762628399@www.maryvillecollege.edu
SUMMARY:Men's Soccer CCS Tournament Championship
DESCRIPTION:Maryville College Men’s Soccer at Covenant – CCS Tournament Championship
URL:https://www.maryvillecollege.edu/event/maryville-college-mens-soccer-vs-ccs-finals/
LOCATION:Higher Seed
CATEGORIES:Athletic Events
END:VEVENT
BEGIN:VEVENT
DTSTART;TZID=America/New_York:20251107T190000
DTEND;TZID=America/New_York:20251107T210000
DTSTAMP:20260421T061008
CREATED:20250821T152150Z
LAST-MODIFIED:20251124T202250Z
UID:10001005-1762542000-1762549200@www.maryvillecollege.edu
SUMMARY:MC Theatre: "The Crucible" by Arthur Miller
DESCRIPTION:The MC Theatre Department will present “The Crucible” by Arthur Miller at 7 p.m. in the Clayton Center for the Arts’ Haslam Family Flexible Theatre.\nThe Crucible: What power does one person have when the whole world has gone mad? When fear and malice become the status quo\, how do we hold on to our dignity? Linking the past to the present\, Arthur Miller’s the Crucible dares us to confront our demons and our role in their terror. Join Maryville College for a bold imagining of one of the most important plays in American history.\n Tickets are $12.50 plus tax for general admission.  Free for MC faculty\, staff\, and students\, although a printed ticket from the Clayton Center box office is required for admission. For more information\, call the box office at 865-981-8590.
URL:https://www.maryvillecollege.edu/event/mc-theatre-production-the-crucible-by-arthur-miller-2/
LOCATION:CCA – Haslam Family Flexible Theatre
CATEGORIES:Clayton Center for the Arts,Fine Arts Division
END:VEVENT
BEGIN:VEVENT
DTSTART;TZID=America/New_York:20251107T170000
DTEND;TZID=America/New_York:20251107T190000
DTSTAMP:20260421T061008
CREATED:20250721T162230Z
LAST-MODIFIED:20251124T203302Z
UID:10000141-1762534800-1762542000@www.maryvillecollege.edu
SUMMARY:Men's Basketball
DESCRIPTION:Maryville College Men’s Basketball vs Pfeiffer
URL:https://www.maryvillecollege.edu/event/maryville-college-mens-basketball-vs-pfeiffer/
LOCATION:Mount Berry\, GA
CATEGORIES:Athletic Events
END:VEVENT
BEGIN:VEVENT
DTSTART;TZID=America/New_York:20251107T140000
DTEND;TZID=America/New_York:20251107T150000
DTSTAMP:20260421T061008
CREATED:20250908T180852Z
LAST-MODIFIED:20251104T020033Z
UID:10001229-1762524000-1762527600@www.maryvillecollege.edu
SUMMARY:STEM Event Series: Ansurika Datta\, UTK Math PhD Student
DESCRIPTION:
URL:https://www.maryvillecollege.edu/event/guest-speaker-ansurika-datta-utk-math-phd-student/
LOCATION:Sutton 201
CATEGORIES:STEM Success
END:VEVENT
BEGIN:VEVENT
DTSTART;TZID=America/New_York:20251107T110000
DTEND;TZID=America/New_York:20251107T120000
DTSTAMP:20260421T061008
CREATED:20250903T213047Z
LAST-MODIFIED:20251104T144516Z
UID:10001181-1762513200-1762516800@www.maryvillecollege.edu
SUMMARY:Bible Study
DESCRIPTION:
URL:https://www.maryvillecollege.edu/event/bible-study-19/
LOCATION:Maryville College\, Maryville\, 37804\, United States
CATEGORIES:Center for Campus Ministry
END:VEVENT
BEGIN:VEVENT
DTSTART;TZID=America/New_York:20251107T100000
DTEND;TZID=America/New_York:20251107T123000
DTSTAMP:20260421T061008
CREATED:20250808T214219Z
LAST-MODIFIED:20251107T160022Z
UID:10000699-1762509600-1762518600@www.maryvillecollege.edu
SUMMARY:Free Food & Fellowship
DESCRIPTION:Salvation Army \nSign up BEFORE: https://volunteeretn.galaxydigital.com/need/detail/?need_id=974643
URL:https://www.maryvillecollege.edu/event/free-food-fellowship-salvation-army-67/
LOCATION:Broadway United Methodist Church (309 E Broadway Ave\, Maryville\, TN 37804\, United States)
CATEGORIES:Community Engagement
END:VEVENT
BEGIN:VEVENT
DTSTART;TZID=America/New_York:20251106T190000
DTEND;TZID=America/New_York:20251106T210000
DTSTAMP:20260421T061008
CREATED:20250821T152149Z
LAST-MODIFIED:20251124T202250Z
UID:10001003-1762455600-1762462800@www.maryvillecollege.edu
SUMMARY:MC Theatre: "The Crucible" by Arthur Miller
DESCRIPTION:The MC Theatre Department will present “The Crucible” by Arthur Miller at 7 p.m. in the Clayton Center for the Arts’ Haslam Family Flexible Theatre.\nThe Crucible: What power does one person have when the whole world has gone mad? When fear and malice become the status quo\, how do we hold on to our dignity? Linking the past to the present\, Arthur Miller’s the Crucible dares us to confront our demons and our role in their terror. Join Maryville College for a bold imagining of one of the most important plays in American history.\n Tickets are $12.50 plus tax for general admission.  Free for MC faculty\, staff\, and students\, although a printed ticket from the Clayton Center box office is required for admission. For more information\, call the box office at 865-981-8590.
URL:https://www.maryvillecollege.edu/event/mc-theatre-production-the-crucible-by-arthur-miller/
LOCATION:CCA – Haslam Family Flexible Theatre
CATEGORIES:Clayton Center for the Arts,Fine Arts Division
END:VEVENT
BEGIN:VEVENT
DTSTART;TZID=America/New_York:20251106T180000
DTEND;TZID=America/New_York:20251106T190000
DTSTAMP:20260421T061008
CREATED:20250916T220039Z
LAST-MODIFIED:20251124T202311Z
UID:10001296-1762452000-1762455600@www.maryvillecollege.edu
SUMMARY:Senior Recital: Dana Patterson
DESCRIPTION:Dana Patterson will present her senior recital on Thursday\, November 6th at 6:00 p.m. in the Clayton Center for the Arts’ Harold and Jean Lambert Recital Hall. Dana is a Music Education (Voice) with Licensure major.\nThis recital is free and open to the public.
URL:https://www.maryvillecollege.edu/event/senior-recital-dana-patterson-2/
LOCATION:CCA – Harold and Jean Lambert Recital Hall\, 502 E Lamar Alexander Pkwy\, Maryville\, TN\, United States
CATEGORIES:Clayton Center for the Arts,Maryville College Event
ATTACH;FMTTYPE=image/jpeg:https://www.maryvillecollege.edu/wp-content/uploads/Calendar/11.6.25.Dana-Patterson-Recital-Press-Release-Headshot-scaled-SXsHnL.jpg
GEO:35.754957;-83.965409
X-APPLE-STRUCTURED-LOCATION;VALUE=URI;X-ADDRESS=CCA – Harold and Jean Lambert Recital Hall 502 E Lamar Alexander Pkwy Maryville TN United States;X-APPLE-RADIUS=500;X-TITLE=502 E Lamar Alexander Pkwy:geo:-83.965409,35.754957
END:VEVENT
BEGIN:VEVENT
DTSTART;TZID=America/New_York:20251106T180000
DTEND;TZID=America/New_York:20251106T190000
DTSTAMP:20260421T061008
CREATED:20250821T152150Z
LAST-MODIFIED:20251105T201531Z
UID:10001004-1762452000-1762455600@www.maryvillecollege.edu
SUMMARY:Senior Recital: Dana Patterson
DESCRIPTION:Dana Patterson will present her senior recital on Thursday\, November 6th at 6:00 p.m. in the Clayton Center for the Arts’ Harold and Jean Lambert Recital Hall.  Dana is a Music Education (Voice) with Licensure major.\nThis recital is free and open to the public.
URL:https://www.maryvillecollege.edu/event/senior-recital-dana-patterson/
LOCATION:CCA – Harold and Jean Lambert Recital Hall
CATEGORIES:Fine Arts Division
END:VEVENT
BEGIN:VEVENT
DTSTART;TZID=America/New_York:20251106T163000
DTEND;TZID=America/New_York:20251106T183000
DTSTAMP:20260421T061008
CREATED:20250721T191123Z
LAST-MODIFIED:20251031T160020Z
UID:10000373-1762446600-1762453800@www.maryvillecollege.edu
SUMMARY:Welcome Table
DESCRIPTION:
URL:https://www.maryvillecollege.edu/event/welcome-table-32/
LOCATION:New Providence Presbyterian Church
CATEGORIES:Community Engagement
END:VEVENT
BEGIN:VEVENT
DTSTART;TZID=America/New_York:20251106T160000
DTEND;TZID=America/New_York:20251106T170000
DTSTAMP:20260421T061008
CREATED:20250903T213047Z
LAST-MODIFIED:20251104T144516Z
UID:10001180-1762444800-1762448400@www.maryvillecollege.edu
SUMMARY:Jam Session
DESCRIPTION:
URL:https://www.maryvillecollege.edu/event/jam-session-10/
LOCATION:Maryville College\, Maryville\, 37804\, United States
CATEGORIES:Center for Campus Ministry
END:VEVENT
BEGIN:VEVENT
DTSTART;TZID=America/New_York:20251106T123000
DTEND;TZID=America/New_York:20251106T130000
DTSTAMP:20260421T061008
CREATED:20250828T181520Z
LAST-MODIFIED:20251105T221518Z
UID:10001125-1762432200-1762434000@www.maryvillecollege.edu
SUMMARY:SGA
DESCRIPTION:Open weekly for all students and employees
URL:https://www.maryvillecollege.edu/event/sga-10/
LOCATION:Thaw Hall 216
CATEGORIES:Activities, Clubs, and Orgs
END:VEVENT
BEGIN:VEVENT
DTSTART;TZID=America/New_York:20251106T120000
DTEND;TZID=America/New_York:20251106T124500
DTSTAMP:20260421T061008
CREATED:20250918T203021Z
LAST-MODIFIED:20251030T203017Z
UID:10001319-1762430400-1762433100@www.maryvillecollege.edu
SUMMARY:Habit Dogs
DESCRIPTION:Come pet the Habit dogs that come to Maryville College!
URL:https://www.maryvillecollege.edu/event/habit-dogs-7/
LOCATION:Pearsons Hall
CATEGORIES:Mtn. Challenge / Fit.Green.Happy.
END:VEVENT
BEGIN:VEVENT
DTSTART;TZID=America/New_York:20251105T190000
DTEND;TZID=America/New_York:20251105T210000
DTSTAMP:20260421T061008
CREATED:20250808T175802Z
LAST-MODIFIED:20251105T201531Z
UID:10000674-1762369200-1762376400@www.maryvillecollege.edu
SUMMARY:MC3 Band Rehearsal
DESCRIPTION:The Maryville College Community Band is led by Jay Romines and will have weekly rehearsals on Wednesdays from 7:00 pm—9:00 pm in the Clayton Center for the Arts’ Massey Family Rehearsal Hall.\nFor more information about joining the MC3 Band\, visit: https://www.maryvillecollege.edu/academics/divisions/fine-arts/mc3band/
URL:https://www.maryvillecollege.edu/event/mc3-band-rehearsal-11/
LOCATION:CCA – Massey Family Rehearsal Hall
CATEGORIES:Fine Arts Division
END:VEVENT
BEGIN:VEVENT
DTSTART;TZID=America/New_York:20251105T160000
DTEND;TZID=America/New_York:20251105T180000
DTSTAMP:20260421T061008
CREATED:20250911T202745Z
LAST-MODIFIED:20251030T203016Z
UID:10001268-1762358400-1762365600@www.maryvillecollege.edu
SUMMARY:Camp - 4
DESCRIPTION:Open tower\, music\, and fun at Crawford House
URL:https://www.maryvillecollege.edu/event/camp-4-9/
CATEGORIES:Mtn. Challenge / Fit.Green.Happy.
END:VEVENT
BEGIN:VEVENT
DTSTART;TZID=America/New_York:20251105T143000
DTEND;TZID=America/New_York:20251105T153000
DTSTAMP:20260421T061008
CREATED:20250821T173604Z
LAST-MODIFIED:20250828T204412Z
UID:10001032-1762353000-1762356600@www.maryvillecollege.edu
SUMMARY:Alumni Recruiter Reception
DESCRIPTION:The Maryville College Career Center annual Career & Internship Fair welcomes employers to connect with MC students at the Clayton Center for the Arts. Following the event\, alumni recruiters and employers present are invited to a networking reception at the Vienna Coffee Maryville College location. Let us fuel the rest of your day with coffee and pastries! \nLearn more about the Fair and sign up now. Indicate on the sign up that you or a colleague is an alum to receive more information.
URL:https://www.maryvillecollege.edu/event/alumni-recruiter-reception/
LOCATION:Vienna Coffee at MC\, 502 E. Lamar Alexander Pkwy\, Maryville\, TN\, 37804\, United States
CATEGORIES:Alumni Office
END:VEVENT
BEGIN:VEVENT
DTSTART;TZID=America/New_York:20251105T110000
DTEND;TZID=America/New_York:20251105T140000
DTSTAMP:20260421T061008
CREATED:20250825T163409Z
LAST-MODIFIED:20251104T211518Z
UID:10001040-1762340400-1762351200@www.maryvillecollege.edu
SUMMARY:2025 Career and Internship Fair
DESCRIPTION:The Maryville College Career Center hosts the 2025 Career & Internship Fair at the Clayton Center for the Arts.\nStudents can find out more about this event by visiting our Handshake site.\nParticipating organizations are required to preregister for the event. For more information please visit: maryvillecollege.edu/career/events
URL:https://www.maryvillecollege.edu/event/2025-career-and-internship-fair/
LOCATION:Clayton Center for the Arts
CATEGORIES:Career Center,STEM Success
END:VEVENT
BEGIN:VEVENT
DTSTART;TZID=America/New_York:20251104T200000
DTEND;TZID=America/New_York:20251104T210000
DTSTAMP:20260421T061008
CREATED:20250909T220040Z
LAST-MODIFIED:20251124T202304Z
UID:10001250-1762286400-1762290000@www.maryvillecollege.edu
SUMMARY:MC Fine Arts: Jazz Band Concert
DESCRIPTION:The MC Jazz Band\, directed by Dr. Bill Swann\, Professor of Music\, will present a concert at 8 p.m. in the Clayton Center for the Arts’ Harold and Jean Lambert Recital Hall.  This event is free and open to the public.
URL:https://www.maryvillecollege.edu/event/maryville-college-fine-arts-jazz-band-concert/
LOCATION:CCA – Harold and Jean Lambert Recital Hall\, 502 E Lamar Alexander Pkwy\, Maryville\, TN\, United States
CATEGORIES:Clayton Center for the Arts,Fine Arts Division,Maryville College Event
ATTACH;FMTTYPE=image/jpeg:https://www.maryvillecollege.edu/wp-content/uploads/Calendar/11.4.25.Jazz-Band-Concert-Poster-scaled.jpg
GEO:35.754957;-83.965409
X-APPLE-STRUCTURED-LOCATION;VALUE=URI;X-ADDRESS=CCA – Harold and Jean Lambert Recital Hall 502 E Lamar Alexander Pkwy Maryville TN United States;X-APPLE-RADIUS=500;X-TITLE=502 E Lamar Alexander Pkwy:geo:-83.965409,35.754957
END:VEVENT
BEGIN:VEVENT
DTSTART;TZID=America/New_York:20251104T180000
DTEND;TZID=America/New_York:20251104T200000
DTSTAMP:20260421T061008
CREATED:20251022T164515Z
LAST-MODIFIED:20260126T212421Z
UID:10001379-1762279200-1762286400@www.maryvillecollege.edu
SUMMARY:Women's Soccer CCS Semifinals
DESCRIPTION:Maryville College Women’s Soccer vs CCS Semifinals
URL:https://www.maryvillecollege.edu/event/maryville-college-womens-soccer-vs-ccs-semifinals/
LOCATION:Higher Seed
CATEGORIES:Athletic Events
END:VEVENT
BEGIN:VEVENT
DTSTART;TZID=America/New_York:20251104T170000
DTEND;TZID=America/New_York:20251104T180000
DTSTAMP:20260421T061008
CREATED:20250827T193643Z
LAST-MODIFIED:20251029T204513Z
UID:10001088-1762275600-1762279200@www.maryvillecollege.edu
SUMMARY:World Cup Coffee
DESCRIPTION:
URL:https://www.maryvillecollege.edu/event/world-cup-coffee-10/
LOCATION:Center for Campus Ministry (CCM)
CATEGORIES:Center for Campus Ministry,Global Engagement Events
END:VEVENT
BEGIN:VEVENT
DTSTART;TZID=America/New_York:20251104T163000
DTEND;TZID=America/New_York:20251104T183000
DTSTAMP:20260421T061008
CREATED:20250721T191122Z
LAST-MODIFIED:20251031T160019Z
UID:10000372-1762273800-1762281000@www.maryvillecollege.edu
SUMMARY:Welcome Table
DESCRIPTION:
URL:https://www.maryvillecollege.edu/event/welcome-table-31/
LOCATION:1st United Methodist Church (804 Montvale Station Rd\, Maryville\, TN 37803\, United States)
CATEGORIES:Community Engagement
END:VEVENT
BEGIN:VEVENT
DTSTART;TZID=America/New_York:20251104T131500
DTEND;TZID=America/New_York:20251104T135000
DTSTAMP:20260421T061008
CREATED:20250728T191532Z
LAST-MODIFIED:20251104T144515Z
UID:10000569-1762262100-1762264200@www.maryvillecollege.edu
SUMMARY:Chapel
DESCRIPTION:
URL:https://www.maryvillecollege.edu/event/chapel-11/
LOCATION:Center for Campus Ministry (CCM)
CATEGORIES:Center for Campus Ministry
END:VEVENT
BEGIN:VEVENT
DTSTART;TZID=America/New_York:20251103T160000
DTEND;TZID=America/New_York:20251103T170000
DTSTAMP:20260421T061008
CREATED:20250903T213045Z
LAST-MODIFIED:20251028T143018Z
UID:10001178-1762185600-1762189200@www.maryvillecollege.edu
SUMMARY:Bible Study
DESCRIPTION:
URL:https://www.maryvillecollege.edu/event/bible-study-18/
LOCATION:Maryville College\, Maryville\, 37804\, United States
CATEGORIES:Center for Campus Ministry
END:VEVENT
BEGIN:VEVENT
DTSTART;TZID=America/New_York:20251102T120000
DTEND;TZID=America/New_York:20251102T160000
DTSTAMP:20260421T061008
CREATED:20251009T203020Z
LAST-MODIFIED:20251030T203016Z
UID:10001362-1762084800-1762099200@www.maryvillecollege.edu
SUMMARY:Rock Climbing
DESCRIPTION:
URL:https://www.maryvillecollege.edu/event/rock-climbing-2/
CATEGORIES:Mtn. Challenge / Fit.Green.Happy.
END:VEVENT
BEGIN:VEVENT
DTSTART;TZID=America/New_York:20251101T140000
DTEND;TZID=America/New_York:20251101T160000
DTSTAMP:20260421T061008
CREATED:20250721T164529Z
LAST-MODIFIED:20251124T211937Z
UID:10000275-1762005600-1762012800@www.maryvillecollege.edu
SUMMARY:Women's Volleyball
DESCRIPTION:Maryville College Women’s Volleyball vs Piedmont
URL:https://www.maryvillecollege.edu/event/maryville-college-womens-volleyball-vs-piedmont-2/
CATEGORIES:Athletic Events
END:VEVENT
BEGIN:VEVENT
DTSTART;TZID=America/New_York:20251101T130000
DTEND;TZID=America/New_York:20251101T160000
DTSTAMP:20260421T061008
CREATED:20250503T211128Z
LAST-MODIFIED:20251124T202955Z
UID:10000023-1762002000-1762012800@www.maryvillecollege.edu
SUMMARY:Football
DESCRIPTION:Maryville College Football vs Rhodes\nStreaming Video: https://team1sports.com/maryvillescots/?B=2508900
URL:https://www.maryvillecollege.edu/event/maryville-college-football-vs-rhodes/
CATEGORIES:Athletic Events
END:VEVENT
END:VCALENDAR