BEGIN:VCALENDAR
VERSION:2.0
PRODID:-//Maryville College - ECPv6.15.20//NONSGML v1.0//EN
CALSCALE:GREGORIAN
METHOD:PUBLISH
X-WR-CALNAME:Maryville College
X-ORIGINAL-URL:https://www.maryvillecollege.edu
X-WR-CALDESC:Events for Maryville College
REFRESH-INTERVAL;VALUE=DURATION:PT1H
X-Robots-Tag:noindex
X-PUBLISHED-TTL:PT1H
BEGIN:VTIMEZONE
TZID:America/New_York
BEGIN:DAYLIGHT
TZOFFSETFROM:-0500
TZOFFSETTO:-0400
TZNAME:EDT
DTSTART:20240310T070000
END:DAYLIGHT
BEGIN:STANDARD
TZOFFSETFROM:-0400
TZOFFSETTO:-0500
TZNAME:EST
DTSTART:20241103T060000
END:STANDARD
BEGIN:DAYLIGHT
TZOFFSETFROM:-0500
TZOFFSETTO:-0400
TZNAME:EDT
DTSTART:20250309T070000
END:DAYLIGHT
BEGIN:STANDARD
TZOFFSETFROM:-0400
TZOFFSETTO:-0500
TZNAME:EST
DTSTART:20251102T060000
END:STANDARD
BEGIN:DAYLIGHT
TZOFFSETFROM:-0500
TZOFFSETTO:-0400
TZNAME:EDT
DTSTART:20260308T070000
END:DAYLIGHT
BEGIN:STANDARD
TZOFFSETFROM:-0400
TZOFFSETTO:-0500
TZNAME:EST
DTSTART:20261101T060000
END:STANDARD
END:VTIMEZONE
BEGIN:VEVENT
DTSTART;TZID=America/New_York:20251030T100000
DTEND;TZID=America/New_York:20251216T160000
DTSTAMP:20260421T102406
CREATED:20251104T224539Z
LAST-MODIFIED:20251209T230019Z
UID:10001407-1761818400-1765900800@www.maryvillecollege.edu
SUMMARY:Canvas of Many Colors Group Exhibition
DESCRIPTION:Inspired by legends like Dolly Parton and the storytelling spirit of country music\, this group exhibition celebrates the heart and soul of the genre through the eyes of local and regional artists.\nCan’t get enough Dolly? Join us for Dolly Parton’s Smoky Mountain Christmas Carol on Saturday\, November 29!\n \nThis exhibition is an independent artistic tribute inspired by the music and legacy of Dolly Parton. It is not affiliated with\, endorsed by\, or sponsored by Dolly Parton\, Dollywood\, or any related entities.
URL:https://www.maryvillecollege.edu/event/canvas-of-many-colors-group-exhibition/
LOCATION:La Dolce Vita Gallery\, 502 E Lamar Alexander Pkwy\, Maryville\, TN\, United States
CATEGORIES:Art Exhibit,Clayton Center for the Arts
ATTACH;FMTTYPE=image/jpeg:https://www.maryvillecollege.edu/wp-content/uploads/Calendar/DOLLY-Show-16x9-1-8xm8EL.jpg
ORGANIZER;CN="Clayton Center for the Arts":MAILTO:info@claytonartscenter.com
GEO:35.754957;-83.965409
X-APPLE-STRUCTURED-LOCATION;VALUE=URI;X-ADDRESS=La Dolce Vita Gallery 502 E Lamar Alexander Pkwy Maryville TN United States;X-APPLE-RADIUS=500;X-TITLE=502 E Lamar Alexander Pkwy:geo:-83.965409,35.754957
END:VEVENT
BEGIN:VEVENT
DTSTART;TZID=America/New_York:20251029T190000
DTEND;TZID=America/New_York:20251029T210000
DTSTAMP:20260421T102406
CREATED:20250808T175759Z
LAST-MODIFIED:20251029T201515Z
UID:10000669-1761764400-1761771600@www.maryvillecollege.edu
SUMMARY:MC3 Band Rehearsal
DESCRIPTION:The Maryville College Community Band is led by Jay Romines and will have weekly rehearsals on Wednesdays from 7:00 pm—9:00 pm in the Clayton Center for the Arts’ Massey Family Rehearsal Hall.\nFor more information about joining the MC3 Band\, visit: https://www.maryvillecollege.edu/academics/divisions/fine-arts/mc3band/
URL:https://www.maryvillecollege.edu/event/mc3-band-rehearsal-10/
LOCATION:CCA – Massey Family Rehearsal Hall
CATEGORIES:Fine Arts Division
END:VEVENT
BEGIN:VEVENT
DTSTART;TZID=America/New_York:20251029T160000
DTEND;TZID=America/New_York:20251029T180000
DTSTAMP:20260421T102406
CREATED:20250911T202744Z
LAST-MODIFIED:20251023T203015Z
UID:10001267-1761753600-1761760800@www.maryvillecollege.edu
SUMMARY:Camp - 4
DESCRIPTION:Open tower\, music\, and fun at Crawford House
URL:https://www.maryvillecollege.edu/event/camp-4-8/
LOCATION:TN
CATEGORIES:Mtn. Challenge / Fit.Green.Happy.
END:VEVENT
BEGIN:VEVENT
DTSTART;VALUE=DATE:20251028
DTEND;VALUE=DATE:20251108
DTSTAMP:20260421T102406
CREATED:20250805T203025Z
LAST-MODIFIED:20251124T203531Z
UID:10000613-1761681600-1762541999@www.maryvillecollege.edu
SUMMARY:Men's Soccer - Collegiate Conference of the South
DESCRIPTION:Maryville College Men’s Soccer vs CCS Championship
URL:https://www.maryvillecollege.edu/event/maryville-college-mens-soccer-vs-collegiate-conference-of-the-south-highest-seed-in-each-contest-hosts-the-match/
LOCATION:TN
CATEGORIES:Athletic Events
END:VEVENT
BEGIN:VEVENT
DTSTART;VALUE=DATE:20251028
DTEND;VALUE=DATE:20251030
DTSTAMP:20260421T102406
CREATED:20251022T163016Z
LAST-MODIFIED:20260126T212421Z
UID:10001376-1761681600-1761767999@www.maryvillecollege.edu
SUMMARY:Men's Soccer CCS Quarterfinals
DESCRIPTION:Maryville College Men’s Soccer vs CCS Quarterfinals
URL:https://www.maryvillecollege.edu/event/maryville-college-mens-soccer-vs-ccs-quarterfinals/
LOCATION:Higher Seed
CATEGORIES:Athletic Events
END:VEVENT
BEGIN:VEVENT
DTSTART;TZID=America/New_York:20251028T190000
DTEND;TZID=America/New_York:20251028T210000
DTSTAMP:20260421T102406
CREATED:20250721T164527Z
LAST-MODIFIED:20251124T211937Z
UID:10000273-1761678000-1761685200@www.maryvillecollege.edu
SUMMARY:Women's Volleyball
DESCRIPTION:Maryville College Women’s Volleyball vs Asbury \nStreaming Video: Watch
URL:https://www.maryvillecollege.edu/event/maryville-college-womens-volleyball-vs-asbury/
LOCATION:Cooper Athletic Center
CATEGORIES:Athletic Events
END:VEVENT
BEGIN:VEVENT
DTSTART;TZID=America/New_York:20251028T180000
DTEND;TZID=America/New_York:20251028T190000
DTSTAMP:20260421T102406
CREATED:20250821T152140Z
LAST-MODIFIED:20251124T202250Z
UID:10001000-1761674400-1761678000@www.maryvillecollege.edu
SUMMARY:Student Repertoire Recital
DESCRIPTION:Maryville College music majors and students who are taking applied music lessons will present a recital at 6:00 p.m. in the Clayton Center for the Arts’ Harold and Jean Lambert Recital Hall.  The event is free and open to the public.
URL:https://www.maryvillecollege.edu/event/student-repertoire-recital/
LOCATION:CCA – Harold and Jean Lambert Recital Hall
CATEGORIES:Clayton Center for the Arts,Fine Arts Division
END:VEVENT
BEGIN:VEVENT
DTSTART;TZID=America/New_York:20251028T170000
DTEND;TZID=America/New_York:20251028T180000
DTSTAMP:20260421T102406
CREATED:20250827T193642Z
LAST-MODIFIED:20251022T204514Z
UID:10001087-1761670800-1761674400@www.maryvillecollege.edu
SUMMARY:World Cup Coffee
DESCRIPTION:
URL:https://www.maryvillecollege.edu/event/world-cup-coffee-9/
LOCATION:Center for Campus Ministry (CCM)
CATEGORIES:Center for Campus Ministry,Global Engagement Events
END:VEVENT
BEGIN:VEVENT
DTSTART;TZID=America/New_York:20251028T163000
DTEND;TZID=America/New_York:20251028T183000
DTSTAMP:20260421T102406
CREATED:20250721T191120Z
LAST-MODIFIED:20251024T154616Z
UID:10000369-1761669000-1761676200@www.maryvillecollege.edu
SUMMARY:Welcome Table
DESCRIPTION:
URL:https://www.maryvillecollege.edu/event/welcome-table-29/
LOCATION:1st United Methodist Church (804 Montvale Station Rd\, Maryville\, TN 37803\, United States)
CATEGORIES:Community Engagement
END:VEVENT
BEGIN:VEVENT
DTSTART;TZID=America/New_York:20251028T131500
DTEND;TZID=America/New_York:20251028T135000
DTSTAMP:20260421T102406
CREATED:20250728T191531Z
LAST-MODIFIED:20251028T143016Z
UID:10000568-1761657300-1761659400@www.maryvillecollege.edu
SUMMARY:Chapel
DESCRIPTION:
URL:https://www.maryvillecollege.edu/event/chapel-10/
LOCATION:Center for Campus Ministry (CCM)
CATEGORIES:Center for Campus Ministry
END:VEVENT
BEGIN:VEVENT
DTSTART;TZID=America/New_York:20251027T160000
DTEND;TZID=America/New_York:20251027T170000
DTSTAMP:20260421T102406
CREATED:20250903T213041Z
LAST-MODIFIED:20251021T143019Z
UID:10001174-1761580800-1761584400@www.maryvillecollege.edu
SUMMARY:Bible Study
DESCRIPTION:
URL:https://www.maryvillecollege.edu/event/bible-study-16/
LOCATION:Maryville College\, Maryville\, TN\, 37804\, United States
CATEGORIES:Center for Campus Ministry
END:VEVENT
BEGIN:VEVENT
DTSTART;VALUE=DATE:20251026
DTEND;VALUE=DATE:20251028
DTSTAMP:20260421T102406
CREATED:20250721T163906Z
LAST-MODIFIED:20251124T203418Z
UID:10000222-1761508800-1761595199@www.maryvillecollege.edu
SUMMARY:Women's Golf
DESCRIPTION:Maryville College Women’s Golf at Chick-fil-A Invitational – Stonebridge Golf Course
URL:https://www.maryvillecollege.edu/event/maryville-college-womens-golf-at-chick-fil-a-invitational/
LOCATION:Mount Berry\, GA
CATEGORIES:Athletic Events
END:VEVENT
BEGIN:VEVENT
DTSTART;TZID=America/New_York:20251025T153000
DTEND;TZID=America/New_York:20251025T173000
DTSTAMP:20260421T102406
CREATED:20250603T195433Z
LAST-MODIFIED:20251124T203255Z
UID:10000083-1761406200-1761413400@www.maryvillecollege.edu
SUMMARY:Men's Soccer
DESCRIPTION:Maryville College Men’s Soccer vs Huntingdon\nStreaming Video: https://team1sports.com/maryvillescots/?B=2508886
URL:https://www.maryvillecollege.edu/event/maryville-college-mens-soccer-vs-huntingdon/
LOCATION:MC Soccer Complex\, 729 Howee Ave\, Maryville\, TN\, 37804\, United States
CATEGORIES:Athletic Events
END:VEVENT
BEGIN:VEVENT
DTSTART;TZID=America/New_York:20251025T150000
DTEND;TZID=America/New_York:20251025T170000
DTSTAMP:20260421T102406
CREATED:20250721T163719Z
LAST-MODIFIED:20251124T203409Z
UID:10000215-1761404400-1761411600@www.maryvillecollege.edu
SUMMARY:Women's Soccer
DESCRIPTION:Maryville College Women’s Soccer at Wesleyan
URL:https://www.maryvillecollege.edu/event/maryville-college-womens-soccer-at-wesleyan/
LOCATION:TN
CATEGORIES:Athletic Events
END:VEVENT
BEGIN:VEVENT
DTSTART;TZID=America/New_York:20251025T140000
DTEND;TZID=America/New_York:20251025T160000
DTSTAMP:20260421T102406
CREATED:20250721T164526Z
LAST-MODIFIED:20251124T211937Z
UID:10000272-1761400800-1761408000@www.maryvillecollege.edu
SUMMARY:Women's Volleyball
DESCRIPTION:Maryville College Women’s Volleyball vs Huntingdon
URL:https://www.maryvillecollege.edu/event/maryville-college-womens-volleyball-vs-huntingdon/
LOCATION:TN
CATEGORIES:Athletic Events
END:VEVENT
BEGIN:VEVENT
DTSTART;TZID=America/New_York:20251025T130000
DTEND;TZID=America/New_York:20251025T160000
DTSTAMP:20260421T102406
CREATED:20250503T211127Z
LAST-MODIFIED:20251124T202948Z
UID:10000022-1761397200-1761408000@www.maryvillecollege.edu
SUMMARY:Football
DESCRIPTION:Maryville College Football at Southwestern\nStreaming Video: https://www.vype.com/12pm-football-southwestern-vs-maryville
URL:https://www.maryvillecollege.edu/event/maryville-college-football-at-southwestern/
LOCATION:TN
CATEGORIES:Athletic Events
END:VEVENT
BEGIN:VEVENT
DTSTART;TZID=America/New_York:20251025T120000
DTEND;TZID=America/New_York:20251025T140000
DTSTAMP:20260421T102406
CREATED:20250721T164525Z
LAST-MODIFIED:20251124T211937Z
UID:10000271-1761393600-1761400800@www.maryvillecollege.edu
SUMMARY:Women's Volleyball
DESCRIPTION:Maryville College Women’s Volleyball at Wesleyan
URL:https://www.maryvillecollege.edu/event/maryville-college-womens-volleyball-at-wesleyan/
LOCATION:TN
CATEGORIES:Athletic Events
END:VEVENT
BEGIN:VEVENT
DTSTART;TZID=America/New_York:20251025T090000
DTEND;TZID=America/New_York:20251025T160000
DTSTAMP:20260421T102406
CREATED:20251009T203018Z
LAST-MODIFIED:20251023T203014Z
UID:10001361-1761382800-1761408000@www.maryvillecollege.edu
SUMMARY:Hike
DESCRIPTION:
URL:https://www.maryvillecollege.edu/event/hike/
LOCATION:TN
CATEGORIES:Mtn. Challenge / Fit.Green.Happy.
END:VEVENT
BEGIN:VEVENT
DTSTART;TZID=America/New_York:20251024T150000
DTEND;TZID=America/New_York:20251024T160000
DTSTAMP:20260421T102406
CREATED:20251014T020020Z
LAST-MODIFIED:20251021T020019Z
UID:10001365-1761318000-1761321600@www.maryvillecollege.edu
SUMMARY:STEM Event Series: Will Stallions '23
DESCRIPTION:“From Student to Engineer”
URL:https://www.maryvillecollege.edu/event/stem-event-series-will-stallions-23/
LOCATION:Sutton 143
CATEGORIES:STEM Success
END:VEVENT
BEGIN:VEVENT
DTSTART;TZID=America/New_York:20251024T110000
DTEND;TZID=America/New_York:20251024T120000
DTSTAMP:20260421T102406
CREATED:20250903T213041Z
LAST-MODIFIED:20251021T143018Z
UID:10001173-1761303600-1761307200@www.maryvillecollege.edu
SUMMARY:Bible Study
DESCRIPTION:
URL:https://www.maryvillecollege.edu/event/bible-study-15/
LOCATION:Maryville College\, Maryville\, TN\, 37804\, United States
CATEGORIES:Center for Campus Ministry
END:VEVENT
BEGIN:VEVENT
DTSTART;TZID=America/New_York:20251024T100000
DTEND;TZID=America/New_York:20251024T123000
DTSTAMP:20260421T102406
CREATED:20250808T214215Z
LAST-MODIFIED:20251024T154616Z
UID:10000697-1761300000-1761309000@www.maryvillecollege.edu
SUMMARY:Free Food & Fellowship
DESCRIPTION:Salvation Army \nSign up BEFORE: https://volunteeretn.galaxydigital.com/need/detail/?need_id=974643
URL:https://www.maryvillecollege.edu/event/free-food-fellowship-salvation-army-65/
LOCATION:Broadway United Methodist Church (309 E Broadway Ave\, Maryville\, TN 37804\, United States)
CATEGORIES:Community Engagement
END:VEVENT
BEGIN:VEVENT
DTSTART;VALUE=DATE:20251024
DTEND;VALUE=DATE:20251026
DTSTAMP:20260421T102406
CREATED:20250721T164010Z
LAST-MODIFIED:20260109T221826Z
UID:10000225-1761264000-1761436799@www.maryvillecollege.edu
SUMMARY:Men's Tennis
DESCRIPTION:Maryville College Men’s Tennis at Piedmont Fall Foliage Classic
URL:https://www.maryvillecollege.edu/event/maryville-college-mens-tennis-at-piedmont-invitational/
LOCATION:Demorest\, GA
CATEGORIES:Athletic Events
END:VEVENT
BEGIN:VEVENT
DTSTART;TZID=America/New_York:20251023T190000
DTEND;TZID=America/New_York:20251025T170000
DTSTAMP:20260421T102406
CREATED:20250730T211520Z
LAST-MODIFIED:20251124T212318Z
UID:10000603-1761246000-1761411600@www.maryvillecollege.edu
SUMMARY:Dracula
DESCRIPTION:TAKE A BITE OUT OF BALLET \nJoin the Appalachian Ballet Company for a bold new telling of Dracula — a world premiere dance experience that surrounds you with movement\, music and mystery from every angle! Dracula and Lucy will be danced by ABC principal dancers James and Laura La Russa. \nThese performances will be offered in the Haslam Family Flexible Theatre with limited general admission seating. Tickets for the Thursday and Saturday performances are $25.\nA Special Friday evening event will begin at 5:30 with adult beverages\, mocktails and tasty “bites.”  This patron party is open to the public and will be followed by a 7:00 pm performance (generously sponsored by David’s Abbey Carpet & Floors).  Tickets for this special evening are $65.\nFeel free to dress in Dracula-themed attire! \n(Please\, No large headdresses due to sight lines for all guests). 
URL:https://www.maryvillecollege.edu/event/dracula/
LOCATION:CCA – Haslam Family Flexible Theatre\, 502 E Lamar Alexander Pkwy\, Maryville\, TN\, United States
CATEGORIES:Clayton Center for the Arts
ATTACH;FMTTYPE=image/jpeg:https://www.maryvillecollege.edu/wp-content/uploads/Calendar/Dracula-Michelle-Carr-Photograpy-mXFnqV.jpg
GEO:35.754957;-83.965409
X-APPLE-STRUCTURED-LOCATION;VALUE=URI;X-ADDRESS=CCA – Haslam Family Flexible Theatre 502 E Lamar Alexander Pkwy Maryville TN United States;X-APPLE-RADIUS=500;X-TITLE=502 E Lamar Alexander Pkwy:geo:-83.965409,35.754957
END:VEVENT
BEGIN:VEVENT
DTSTART;TZID=America/New_York:20251023T163000
DTEND;TZID=America/New_York:20251023T183000
DTSTAMP:20260421T102406
CREATED:20250721T191119Z
LAST-MODIFIED:20251017T153016Z
UID:10000367-1761237000-1761244200@www.maryvillecollege.edu
SUMMARY:Welcome Table
DESCRIPTION:
URL:https://www.maryvillecollege.edu/event/welcome-table-28/
LOCATION:New Providence Presbyterian Church
CATEGORIES:Community Engagement
END:VEVENT
BEGIN:VEVENT
DTSTART;TZID=America/New_York:20251023T160000
DTEND;TZID=America/New_York:20251023T170000
DTSTAMP:20260421T102406
CREATED:20250903T213040Z
LAST-MODIFIED:20251021T143017Z
UID:10001172-1761235200-1761238800@www.maryvillecollege.edu
SUMMARY:Jam Session
DESCRIPTION:
URL:https://www.maryvillecollege.edu/event/jam-session-8/
LOCATION:Maryville College\, Maryville\, TN\, 37804\, United States
CATEGORIES:Center for Campus Ministry
END:VEVENT
BEGIN:VEVENT
DTSTART;TZID=America/New_York:20251023T140000
DTEND;TZID=America/New_York:20251023T150000
DTSTAMP:20260421T102406
CREATED:20251021T020018Z
LAST-MODIFIED:20251021T020018Z
UID:10001367-1761228000-1761231600@www.maryvillecollege.edu
SUMMARY:FIPSE Grant - Budget Allocation Meeting
DESCRIPTION:
URL:https://www.maryvillecollege.edu/event/fipse-grant-budget-allocation-meeting/
LOCATION:LASER Center
CATEGORIES:STEM Success
END:VEVENT
BEGIN:VEVENT
DTSTART;TZID=America/New_York:20251023T123000
DTEND;TZID=America/New_York:20251023T130000
DTSTAMP:20260421T102406
CREATED:20250828T181519Z
LAST-MODIFIED:20251022T213014Z
UID:10001123-1761222600-1761224400@www.maryvillecollege.edu
SUMMARY:SGA
DESCRIPTION:Open weekly for all students and employees
URL:https://www.maryvillecollege.edu/event/sga-8/
LOCATION:Thaw Hall 216
CATEGORIES:Activities, Clubs, and Orgs
END:VEVENT
BEGIN:VEVENT
DTSTART;TZID=America/New_York:20251023T120000
DTEND;TZID=America/New_York:20251023T124500
DTSTAMP:20260421T102406
CREATED:20250918T203018Z
LAST-MODIFIED:20251016T203021Z
UID:10001317-1761220800-1761223500@www.maryvillecollege.edu
SUMMARY:Habit Dogs
DESCRIPTION:Come pet the Habit dogs that come to Maryville College!
URL:https://www.maryvillecollege.edu/event/habit-dogs-5/
LOCATION:Pearsons Hall
CATEGORIES:Mtn. Challenge / Fit.Green.Happy.
END:VEVENT
BEGIN:VEVENT
DTSTART;TZID=America/New_York:20251022T190000
DTEND;TZID=America/New_York:20251022T210000
DTSTAMP:20260421T102406
CREATED:20250808T175756Z
LAST-MODIFIED:20251022T201538Z
UID:10000664-1761159600-1761166800@www.maryvillecollege.edu
SUMMARY:MC3 Band Rehearsal
DESCRIPTION:The Maryville College Community Band is led by Jay Romines and will have weekly rehearsals on Wednesdays from 7:00 pm—9:00 pm in the Clayton Center for the Arts’ Massey Family Rehearsal Hall.\nFor more information about joining the MC3 Band\, visit: https://www.maryvillecollege.edu/academics/divisions/fine-arts/mc3band/
URL:https://www.maryvillecollege.edu/event/mc3-band-rehearsal-9/
LOCATION:CCA – Massey Family Rehearsal Hall
CATEGORIES:Fine Arts Division
END:VEVENT
BEGIN:VEVENT
DTSTART;TZID=America/New_York:20251022T190000
DTEND;TZID=America/New_York:20251022T210000
DTSTAMP:20260421T102406
CREATED:20250603T195433Z
LAST-MODIFIED:20251124T203248Z
UID:10000082-1761159600-1761166800@www.maryvillecollege.edu
SUMMARY:Men's Soccer
DESCRIPTION:Maryville College Men’s Soccer at Covenant\nStreaming Video: https://www.youtube.com/@CovenantAthletics/streams
URL:https://www.maryvillecollege.edu/event/maryville-college-mens-soccer-at-covenant/
LOCATION:TN
CATEGORIES:Athletic Events
END:VEVENT
END:VCALENDAR