BEGIN:VCALENDAR
VERSION:2.0
PRODID:-//Maryville College - ECPv6.15.20//NONSGML v1.0//EN
CALSCALE:GREGORIAN
METHOD:PUBLISH
X-WR-CALNAME:Maryville College
X-ORIGINAL-URL:https://www.maryvillecollege.edu
X-WR-CALDESC:Events for Maryville College
REFRESH-INTERVAL;VALUE=DURATION:PT1H
X-Robots-Tag:noindex
X-PUBLISHED-TTL:PT1H
BEGIN:VTIMEZONE
TZID:America/New_York
BEGIN:DAYLIGHT
TZOFFSETFROM:-0500
TZOFFSETTO:-0400
TZNAME:EDT
DTSTART:20240310T070000
END:DAYLIGHT
BEGIN:STANDARD
TZOFFSETFROM:-0400
TZOFFSETTO:-0500
TZNAME:EST
DTSTART:20241103T060000
END:STANDARD
BEGIN:DAYLIGHT
TZOFFSETFROM:-0500
TZOFFSETTO:-0400
TZNAME:EDT
DTSTART:20250309T070000
END:DAYLIGHT
BEGIN:STANDARD
TZOFFSETFROM:-0400
TZOFFSETTO:-0500
TZNAME:EST
DTSTART:20251102T060000
END:STANDARD
BEGIN:DAYLIGHT
TZOFFSETFROM:-0500
TZOFFSETTO:-0400
TZNAME:EDT
DTSTART:20260308T070000
END:DAYLIGHT
BEGIN:STANDARD
TZOFFSETFROM:-0400
TZOFFSETTO:-0500
TZNAME:EST
DTSTART:20261101T060000
END:STANDARD
END:VTIMEZONE
BEGIN:VEVENT
DTSTART;TZID=America/New_York:20251008T190000
DTEND;TZID=America/New_York:20251008T210000
DTSTAMP:20260421T195913
CREATED:20250808T175750Z
LAST-MODIFIED:20251008T201528Z
UID:10000654-1759950000-1759957200@www.maryvillecollege.edu
SUMMARY:MC3 Band Rehearsal
DESCRIPTION:The Maryville College Community Band is led by Jay Romines and will have weekly rehearsals on Wednesdays from 7:00 pm—9:00 pm in the Clayton Center for the Arts’ Massey Family Rehearsal Hall.\nFor more information about joining the MC3 Band\, visit: https://www.maryvillecollege.edu/academics/divisions/fine-arts/mc3band/
URL:https://www.maryvillecollege.edu/event/mc3-band-rehearsal-7/
LOCATION:CCA – Massey Family Rehearsal Hall
CATEGORIES:Fine Arts Division
END:VEVENT
BEGIN:VEVENT
DTSTART;TZID=America/New_York:20251008T190000
DTEND;TZID=America/New_York:20251008T210000
DTSTAMP:20260421T195913
CREATED:20250721T163716Z
LAST-MODIFIED:20251124T203409Z
UID:10000211-1759950000-1759957200@www.maryvillecollege.edu
SUMMARY:Women's Soccer
DESCRIPTION:Maryville College Women’s Soccer at Asbury\nStreaming Video: https://www.asburysportsdigitalnetwork.com/
URL:https://www.maryvillecollege.edu/event/maryville-college-womens-soccer-at-asbury/
CATEGORIES:Athletic Events
END:VEVENT
BEGIN:VEVENT
DTSTART;TZID=America/New_York:20251008T160000
DTEND;TZID=America/New_York:20251008T180000
DTSTAMP:20260421T195913
CREATED:20250911T202743Z
LAST-MODIFIED:20251002T203020Z
UID:10001264-1759939200-1759946400@www.maryvillecollege.edu
SUMMARY:Camp - 4
DESCRIPTION:Open tower\, music\, and fun at Crawford House
URL:https://www.maryvillecollege.edu/event/camp-4-5/
CATEGORIES:Mtn. Challenge / Fit.Green.Happy.
END:VEVENT
BEGIN:VEVENT
DTSTART;TZID=America/New_York:20251008T140000
DTEND;TZID=America/New_York:20251008T190000
DTSTAMP:20260421T195913
CREATED:20250918T204956Z
LAST-MODIFIED:20250918T204956Z
UID:10001323-1759932000-1759950000@www.maryvillecollege.edu
SUMMARY:Knoxville Vintage Market @ MC
DESCRIPTION:The Knoxville Vintage Market is back for a Homecoming edition! In partnership with Fit.Green.Happy. and Camp4\, stop by the Crawford House to shop local vintage vendors and try your alpine tower climbing skills.
URL:https://www.maryvillecollege.edu/event/knoxville-vintage-market-homecoming/
LOCATION:Crawford House\, 713 Howee Ave.\, Maryville\, TN\, 37804\, United States
CATEGORIES:Alumni Office,Community Event,Homecoming,Mtn. Challenge / Fit.Green.Happy.
ATTACH;FMTTYPE=image/jpeg:https://www.maryvillecollege.edu/wp-content/uploads/Alumni/Homecoming/2025/Vintage-Market-Oct-8.jpg
END:VEVENT
BEGIN:VEVENT
DTSTART;TZID=America/New_York:20251007T190000
DTEND;TZID=America/New_York:20251007T210000
DTSTAMP:20260421T195913
CREATED:20250721T164521Z
LAST-MODIFIED:20251124T211937Z
UID:10000265-1759863600-1759870800@www.maryvillecollege.edu
SUMMARY:Women's Volleyball
DESCRIPTION:Maryville College Women’s Volleyball at Asbury
URL:https://www.maryvillecollege.edu/event/maryville-college-womens-volleyball-at-asbury/
CATEGORIES:Athletic Events
END:VEVENT
BEGIN:VEVENT
DTSTART;TZID=America/New_York:20251007T170000
DTEND;TZID=America/New_York:20251007T180000
DTSTAMP:20260421T195913
CREATED:20250827T193639Z
LAST-MODIFIED:20251001T200024Z
UID:10001084-1759856400-1759860000@www.maryvillecollege.edu
SUMMARY:World Cup Coffee
DESCRIPTION:
URL:https://www.maryvillecollege.edu/event/world-cup-coffee-6/
LOCATION:Center for Campus Ministry (CCM)
CATEGORIES:Center for Campus Ministry,Global Engagement Events
END:VEVENT
BEGIN:VEVENT
DTSTART;TZID=America/New_York:20251007T163000
DTEND;TZID=America/New_York:20251007T183000
DTSTAMP:20260421T195913
CREATED:20250721T191114Z
LAST-MODIFIED:20251003T151514Z
UID:10000360-1759854600-1759861800@www.maryvillecollege.edu
SUMMARY:Welcome Table
DESCRIPTION:
URL:https://www.maryvillecollege.edu/event/welcome-table-23/
LOCATION:1st United Methodist Church (804 Montvale Station Rd\, Maryville\, TN 37803\, United States)
CATEGORIES:Community Engagement
END:VEVENT
BEGIN:VEVENT
DTSTART;TZID=America/New_York:20251007T131500
DTEND;TZID=America/New_York:20251007T135000
DTSTAMP:20260421T195913
CREATED:20250728T191529Z
LAST-MODIFIED:20250930T141520Z
UID:10000565-1759842900-1759845000@www.maryvillecollege.edu
SUMMARY:Chapel
DESCRIPTION:
URL:https://www.maryvillecollege.edu/event/chapel-7/
LOCATION:Center for Campus Ministry (CCM)
CATEGORIES:Center for Campus Ministry
END:VEVENT
BEGIN:VEVENT
DTSTART;TZID=America/New_York:20251007T120000
DTEND;TZID=America/New_York:20251007T140000
DTSTAMP:20260421T195913
CREATED:20251007T143024Z
LAST-MODIFIED:20251007T143024Z
UID:10001354-1759838400-1759845600@www.maryvillecollege.edu
SUMMARY:Faith Communities Fair
DESCRIPTION:
URL:https://www.maryvillecollege.edu/event/faith-communities-fair/
LOCATION:Sidewalks by CCM
END:VEVENT
BEGIN:VEVENT
DTSTART;VALUE=DATE:20251007
DTEND;VALUE=DATE:20251008
DTSTAMP:20260421T195913
CREATED:20250526T211524Z
LAST-MODIFIED:20251201T175258Z
UID:10000039-1759795200-1759881599@www.maryvillecollege.edu
SUMMARY:Midterm
DESCRIPTION:
URL:https://www.maryvillecollege.edu/event/midterm/
CATEGORIES:Academic Events
END:VEVENT
BEGIN:VEVENT
DTSTART;TZID=America/New_York:20251006T160000
DTEND;TZID=America/New_York:20251006T170000
DTSTAMP:20260421T195913
CREATED:20250903T213031Z
LAST-MODIFIED:20250930T141518Z
UID:10001161-1759766400-1759770000@www.maryvillecollege.edu
SUMMARY:Bible Study
DESCRIPTION:
URL:https://www.maryvillecollege.edu/event/bible-study-10/
LOCATION:Maryville College\, Maryville\, 37804\, United States
CATEGORIES:Center for Campus Ministry
END:VEVENT
BEGIN:VEVENT
DTSTART;VALUE=DATE:20251006
DTEND;VALUE=DATE:20251018
DTSTAMP:20260421T195913
CREATED:20250816T113340Z
LAST-MODIFIED:20251201T175313Z
UID:10000754-1759708800-1760745599@www.maryvillecollege.edu
SUMMARY:Advising for Spring\, May and Summer
DESCRIPTION:
URL:https://www.maryvillecollege.edu/event/advising-for-spring-may-and-summer/
CATEGORIES:Academic Events
END:VEVENT
BEGIN:VEVENT
DTSTART;VALUE=DATE:20251006
DTEND;VALUE=DATE:20251011
DTSTAMP:20260421T195913
CREATED:20250816T113338Z
LAST-MODIFIED:20251201T175313Z
UID:10000753-1759708800-1760140799@www.maryvillecollege.edu
SUMMARY:Advising and Registration for Midterm Classes
DESCRIPTION:
URL:https://www.maryvillecollege.edu/event/advising-and-registration-for-midterm-classes/
CATEGORIES:Academic Events
END:VEVENT
BEGIN:VEVENT
DTSTART;VALUE=DATE:20251005
DTEND;VALUE=DATE:20251007
DTSTAMP:20260421T195913
CREATED:20250603T195531Z
LAST-MODIFIED:20251124T211922Z
UID:10000093-1759694400-1759780799@www.maryvillecollege.edu
SUMMARY:Men's Golf
DESCRIPTION:Maryville College Men’s Golf at Oglethorpe University – West Pines Country Club
URL:https://www.maryvillecollege.edu/event/maryville-college-mens-golf-at-oglethorpe-university-west-pines-country-club/
CATEGORIES:Athletic Events
END:VEVENT
BEGIN:VEVENT
DTSTART;TZID=America/New_York:20251005T150000
DTEND;TZID=America/New_York:20251005T170000
DTSTAMP:20260421T195913
CREATED:20250604T203414Z
LAST-MODIFIED:20251124T212311Z
UID:10000109-1759676400-1759683600@www.maryvillecollege.edu
SUMMARY:"The President's Own" United States Marine Band
DESCRIPTION:CANCELLED: Due to Government shutdown.
URL:https://www.maryvillecollege.edu/event/the-presidents-own-united-states-marine-band/
LOCATION:CCA – Ronald and Lynda Nutt Theatre\, 502 E Lamar Alexander Pkwy\, Maryville\, TN\, United States
CATEGORIES:Clayton Center for the Arts
ATTACH;FMTTYPE=image/jpeg:https://www.maryvillecollege.edu/wp-content/uploads/Calendar/3-US-Marine-Band-scaled-3HZpfm.jpg
ORGANIZER;CN="Clayton Center for the Arts":MAILTO:info@claytonartscenter.com
GEO:35.754957;-83.965409
X-APPLE-STRUCTURED-LOCATION;VALUE=URI;X-ADDRESS=CCA – Ronald and Lynda Nutt Theatre 502 E Lamar Alexander Pkwy Maryville TN United States;X-APPLE-RADIUS=500;X-TITLE=502 E Lamar Alexander Pkwy:geo:-83.965409,35.754957
END:VEVENT
BEGIN:VEVENT
DTSTART;VALUE=DATE:20251005
DTEND;VALUE=DATE:20251006
DTSTAMP:20260421T195913
CREATED:20250829T000015Z
LAST-MODIFIED:20251003T003015Z
UID:10001127-1759622400-1759708799@www.maryvillecollege.edu
SUMMARY:Fall Break Ends
DESCRIPTION:
URL:https://www.maryvillecollege.edu/event/fall-break-ends/
END:VEVENT
BEGIN:VEVENT
DTSTART;TZID=America/New_York:20251004T153000
DTEND;TZID=America/New_York:20251004T173000
DTSTAMP:20260421T195913
CREATED:20250715T201522Z
LAST-MODIFIED:20251124T203302Z
UID:10000138-1759591800-1759599000@www.maryvillecollege.edu
SUMMARY:Men's Soccer
DESCRIPTION:Maryville College Men’s Soccer at Belhaven\nStreaming Video: https://blazers.belhaven.edu/watch/?Live=857&type=Live
URL:https://www.maryvillecollege.edu/event/maryville-college-mens-soccer-at-belhaven/
CATEGORIES:Athletic Events
END:VEVENT
BEGIN:VEVENT
DTSTART;TZID=America/New_York:20251004T150000
DTEND;TZID=America/New_York:20251004T170000
DTSTAMP:20260421T195913
CREATED:20250721T164520Z
LAST-MODIFIED:20251124T211937Z
UID:10000264-1759590000-1759597200@www.maryvillecollege.edu
SUMMARY:Women's Volleyball
DESCRIPTION:Maryville College Women’s Volleyball vs Wesleyan
URL:https://www.maryvillecollege.edu/event/maryville-college-womens-volleyball-vs-wesleyan/
CATEGORIES:Athletic Events
END:VEVENT
BEGIN:VEVENT
DTSTART;TZID=America/New_York:20251004T140000
DTEND;TZID=America/New_York:20251004T160000
DTSTAMP:20260421T195913
CREATED:20250721T163716Z
LAST-MODIFIED:20251124T203402Z
UID:10000210-1759586400-1759593600@www.maryvillecollege.edu
SUMMARY:Women's Soccer
DESCRIPTION:Maryville College Women’s Soccer vs Agnes Scott\nStreaming Video: https://team1sports.com/maryvillescots/?B=2508813
URL:https://www.maryvillecollege.edu/event/maryville-college-womens-soccer-vs-agnes-scott/
LOCATION:MC Soccer Complex
CATEGORIES:Athletic Events
END:VEVENT
BEGIN:VEVENT
DTSTART;TZID=America/New_York:20251004T130000
DTEND;TZID=America/New_York:20251004T160000
DTSTAMP:20260421T195913
CREATED:20250503T211127Z
LAST-MODIFIED:20251124T202948Z
UID:10000019-1759582800-1759593600@www.maryvillecollege.edu
SUMMARY:Football
DESCRIPTION:Maryville College Football at Sewanee\nStreaming Video: https://sewaneetigers.com/watch/?Live=752&type=Live
URL:https://www.maryvillecollege.edu/event/maryville-college-football-at-sewanee/
CATEGORIES:Athletic Events
END:VEVENT
BEGIN:VEVENT
DTSTART;TZID=America/New_York:20251004T130000
DTEND;TZID=America/New_York:20251004T150000
DTSTAMP:20260421T195913
CREATED:20250721T164519Z
LAST-MODIFIED:20251124T211937Z
UID:10000263-1759582800-1759590000@www.maryvillecollege.edu
SUMMARY:Women's Volleyball
DESCRIPTION:Maryville College Women’s Volleyball at Huntingdon
URL:https://www.maryvillecollege.edu/event/maryville-college-womens-volleyball-at-huntingdon/
CATEGORIES:Athletic Events
END:VEVENT
BEGIN:VEVENT
DTSTART;TZID=America/New_York:20251003T110000
DTEND;TZID=America/New_York:20251003T120000
DTSTAMP:20260421T195913
CREATED:20250903T213030Z
LAST-MODIFIED:20250930T141518Z
UID:10001160-1759489200-1759492800@www.maryvillecollege.edu
SUMMARY:Bible Study
DESCRIPTION:
URL:https://www.maryvillecollege.edu/event/bible-study-9/
LOCATION:Maryville College\, Maryville\, 37804\, United States
CATEGORIES:Center for Campus Ministry
END:VEVENT
BEGIN:VEVENT
DTSTART;TZID=America/New_York:20251003T100000
DTEND;TZID=America/New_York:20251003T123000
DTSTAMP:20260421T195913
CREATED:20250808T214210Z
LAST-MODIFIED:20251003T151513Z
UID:10000694-1759485600-1759494600@www.maryvillecollege.edu
SUMMARY:Free Food & Fellowship
DESCRIPTION:Salvation Army \nSign up BEFORE: https://volunteeretn.galaxydigital.com/need/detail/?need_id=974643
URL:https://www.maryvillecollege.edu/event/free-food-fellowship-salvation-army-62/
LOCATION:Broadway United Methodist Church (309 E Broadway Ave\, Maryville\, TN 37804\, United States)
CATEGORIES:Community Engagement
END:VEVENT
BEGIN:VEVENT
DTSTART;VALUE=DATE:20251003
DTEND;VALUE=DATE:20251006
DTSTAMP:20260421T195913
CREATED:20250721T164010Z
LAST-MODIFIED:20260109T221826Z
UID:10000224-1759449600-1759708799@www.maryvillecollege.edu
SUMMARY:Men's Tennis
DESCRIPTION:Maryville College Men’s Tennis vs ITA Regional
URL:https://www.maryvillecollege.edu/event/maryville-college-mens-tennis-vs-intercollegiate-tennis-association/
LOCATION:Rhodes College\, Memphis\, TN
CATEGORIES:Athletic Events
END:VEVENT
BEGIN:VEVENT
DTSTART;TZID=America/New_York:20251002T163000
DTEND;TZID=America/New_York:20251002T183000
DTSTAMP:20260421T195913
CREATED:20250721T191112Z
LAST-MODIFIED:20250926T151514Z
UID:10000358-1759422600-1759429800@www.maryvillecollege.edu
SUMMARY:Welcome Table
DESCRIPTION:
URL:https://www.maryvillecollege.edu/event/welcome-table-22/
LOCATION:New Providence Presbyterian Church
CATEGORIES:Community Engagement
END:VEVENT
BEGIN:VEVENT
DTSTART;TZID=America/New_York:20251002T160000
DTEND;TZID=America/New_York:20251002T170000
DTSTAMP:20260421T195913
CREATED:20250903T213029Z
LAST-MODIFIED:20250930T141517Z
UID:10001159-1759420800-1759424400@www.maryvillecollege.edu
SUMMARY:Jam Session
DESCRIPTION:
URL:https://www.maryvillecollege.edu/event/jam-session-5/
LOCATION:Maryville College\, Maryville\, 37804\, United States
CATEGORIES:Center for Campus Ministry
END:VEVENT
BEGIN:VEVENT
DTSTART;TZID=America/New_York:20251002T123000
DTEND;TZID=America/New_York:20251002T130000
DTSTAMP:20260421T195913
CREATED:20250828T181517Z
LAST-MODIFIED:20251001T194513Z
UID:10001120-1759408200-1759410000@www.maryvillecollege.edu
SUMMARY:SGA
DESCRIPTION:Open weekly for all students and employees
URL:https://www.maryvillecollege.edu/event/sga-5/
LOCATION:Thaw Hall 216
CATEGORIES:Activities, Clubs, and Orgs
END:VEVENT
BEGIN:VEVENT
DTSTART;VALUE=DATE:20251002
DTEND;VALUE=DATE:20251006
DTSTAMP:20260421T195913
CREATED:20250526T211522Z
LAST-MODIFIED:20251201T175258Z
UID:10000037-1759363200-1759708799@www.maryvillecollege.edu
SUMMARY:Fall Break  (no dining service)
DESCRIPTION:
URL:https://www.maryvillecollege.edu/event/fall-break-begins/
CATEGORIES:Academic Events,Residence Life
END:VEVENT
BEGIN:VEVENT
DTSTART;TZID=America/New_York:20251001T190000
DTEND;TZID=America/New_York:20251001T210000
DTSTAMP:20260421T195913
CREATED:20250808T175747Z
LAST-MODIFIED:20251001T200121Z
UID:10000650-1759345200-1759352400@www.maryvillecollege.edu
SUMMARY:MC3 Band Rehearsal
DESCRIPTION:The Maryville College Community Band is led by Jay Romines and will have weekly rehearsals on Wednesdays from 7:00 pm—9:00 pm in the Clayton Center for the Arts’ Massey Family Rehearsal Hall.\nFor more information about joining the MC3 Band\, visit: https://www.maryvillecollege.edu/academics/divisions/fine-arts/mc3band/
URL:https://www.maryvillecollege.edu/event/mc3-band-rehearsal-6/
LOCATION:CCA – Massey Family Rehearsal Hall
CATEGORIES:Fine Arts Division
END:VEVENT
BEGIN:VEVENT
DTSTART;TZID=America/New_York:20251001T190000
DTEND;TZID=America/New_York:20251001T210000
DTSTAMP:20260421T195913
CREATED:20250721T163715Z
LAST-MODIFIED:20251124T203402Z
UID:10000209-1759345200-1759352400@www.maryvillecollege.edu
SUMMARY:Women's Soccer
DESCRIPTION:Maryville College Women’s Soccer at Covenant
URL:https://www.maryvillecollege.edu/event/maryville-college-womens-soccer-at-covenant/
LOCATION:Lookout Mountain\, GA
CATEGORIES:Athletic Events
END:VEVENT
END:VCALENDAR