BEGIN:VCALENDAR
VERSION:2.0
PRODID:-//Maryville College - ECPv6.15.20//NONSGML v1.0//EN
CALSCALE:GREGORIAN
METHOD:PUBLISH
X-WR-CALNAME:Maryville College
X-ORIGINAL-URL:https://www.maryvillecollege.edu
X-WR-CALDESC:Events for Maryville College
REFRESH-INTERVAL;VALUE=DURATION:PT1H
X-Robots-Tag:noindex
X-PUBLISHED-TTL:PT1H
BEGIN:VTIMEZONE
TZID:America/New_York
BEGIN:DAYLIGHT
TZOFFSETFROM:-0500
TZOFFSETTO:-0400
TZNAME:EDT
DTSTART:20240310T070000
END:DAYLIGHT
BEGIN:STANDARD
TZOFFSETFROM:-0400
TZOFFSETTO:-0500
TZNAME:EST
DTSTART:20241103T060000
END:STANDARD
BEGIN:DAYLIGHT
TZOFFSETFROM:-0500
TZOFFSETTO:-0400
TZNAME:EDT
DTSTART:20250309T070000
END:DAYLIGHT
BEGIN:STANDARD
TZOFFSETFROM:-0400
TZOFFSETTO:-0500
TZNAME:EST
DTSTART:20251102T060000
END:STANDARD
BEGIN:DAYLIGHT
TZOFFSETFROM:-0500
TZOFFSETTO:-0400
TZNAME:EDT
DTSTART:20260308T070000
END:DAYLIGHT
BEGIN:STANDARD
TZOFFSETFROM:-0400
TZOFFSETTO:-0500
TZNAME:EST
DTSTART:20261101T060000
END:STANDARD
END:VTIMEZONE
BEGIN:VEVENT
DTSTART;TZID=America/New_York:20251015T183000
DTEND;TZID=America/New_York:20251015T203000
DTSTAMP:20260421T163548
CREATED:20250721T164523Z
LAST-MODIFIED:20251124T211937Z
UID:10000268-1760553000-1760560200@www.maryvillecollege.edu
SUMMARY:Women's Volleyball
DESCRIPTION:Maryville College Women’s Volleyball at Covenant
URL:https://www.maryvillecollege.edu/event/maryville-college-womens-volleyball-at-covenant/
LOCATION:Lookout Mountain\, GA
CATEGORIES:Athletic Events
END:VEVENT
BEGIN:VEVENT
DTSTART;TZID=America/New_York:20251015T180000
DTEND;TZID=America/New_York:20251016T200000
DTSTAMP:20260421T163548
CREATED:20250603T195431Z
LAST-MODIFIED:20251124T211922Z
UID:10000088-1760551200-1760644800@www.maryvillecollege.edu
SUMMARY:Men's Soccer
DESCRIPTION:Maryville College Men’s Soccer vs Asbury\nStreaming Video: https://team1sports.com/maryvillescots/?B=2508885
URL:https://www.maryvillecollege.edu/event/maryville-college-mens-soccer-vs-asbury/
LOCATION:MC Soccer Complex
CATEGORIES:Athletic Events
END:VEVENT
BEGIN:VEVENT
DTSTART;TZID=America/New_York:20251015T160000
DTEND;TZID=America/New_York:20251015T180000
DTSTAMP:20260421T163548
CREATED:20250911T202743Z
LAST-MODIFIED:20251009T203028Z
UID:10001265-1760544000-1760551200@www.maryvillecollege.edu
SUMMARY:Camp - 4
DESCRIPTION:Open tower\, music\, and fun at Crawford House
URL:https://www.maryvillecollege.edu/event/camp-4-6/
CATEGORIES:Mtn. Challenge / Fit.Green.Happy.
END:VEVENT
BEGIN:VEVENT
DTSTART;VALUE=DATE:20251015
DTEND;VALUE=DATE:20251016
DTSTAMP:20260421T163548
CREATED:20250526T211525Z
LAST-MODIFIED:20251201T175258Z
UID:10000041-1760486400-1760572799@www.maryvillecollege.edu
SUMMARY:Last Day of Midterm Course Drop/Add Period
DESCRIPTION:
URL:https://www.maryvillecollege.edu/event/last-day-of-midterm-course-drop-add-period/
CATEGORIES:Academic Events
END:VEVENT
BEGIN:VEVENT
DTSTART;TZID=America/New_York:20251014T170000
DTEND;TZID=America/New_York:20251014T180000
DTSTAMP:20260421T163548
CREATED:20250827T193640Z
LAST-MODIFIED:20251008T203015Z
UID:10001085-1760461200-1760464800@www.maryvillecollege.edu
SUMMARY:World Cup Coffee
DESCRIPTION:
URL:https://www.maryvillecollege.edu/event/world-cup-coffee-7/
LOCATION:Center for Campus Ministry (CCM)
CATEGORIES:Center for Campus Ministry,Global Engagement Events
END:VEVENT
BEGIN:VEVENT
DTSTART;TZID=America/New_York:20251014T163000
DTEND;TZID=America/New_York:20251014T183000
DTSTAMP:20260421T163548
CREATED:20250721T191116Z
LAST-MODIFIED:20251010T153058Z
UID:10000363-1760459400-1760466600@www.maryvillecollege.edu
SUMMARY:Welcome Table
DESCRIPTION:
URL:https://www.maryvillecollege.edu/event/welcome-table-25/
LOCATION:1st United Methodist Church (804 Montvale Station Rd\, Maryville\, TN 37803\, United States)
CATEGORIES:Community Engagement
END:VEVENT
BEGIN:VEVENT
DTSTART;TZID=America/New_York:20251014T131500
DTEND;TZID=America/New_York:20251014T135000
DTSTAMP:20260421T163548
CREATED:20250728T191530Z
LAST-MODIFIED:20251014T143113Z
UID:10000566-1760447700-1760449800@www.maryvillecollege.edu
SUMMARY:Chapel
DESCRIPTION:
URL:https://www.maryvillecollege.edu/event/chapel-8/
LOCATION:Center for Campus Ministry (CCM)
CATEGORIES:Center for Campus Ministry
END:VEVENT
BEGIN:VEVENT
DTSTART;TZID=America/New_York:20251014T123000
DTEND;TZID=America/New_York:20251014T132500
DTSTAMP:20260421T163548
CREATED:20250908T180839Z
LAST-MODIFIED:20251014T020014Z
UID:10001227-1760445000-1760448300@www.maryvillecollege.edu
SUMMARY:STEM Event Series: Dr. Thanh Do
DESCRIPTION:“Toward the Design of Membrane-Permeable Macrocyclic Peptides for Undruggable Targets:\nA Biophysical Chemistry Perspective”
URL:https://www.maryvillecollege.edu/event/guest-speaker-dr-thanh-do-toward-the-design-of-membrane-permeable-macrocyclic-peptides-for-undruggable-targetsa-biophysical-chemistry-perspective/
LOCATION:Sutton 143
CATEGORIES:STEM Success
END:VEVENT
BEGIN:VEVENT
DTSTART;TZID=America/New_York:20251013T160000
DTEND;TZID=America/New_York:20251013T170000
DTSTAMP:20260421T163548
CREATED:20250903T213034Z
LAST-MODIFIED:20251007T143027Z
UID:10001166-1760371200-1760374800@www.maryvillecollege.edu
SUMMARY:Bible Study
DESCRIPTION:
URL:https://www.maryvillecollege.edu/event/bible-study-12/
LOCATION:Maryville College\, Maryville\, 37804\, United States
CATEGORIES:Center for Campus Ministry
END:VEVENT
BEGIN:VEVENT
DTSTART;VALUE=DATE:20251013
DTEND;VALUE=DATE:20251014
DTSTAMP:20260421T163548
CREATED:20250526T211524Z
LAST-MODIFIED:20251201T175258Z
UID:10000040-1760313600-1760399999@www.maryvillecollege.edu
SUMMARY:Midterm Classes Begin
DESCRIPTION:
URL:https://www.maryvillecollege.edu/event/midterm-classes-begin/
CATEGORIES:Academic Events
END:VEVENT
BEGIN:VEVENT
DTSTART;VALUE=DATE:20251012
DTEND;VALUE=DATE:20251014
DTSTAMP:20260421T163548
CREATED:20250721T163905Z
LAST-MODIFIED:20251124T203418Z
UID:10000221-1760299200-1760385599@www.maryvillecollege.edu
SUMMARY:Women's Golf
DESCRIPTION:Maryville College Women’s Golf at Pioneers Fall Invitational – Cherokee National Golf and Recreation Club
URL:https://www.maryvillecollege.edu/event/maryville-college-womens-golf-at-pioneers-fall-invitational/
CATEGORIES:Athletic Events
END:VEVENT
BEGIN:VEVENT
DTSTART;TZID=America/New_York:20251012T120000
DTEND;TZID=America/New_York:20251012T150000
DTSTAMP:20260421T163548
CREATED:20250819T133015Z
LAST-MODIFIED:20251124T203548Z
UID:10000766-1760270400-1760281200@www.maryvillecollege.edu
SUMMARY:Men's Tennis
DESCRIPTION:Maryville College Men’s Tennis vs Indiana Southeast – Scrimmage
URL:https://www.maryvillecollege.edu/event/maryville-college-mens-tennis-vs-indiana-southeast-exhibition-match/
LOCATION:MC Tennis Courts
CATEGORIES:Athletic Events
END:VEVENT
BEGIN:VEVENT
DTSTART;TZID=America/New_York:20251012T110000
DTEND;TZID=America/New_York:20251012T140000
DTSTAMP:20260421T163548
CREATED:20250819T134515Z
LAST-MODIFIED:20251124T203555Z
UID:10000767-1760266800-1760277600@www.maryvillecollege.edu
SUMMARY:Women's Tennis
DESCRIPTION:Maryville College Women’s Tennis vs Indiana Southeast – Exhibition Match
URL:https://www.maryvillecollege.edu/event/maryville-college-womens-tennis-vs-indiana-southeast-exhibition-match/
LOCATION:MC Tennis Courts
CATEGORIES:Athletic Events
END:VEVENT
BEGIN:VEVENT
DTSTART;TZID=America/New_York:20251012T100000
DTEND;TZID=America/New_York:20251012T110000
DTSTAMP:20260421T163548
CREATED:20250903T213034Z
LAST-MODIFIED:20251007T143026Z
UID:10001165-1760263200-1760266800@www.maryvillecollege.edu
SUMMARY:Service of Remembrance
DESCRIPTION:
URL:https://www.maryvillecollege.edu/event/service-of-remembrance/
LOCATION:Maryville College\, Maryville\, 37804\, United States
CATEGORIES:Center for Campus Ministry
END:VEVENT
BEGIN:VEVENT
DTSTART;TZID=America/New_York:20251011T140000
DTEND;TZID=America/New_York:20251011T160000
DTSTAMP:20260421T163548
CREATED:20250721T164522Z
LAST-MODIFIED:20251124T211937Z
UID:10000267-1760191200-1760198400@www.maryvillecollege.edu
SUMMARY:Women's Volleyball
DESCRIPTION:Maryville College Women’s Volleyball vs Agnes Scott
URL:https://www.maryvillecollege.edu/event/maryville-college-womens-volleyball-vs-agnes-scott/
LOCATION:LaGrange\, GA
CATEGORIES:Athletic Events
END:VEVENT
BEGIN:VEVENT
DTSTART;TZID=America/New_York:20251011T140000
DTEND;TZID=America/New_York:20251011T160000
DTSTAMP:20260421T163548
CREATED:20250721T163717Z
LAST-MODIFIED:20251124T203409Z
UID:10000212-1760191200-1760198400@www.maryvillecollege.edu
SUMMARY:Women's Soccer
DESCRIPTION:Maryville College Women’s Soccer at Belhaven\nStreaming Video: https://blazers.belhaven.edu/watch/?Live=841&type=Live
URL:https://www.maryvillecollege.edu/event/maryville-college-womens-soccer-at-belhaven/
CATEGORIES:Athletic Events
END:VEVENT
BEGIN:VEVENT
DTSTART;TZID=America/New_York:20251011T130000
DTEND;TZID=America/New_York:20251011T160000
DTSTAMP:20260421T163548
CREATED:20250503T211127Z
LAST-MODIFIED:20251124T202948Z
UID:10000020-1760187600-1760198400@www.maryvillecollege.edu
SUMMARY:Football
DESCRIPTION:Maryville College Football vs Centre – Homecoming\nStreaming Video: https://team1sports.com/maryvillescots/?B=2508899
URL:https://www.maryvillecollege.edu/event/maryville-college-football-vs-centre-homecoming/
CATEGORIES:Athletic Events
END:VEVENT
BEGIN:VEVENT
DTSTART;TZID=America/New_York:20251011T120000
DTEND;TZID=America/New_York:20251011T140000
DTSTAMP:20260421T163548
CREATED:20250721T164522Z
LAST-MODIFIED:20251124T211937Z
UID:10000266-1760184000-1760191200@www.maryvillecollege.edu
SUMMARY:Women's Volleyball
DESCRIPTION:Maryville College Women’s Volleyball at LaGrange
URL:https://www.maryvillecollege.edu/event/maryville-college-womens-volleyball-at-lagrange/
LOCATION:LaGrange\, GA
CATEGORIES:Athletic Events
END:VEVENT
BEGIN:VEVENT
DTSTART;TZID=America/New_York:20251011T100000
DTEND;TZID=America/New_York:20251011T120000
DTSTAMP:20260421T163548
CREATED:20251002T203021Z
LAST-MODIFIED:20251009T203027Z
UID:10001353-1760176800-1760184000@www.maryvillecollege.edu
SUMMARY:Homecoming Tower
DESCRIPTION:Alumni\, staff\, and current students welcome to climb.
URL:https://www.maryvillecollege.edu/event/homecoming-tower/
LOCATION:Crawford House\, 713 Howee Ave.\, Maryville\, TN\, 37804\, United States
CATEGORIES:Mtn. Challenge / Fit.Green.Happy.
END:VEVENT
BEGIN:VEVENT
DTSTART;TZID=America/New_York:20251010T190000
DTEND;TZID=America/New_York:20251010T210000
DTSTAMP:20260421T163548
CREATED:20250603T195430Z
LAST-MODIFIED:20251124T203248Z
UID:10000087-1760122800-1760130000@www.maryvillecollege.edu
SUMMARY:Men's Soccer
DESCRIPTION:Maryville College Men’s Soccer at LaGrange\nStreaming Video: https://fan.hudl.com/usa/ga/lagrange/organization/23348/la-grange-college/watch?b=QnJvYWRjYXN0MjY4MTI3MQ==
URL:https://www.maryvillecollege.edu/event/maryville-college-mens-soccer-at-lagrange/
LOCATION:LaGrange\, GA
CATEGORIES:Athletic Events
END:VEVENT
BEGIN:VEVENT
DTSTART;TZID=America/New_York:20251010T180000
DTEND;TZID=America/New_York:20251010T200000
DTSTAMP:20260421T163548
CREATED:20250909T220032Z
LAST-MODIFIED:20251124T202257Z
UID:10001243-1760119200-1760126400@www.maryvillecollege.edu
SUMMARY:MC Homecoming Founder’s Day Showcase Concert
DESCRIPTION:he Founder’s Day Showcase Concert will be held on Friday\, October 10th at 6:00 p.m. in the Clayton Center for the Arts’ Ronald and Lynda Nutt Theatre.  This is an annual Homecoming event featuring performances by student and alumni ensembles\, visual art displays\, and the presentation of Alumni Awards.  The guest director for the Homecoming Choir will be Josh Sumter ’14 and featured soloists include Robby Clemens ’20 and Dr. Joe Fitzgerald ‘05. The event is free and open to the public.
URL:https://www.maryvillecollege.edu/event/maryville-college-homecoming-founders-day-showcase-concert/
LOCATION:CCA – Ronald and Lynda Nutt Theatre\, 502 E Lamar Alexander Pkwy\, Maryville\, TN\, United States
CATEGORIES:Clayton Center for the Arts,Fine Arts Division,Homecoming,Maryville College Event
ATTACH;FMTTYPE=image/jpeg:https://www.maryvillecollege.edu/wp-content/uploads/Calendar/Founders-Showcase-1024x576-1-HFPzLh.jpg
GEO:35.754957;-83.965409
X-APPLE-STRUCTURED-LOCATION;VALUE=URI;X-ADDRESS=CCA – Ronald and Lynda Nutt Theatre 502 E Lamar Alexander Pkwy Maryville TN United States;X-APPLE-RADIUS=500;X-TITLE=502 E Lamar Alexander Pkwy:geo:-83.965409,35.754957
END:VEVENT
BEGIN:VEVENT
DTSTART;TZID=America/New_York:20251010T180000
DTEND;TZID=America/New_York:20251010T193000
DTSTAMP:20260421T163548
CREATED:20250926T004059Z
LAST-MODIFIED:20251004T101454Z
UID:10001343-1760119200-1760124600@www.maryvillecollege.edu
SUMMARY:Founder's Day Showcase
DESCRIPTION:All members of the MC community are invited to the celebration of the College’s founding in 1819 as we also recognize the outstanding alumni and students among us and the special anniversary of the MC Alumni Association. This free event is a celebration of the arts at Maryville College. Enjoy performances by the MC Choir\, joined by alumni in the annual Homecoming Choir\, Tartanband\, Off Kilter\, and more! The Homecoming Choir guest director is Josh Sumter ’14 and featured soloists include Robby Clemens ’20 and Dr. Joe Fitzgerald ‘05. \nThe 2025 Alumni Awards will be presented to three deserving honorees\, and the College’s highest honor\, the MC Medallion will be presented to former board chair Mike Davis. This exciting program is not to be missed! \n\n\n\nWhile there is no fee to attend\, please reserve your seat here or when registering for Homecoming. \n\n\n\n 
URL:https://www.maryvillecollege.edu/event/founders-day-showcase/
LOCATION:CCA – Ronald and Lynda Nutt Theatre\, 502 E Lamar Alexander Pkwy\, Maryville\, TN\, United States
CATEGORIES:Alumni Office
ATTACH;FMTTYPE=image/jpeg:https://www.maryvillecollege.edu/wp-content/uploads/Alumni/Homecoming/2025/Founders-Showcase.jpg
GEO:35.754957;-83.965409
X-APPLE-STRUCTURED-LOCATION;VALUE=URI;X-ADDRESS=CCA – Ronald and Lynda Nutt Theatre 502 E Lamar Alexander Pkwy Maryville TN United States;X-APPLE-RADIUS=500;X-TITLE=502 E Lamar Alexander Pkwy:geo:-83.965409,35.754957
END:VEVENT
BEGIN:VEVENT
DTSTART;TZID=America/New_York:20251010T173000
DTEND;TZID=America/New_York:20251010T203000
DTSTAMP:20260421T163548
CREATED:20250721T162429Z
LAST-MODIFIED:20251124T211922Z
UID:10000195-1760117400-1760128200@www.maryvillecollege.edu
SUMMARY:Men's XC - MC Invitational
DESCRIPTION:Maryville College Men’s Cross Country vs Maryville College XC Invitational
URL:https://www.maryvillecollege.edu/event/maryville-college-mens-cross-country-vs-maryville-college-xc-invitational/
LOCATION:Maryville\, TN
CATEGORIES:Athletic Events
END:VEVENT
BEGIN:VEVENT
DTSTART;TZID=America/New_York:20251010T163000
DTEND;TZID=America/New_York:20251010T193000
DTSTAMP:20260421T163548
CREATED:20250813T163325Z
LAST-MODIFIED:20251124T211937Z
UID:10000743-1760113800-1760124600@www.maryvillecollege.edu
SUMMARY:Women's XC MC Invitational
DESCRIPTION:Maryville College Women’s Cross Country vs Maryville College XC Invitational
URL:https://www.maryvillecollege.edu/event/maryville-college-womens-cross-country-vs-maryville-college-xc-invitational/
LOCATION:Maryville\, TN
CATEGORIES:Athletic Events
END:VEVENT
BEGIN:VEVENT
DTSTART;TZID=America/New_York:20251010T140000
DTEND;TZID=America/New_York:20251010T150000
DTSTAMP:20260421T163548
CREATED:20250908T180837Z
LAST-MODIFIED:20251007T020047Z
UID:10001226-1760104800-1760108400@www.maryvillecollege.edu
SUMMARY:STEM Event Series: Eric Lipka '16
DESCRIPTION:
URL:https://www.maryvillecollege.edu/event/guest-speaker-eric-lipka-16/
LOCATION:Lawson Auditorium\, Fayerweather Hall
CATEGORIES:STEM Success
END:VEVENT
BEGIN:VEVENT
DTSTART;TZID=America/New_York:20251010T110000
DTEND;TZID=America/New_York:20251010T120000
DTSTAMP:20260421T163548
CREATED:20250903T213033Z
LAST-MODIFIED:20251007T143025Z
UID:10001164-1760094000-1760097600@www.maryvillecollege.edu
SUMMARY:Bible Study
DESCRIPTION:
URL:https://www.maryvillecollege.edu/event/bible-study-11/
LOCATION:Maryville College\, Maryville\, 37804\, United States
CATEGORIES:Center for Campus Ministry
END:VEVENT
BEGIN:VEVENT
DTSTART;TZID=America/New_York:20251010T100000
DTEND;TZID=America/New_York:20251010T123000
DTSTAMP:20260421T163548
CREATED:20250808T214211Z
LAST-MODIFIED:20251010T153057Z
UID:10000695-1760090400-1760099400@www.maryvillecollege.edu
SUMMARY:Free Food & Fellowship
DESCRIPTION:Salvation Army \nSign up BEFORE: https://volunteeretn.galaxydigital.com/need/detail/?need_id=974643
URL:https://www.maryvillecollege.edu/event/free-food-fellowship-salvation-army-63/
LOCATION:Broadway United Methodist Church (309 E Broadway Ave\, Maryville\, TN 37804\, United States)
CATEGORIES:Community Engagement
END:VEVENT
BEGIN:VEVENT
DTSTART;TZID=America/New_York:20251010T100000
DTEND;TZID=America/New_York:20251010T120000
DTSTAMP:20260421T163548
CREATED:20251002T202236Z
LAST-MODIFIED:20251004T104929Z
UID:10001352-1760090400-1760097600@www.maryvillecollege.edu
SUMMARY:Connection Plate Luncheon
DESCRIPTION:Presented by the MC Alumni Association Community and Belonging Taskforce in partnership with the MC Center for Community and Belonging. \nAlumni and students are invited to this new Homecoming tradition celebrating the vibrant community of Maryville College. Expect conversations\, fellowship\, and connections across generations. We are pleased to welcome the 2025 Alumni Citation winner\, Jonika Dhima Hoomes ’02\, as the keynote speaker for this inaugural event. Jonika’s topics will include “Zig Zag is the Path” about finding success in nonlinear career paths and the role of liberal arts in her tech career at Google. \nGlean insights from this notable alumna to apply in your future or current career! \nLunch served at 11:00 am – come late if needed! \nRSVP is preferred but not required. \nThanks to the generosity of Taskforce members for enabling this event to be free for all attendees.
URL:https://www.maryvillecollege.edu/event/connection-plate-luncheon/
LOCATION:MC Downtown Center\, 118 East Church Ave\, Maryville\, TN\, 37804\, United States
CATEGORIES:Activities, Clubs, and Orgs,Alumni Office,Community & Belonging,Homecoming
ATTACH;FMTTYPE=image/png:https://www.maryvillecollege.edu/wp-content/uploads/Alumni/Homecoming/2025/Connection-Plate-lunch.png
END:VEVENT
BEGIN:VEVENT
DTSTART;TZID=America/New_York:20251010T000000
DTEND;TZID=America/New_York:20251010T235959
DTSTAMP:20260421T163548
CREATED:20250721T164048Z
LAST-MODIFIED:20251124T203418Z
UID:10000227-1760054400-1760140799@www.maryvillecollege.edu
SUMMARY:Women's Tennis
DESCRIPTION:Maryville College Women’s Tennis vs Johnson University – Exhibition Match
URL:https://www.maryvillecollege.edu/event/maryville-college-womens-tennis-vs-johnson-university/
LOCATION:MC Tennis Courts
CATEGORIES:Athletic Events
END:VEVENT
BEGIN:VEVENT
DTSTART;TZID=America/New_York:20251009T163000
DTEND;TZID=America/New_York:20251009T183000
DTSTAMP:20260421T163548
CREATED:20250721T191115Z
LAST-MODIFIED:20251003T151515Z
UID:10000361-1760027400-1760034600@www.maryvillecollege.edu
SUMMARY:Welcome Table
DESCRIPTION:
URL:https://www.maryvillecollege.edu/event/welcome-table-24/
LOCATION:New Providence Presbyterian Church
CATEGORIES:Community Engagement
END:VEVENT
END:VCALENDAR