BEGIN:VCALENDAR
VERSION:2.0
PRODID:-//Maryville College - ECPv6.15.20//NONSGML v1.0//EN
CALSCALE:GREGORIAN
METHOD:PUBLISH
X-WR-CALNAME:Maryville College
X-ORIGINAL-URL:https://www.maryvillecollege.edu
X-WR-CALDESC:Events for Maryville College
REFRESH-INTERVAL;VALUE=DURATION:PT1H
X-Robots-Tag:noindex
X-PUBLISHED-TTL:PT1H
BEGIN:VTIMEZONE
TZID:America/New_York
BEGIN:DAYLIGHT
TZOFFSETFROM:-0500
TZOFFSETTO:-0400
TZNAME:EDT
DTSTART:20260308T070000
END:DAYLIGHT
BEGIN:STANDARD
TZOFFSETFROM:-0400
TZOFFSETTO:-0500
TZNAME:EST
DTSTART:20261101T060000
END:STANDARD
BEGIN:DAYLIGHT
TZOFFSETFROM:-0500
TZOFFSETTO:-0400
TZNAME:EDT
DTSTART:20270314T070000
END:DAYLIGHT
BEGIN:STANDARD
TZOFFSETFROM:-0400
TZOFFSETTO:-0500
TZNAME:EST
DTSTART:20271107T060000
END:STANDARD
BEGIN:DAYLIGHT
TZOFFSETFROM:-0500
TZOFFSETTO:-0400
TZNAME:EDT
DTSTART:20280312T070000
END:DAYLIGHT
BEGIN:STANDARD
TZOFFSETFROM:-0400
TZOFFSETTO:-0500
TZNAME:EST
DTSTART:20281105T060000
END:STANDARD
END:VTIMEZONE
BEGIN:VEVENT
DTSTART;VALUE=DATE:20270301
DTEND;VALUE=DATE:20270306
DTSTAMP:20260424T062159
CREATED:20260301T204559Z
LAST-MODIFIED:20260423T223108Z
UID:10001838-1803859200-1804291199@www.maryvillecollege.edu
SUMMARY:Advising and Registration for Midterm Courses
DESCRIPTION:
URL:https://www.maryvillecollege.edu/event/advising-and-registration-for-midterm-courses-2/
CATEGORIES:Academic Events
END:VEVENT
BEGIN:VEVENT
DTSTART;VALUE=DATE:20270302
DTEND;VALUE=DATE:20270303
DTSTAMP:20260424T062159
CREATED:20260302T204621Z
LAST-MODIFIED:20260423T223108Z
UID:10001839-1803945600-1804031999@www.maryvillecollege.edu
SUMMARY:Midterm Grades Due
DESCRIPTION:
URL:https://www.maryvillecollege.edu/event/midterm-grades-due-2/
CATEGORIES:Academic Events
END:VEVENT
BEGIN:VEVENT
DTSTART;VALUE=DATE:20270308
DTEND;VALUE=DATE:20270309
DTSTAMP:20260424T062159
CREATED:20260308T204613Z
LAST-MODIFIED:20260324T214604Z
UID:10001854-1804464000-1804550399@www.maryvillecollege.edu
SUMMARY:Midterm Classes Begin
DESCRIPTION:
URL:https://www.maryvillecollege.edu/event/midterm-classes-begin-4/
CATEGORIES:Academic Events
END:VEVENT
BEGIN:VEVENT
DTSTART;VALUE=DATE:20270308
DTEND;VALUE=DATE:20270309
DTSTAMP:20260424T062159
CREATED:20260325T182102Z
LAST-MODIFIED:20260423T223122Z
UID:10001887-1804464000-1804550399@www.maryvillecollege.edu
SUMMARY:Midterm Classes Begin
DESCRIPTION:
URL:https://www.maryvillecollege.edu/event/midterm-classes-begin-5/
CATEGORIES:Academic Events
END:VEVENT
BEGIN:VEVENT
DTSTART;VALUE=DATE:20270308
DTEND;VALUE=DATE:20270313
DTSTAMP:20260424T062159
CREATED:20260308T204612Z
LAST-MODIFIED:20260324T214603Z
UID:10001853-1804464000-1804895999@www.maryvillecollege.edu
SUMMARY:Advising Week One
DESCRIPTION:
URL:https://www.maryvillecollege.edu/event/advising-week-one-2/
CATEGORIES:Academic Events
END:VEVENT
BEGIN:VEVENT
DTSTART;VALUE=DATE:20270308
DTEND;VALUE=DATE:20270313
DTSTAMP:20260424T062159
CREATED:20260325T182102Z
LAST-MODIFIED:20260423T223122Z
UID:10001886-1804464000-1804895999@www.maryvillecollege.edu
SUMMARY:Advising Week One
DESCRIPTION:
URL:https://www.maryvillecollege.edu/event/advising-week-one-3/
CATEGORIES:Academic Events
END:VEVENT
BEGIN:VEVENT
DTSTART;VALUE=DATE:20270310
DTEND;VALUE=DATE:20270311
DTSTAMP:20260424T062159
CREATED:20260310T210057Z
LAST-MODIFIED:20260324T214604Z
UID:10001856-1804636800-1804723199@www.maryvillecollege.edu
SUMMARY:Last Day of Midterm Course Drop/Add Period
DESCRIPTION:
URL:https://www.maryvillecollege.edu/event/last-day-of-midterm-course-drop-add-period-4/
CATEGORIES:Academic Events
END:VEVENT
BEGIN:VEVENT
DTSTART;VALUE=DATE:20270310
DTEND;VALUE=DATE:20270311
DTSTAMP:20260424T062159
CREATED:20260325T182103Z
LAST-MODIFIED:20260423T223122Z
UID:10001888-1804636800-1804723199@www.maryvillecollege.edu
SUMMARY:Last Day of Midterm Course Drop/Add Period
DESCRIPTION:
URL:https://www.maryvillecollege.edu/event/last-day-of-midterm-course-drop-add-period-5/
CATEGORIES:Academic Events
END:VEVENT
BEGIN:VEVENT
DTSTART;VALUE=DATE:20270313
DTEND;VALUE=DATE:20270322
DTSTAMP:20260424T062159
CREATED:20260313T211610Z
LAST-MODIFIED:20260324T214605Z
UID:10001859-1804896000-1805673599@www.maryvillecollege.edu
SUMMARY:Spring Break
DESCRIPTION:
URL:https://www.maryvillecollege.edu/event/spring-break/
CATEGORIES:Academic Events
END:VEVENT
BEGIN:VEVENT
DTSTART;VALUE=DATE:20270313
DTEND;VALUE=DATE:20270322
DTSTAMP:20260424T062159
CREATED:20260325T182103Z
LAST-MODIFIED:20260423T223109Z
UID:10001889-1804896000-1805673599@www.maryvillecollege.edu
SUMMARY:Spring Break
DESCRIPTION:
URL:https://www.maryvillecollege.edu/event/spring-break-2/
CATEGORIES:Academic Events
END:VEVENT
BEGIN:VEVENT
DTSTART;VALUE=DATE:20270322
DTEND;VALUE=DATE:20270326
DTSTAMP:20260424T062159
CREATED:20260322T214608Z
LAST-MODIFIED:20260324T214606Z
UID:10001881-1805673600-1806019199@www.maryvillecollege.edu
SUMMARY:Advising Week Two
DESCRIPTION:
URL:https://www.maryvillecollege.edu/event/advising-week-two/
CATEGORIES:Academic Events
END:VEVENT
BEGIN:VEVENT
DTSTART;VALUE=DATE:20270322
DTEND;VALUE=DATE:20270326
DTSTAMP:20260424T062159
CREATED:20260325T182105Z
LAST-MODIFIED:20260423T223122Z
UID:10001892-1805673600-1806019199@www.maryvillecollege.edu
SUMMARY:Advising Week Two
DESCRIPTION:
URL:https://www.maryvillecollege.edu/event/advising-week-two-2/
CATEGORIES:Academic Events
END:VEVENT
BEGIN:VEVENT
DTSTART;VALUE=DATE:20270324
DTEND;VALUE=DATE:20270325
DTSTAMP:20260424T062159
CREATED:20260324T214606Z
LAST-MODIFIED:20260324T214606Z
UID:10001884-1805846400-1805932799@www.maryvillecollege.edu
SUMMARY:Last Day to Withdraw from a Spring Course with a “W”
DESCRIPTION:
URL:https://www.maryvillecollege.edu/event/last-day-to-withdraw-from-a-spring-course-with-a-w-2/
CATEGORIES:Academic Events
END:VEVENT
BEGIN:VEVENT
DTSTART;VALUE=DATE:20270325
DTEND;VALUE=DATE:20270326
DTSTAMP:20260424T062159
CREATED:20260325T182104Z
LAST-MODIFIED:20260423T223122Z
UID:10001890-1805932800-1806019199@www.maryvillecollege.edu
SUMMARY:Last Day to Withdraw from a Spring Course with a “W”
DESCRIPTION:
URL:https://www.maryvillecollege.edu/event/last-day-to-withdraw-from-a-spring-course-with-a-w-3/
CATEGORIES:Academic Events
END:VEVENT
BEGIN:VEVENT
DTSTART;VALUE=DATE:20270326
DTEND;VALUE=DATE:20270327
DTSTAMP:20260424T062159
CREATED:20260325T182105Z
LAST-MODIFIED:20260423T223122Z
UID:10001891-1806019200-1806105599@www.maryvillecollege.edu
SUMMARY:Good Friday - College Closed
DESCRIPTION:
URL:https://www.maryvillecollege.edu/event/good-friday-college-closed-2/
CATEGORIES:Academic Events
END:VEVENT
BEGIN:VEVENT
DTSTART;VALUE=DATE:20270329
DTEND;VALUE=DATE:20270330
DTSTAMP:20260424T062159
CREATED:20260325T182106Z
LAST-MODIFIED:20260423T223122Z
UID:10001893-1806278400-1806364799@www.maryvillecollege.edu
SUMMARY:Registration for Next Academic Year Begins
DESCRIPTION:
URL:https://www.maryvillecollege.edu/event/registration-for-next-academic-year-begins-2/
CATEGORIES:Academic Events
END:VEVENT
END:VCALENDAR